| Back to Multiple platform build/check report for BioC 3.18: simplified long |
|
This page was generated on 2023-11-02 11:40:27 -0400 (Thu, 02 Nov 2023).
| Hostname | OS | Arch (*) | R version | Installed pkgs |
|---|---|---|---|---|
| nebbiolo2 | Linux (Ubuntu 22.04.2 LTS) | x86_64 | 4.3.1 (2023-06-16) -- "Beagle Scouts" | 4729 |
| palomino4 | Windows Server 2022 Datacenter | x64 | 4.3.1 (2023-06-16 ucrt) -- "Beagle Scouts" | 4463 |
| lconway | macOS 12.6.5 Monterey | x86_64 | 4.3.1 Patched (2023-06-17 r84564) -- "Beagle Scouts" | 4478 |
| kunpeng2 | Linux (openEuler 22.03 LTS-SP1) | aarch64 | 4.3.1 (2023-06-16) -- "Beagle Scouts" | 4464 |
| Click on any hostname to see more info about the system (e.g. compilers) (*) as reported by 'uname -p', except on Windows and Mac OS X | ||||
| Package 173/2266 | Hostname | OS / Arch | INSTALL | BUILD | CHECK | BUILD BIN | ||||||||
| BiocBook 1.0.0 (landing page) Jacques Serizay
| nebbiolo2 | Linux (Ubuntu 22.04.2 LTS) / x86_64 | OK | OK | OK | |||||||||
| palomino4 | Windows Server 2022 Datacenter / x64 | OK | OK | ERROR | OK | |||||||||
| lconway | macOS 12.6.5 Monterey / x86_64 | OK | OK | OK | OK | |||||||||
| kjohnson1 | macOS 13.6.1 Ventura / arm64 | see weekly results here | ||||||||||||
| kunpeng2 | Linux (openEuler 22.03 LTS-SP1) / aarch64 | OK | OK | OK | ||||||||||
|
To the developers/maintainers of the BiocBook package: - Allow up to 24 hours (and sometimes 48 hours) for your latest push to git@git.bioconductor.org:packages/BiocBook.git to reflect on this report. See Troubleshooting Build Report for more information. - Use the following Renviron settings to reproduce errors and warnings. - If 'R CMD check' started to fail recently on the Linux builder(s) over a missing dependency, add the missing dependency to 'Suggests:' in your DESCRIPTION file. See Renviron.bioc for more information. - See Martin Grigorov's blog post for how to debug Linux ARM64 related issues on a x86_64 host. |
| Package: BiocBook |
| Version: 1.0.0 |
| Command: /home/biocbuild/R/R-4.3.1/bin/R CMD check --install=check:BiocBook.install-out.txt --library=/home/biocbuild/R/R-4.3.1/site-library --no-vignettes --timings BiocBook_1.0.0.tar.gz |
| StartedAt: 2023-11-02 08:40:04 -0000 (Thu, 02 Nov 2023) |
| EndedAt: 2023-11-02 08:42:59 -0000 (Thu, 02 Nov 2023) |
| EllapsedTime: 175.0 seconds |
| RetCode: 0 |
| Status: OK |
| CheckDir: BiocBook.Rcheck |
| Warnings: 0 |
##############################################################################
##############################################################################
###
### Running command:
###
### /home/biocbuild/R/R-4.3.1/bin/R CMD check --install=check:BiocBook.install-out.txt --library=/home/biocbuild/R/R-4.3.1/site-library --no-vignettes --timings BiocBook_1.0.0.tar.gz
###
##############################################################################
##############################################################################
* using log directory ‘/home/biocbuild/bbs-3.18-bioc/meat/BiocBook.Rcheck’
* using R version 4.3.1 (2023-06-16)
* using platform: aarch64-unknown-linux-gnu (64-bit)
* R was compiled by
gcc (GCC) 10.3.1
GNU Fortran (GCC) 10.3.1
* running under: openEuler 22.03 (LTS-SP1)
* using session charset: UTF-8
* using option ‘--no-vignettes’
* checking for file ‘BiocBook/DESCRIPTION’ ... OK
* this is package ‘BiocBook’ version ‘1.0.0’
* package encoding: UTF-8
* checking package namespace information ... OK
* checking package dependencies ... OK
* checking if this is a source package ... OK
* checking if there is a namespace ... OK
* checking for hidden files and directories ... OK
* checking for portable file names ... OK
* checking for sufficient/correct file permissions ... OK
* checking whether package ‘BiocBook’ can be installed ... OK
* checking installed package size ... OK
* checking package directory ... OK
* checking ‘build’ directory ... OK
* checking DESCRIPTION meta-information ... OK
* checking top-level files ... OK
* checking for left-over files ... OK
* checking index information ... OK
* checking package subdirectories ... OK
* checking R files for non-ASCII characters ... OK
* checking R files for syntax errors ... OK
* checking whether the package can be loaded ... OK
* checking whether the package can be loaded with stated dependencies ... OK
* checking whether the package can be unloaded cleanly ... OK
* checking whether the namespace can be loaded with stated dependencies ... OK
* checking whether the namespace can be unloaded cleanly ... OK
* checking loading without being on the library search path ... OK
* checking dependencies in R code ... OK
* checking S3 generic/method consistency ... OK
* checking replacement functions ... OK
* checking foreign function calls ... OK
* checking R code for possible problems ... OK
* checking Rd files ... OK
* checking Rd metadata ... OK
* checking Rd cross-references ... OK
* checking for missing documentation entries ... OK
* checking for code/documentation mismatches ... OK
* checking Rd \usage sections ... OK
* checking Rd contents ... OK
* checking for unstated dependencies in examples ... OK
* checking files in ‘vignettes’ ... OK
* checking examples ... OK
Examples with CPU (user + system) or elapsed time > 5s
user system elapsed
BiocBook-editing 5.285 3.383 41.284
BiocBook 0.490 0.204 14.927
* checking for unstated dependencies in ‘tests’ ... OK
* checking tests ...
Running ‘testthat.R’
OK
* checking for unstated dependencies in vignettes ... OK
* checking package vignettes in ‘inst/doc’ ... OK
* checking running R code from vignettes ... SKIPPED
* checking re-building of vignette outputs ... SKIPPED
* checking PDF version of manual ... OK
* DONE
Status: OK
BiocBook.Rcheck/00install.out
############################################################################## ############################################################################## ### ### Running command: ### ### /home/biocbuild/R/R-4.3.1/bin/R CMD INSTALL BiocBook ### ############################################################################## ############################################################################## * installing to library ‘/home/biocbuild/R/R-4.3.1/site-library’ * installing *source* package ‘BiocBook’ ... ** using staged installation ** R ** inst ** byte-compile and prepare package for lazy loading ** help *** installing help indices *** copying figures ** building package indices ** installing vignettes ** testing if installed package can be loaded from temporary location ** testing if installed package can be loaded from final location ** testing if installed package keeps a record of temporary installation path * DONE (BiocBook)
BiocBook.Rcheck/tests/testthat.Rout
R version 4.3.1 (2023-06-16) -- "Beagle Scouts"
Copyright (C) 2023 The R Foundation for Statistical Computing
Platform: aarch64-unknown-linux-gnu (64-bit)
R is free software and comes with ABSOLUTELY NO WARRANTY.
You are welcome to redistribute it under certain conditions.
Type 'license()' or 'licence()' for distribution details.
R is a collaborative project with many contributors.
Type 'contributors()' for more information and
'citation()' on how to cite R or R packages in publications.
Type 'demo()' for some demos, 'help()' for on-line help, or
'help.start()' for an HTML browser interface to help.
Type 'q()' to quit R.
> # This file is part of the standard setup for testthat.
> # It is recommended that you do not modify it.
> #
> # Where should you do additional test configuration?
> # Learn more about the roles of various files in:
> # * https://r-pkgs.org/testing-design.html#sec-tests-files-overview
> # * https://testthat.r-lib.org/articles/special-files.html
>
> library(testthat)
> library(BiocBook)
>
> test_check("BiocBook")
== Running preflight checklist =================================================
\ Checking that no folder named `O5U7N8K8V8` already exists
\ Checking package name availability
v Package name `O5U7N8K8V8` is available
\ Checking package name availability
! Dummy git configured
\ Checking package name availability
* git user: `dummy`
\ Checking package name availability
* git email: `dummy@dummy.com`
\ Checking package name availability
! No GitHub configured
\ Checking package name availability
* github user: NULL
\ Checking package name availability
* PAT: NULL
\ Checking package name availability
== Initiating a new `BiocBook` =================================================
\ Creating new repository from template provided in BiocBook `inst/` directory`
v New local book `O5U7N8K8V8` successfully created
\ Creating new repository from template provided in BiocBook `inst/` directory`
v Filled out `inst/assets/_book.yml` fields
\ Creating new repository from template provided in BiocBook `inst/` directory`
v Filled out `README.md` fields
\ Creating new repository from template provided in BiocBook `inst/` directory`
v Filled out `DESCRIPTION` fields
\ Creating new repository from template provided in BiocBook `inst/` directory`
i Please finish editing the `DESCRIPTION` fields, including:
\ Creating new repository from template provided in BiocBook `inst/` directory`
* Title
\ Creating new repository from template provided in BiocBook `inst/` directory`
* Description
\ Creating new repository from template provided in BiocBook `inst/` directory`
* Authors@R
\ Creating new repository from template provided in BiocBook `inst/` directory`
v Filled out `inst/index.qmd` fields
\ Creating new repository from template provided in BiocBook `inst/` directory`
i Please finish editing the `inst/index.qmd` fields, including the `Welcome` section
\ Creating new repository from template provided in BiocBook `inst/` directory`
i The following files need to be committed:
* .Rbuildignore
* .github/
* DESCRIPTION
* Dockerfile
* LICENSE
* LICENSE.md
* NAMESPACE
* README.md
* inst/
* vignettes/
v The new files have been commited to the `devel` branch.
-- NOTES -----------------------------------------------------------------------
i If you wish to change the cover picture, please replace the following file:
* inst/assets/cover.png
== Results =====================================================================
v Local `BiocBook` directory successfully created : O5U7N8K8V8
! This book will be only available in local until a Github remote is set.
# You can connect to the local directory as follows:
biocbook <- BiocBook('O5U7N8K8V8')
BiocBook object
- local path:
/home/biocbuild/bbs-3.18-bioc/meat/BiocBook.Rcheck/tests/testthat/O5U7N8K8V8
- remote url:
- Title: O5U7N8K8V8
- Releases(0):
- Chapters(1):
* Welcome [/inst/index.qmd]
v File created @ `/home/biocbuild/bbs-3.18-bioc/meat/BiocBook.Rcheck/tests/testthat/O5U7N8K8V8/inst/pages/preamble.qmd`
v File created @ `/home/biocbuild/bbs-3.18-bioc/meat/BiocBook.Rcheck/tests/testthat/O5U7N8K8V8/inst/pages/chapter-1.qmd`
v File created @ `/home/biocbuild/bbs-3.18-bioc/meat/BiocBook.Rcheck/tests/testthat/O5U7N8K8V8/inst/pages/chapter1.qmd`
* Edit '/home/biocbuild/bbs-3.18-bioc/meat/BiocBook.Rcheck/tests/testthat/O5U7N8K8V8/inst/assets/_book.yml'
* Edit '/home/biocbuild/bbs-3.18-bioc/meat/BiocBook.Rcheck/tests/testthat/O5U7N8K8V8/inst/assets/book.scss'
* Edit '/home/biocbuild/bbs-3.18-bioc/meat/BiocBook.Rcheck/tests/testthat/O5U7N8K8V8/inst/assets/bibliography.bib'
* Edit '/home/biocbuild/bbs-3.18-bioc/meat/BiocBook.Rcheck/tests/testthat/O5U7N8K8V8/inst/requirements'
[ FAIL 0 | WARN 1 | SKIP 0 | PASS 17 ]
[ FAIL 0 | WARN 1 | SKIP 0 | PASS 17 ]
>
> proc.time()
user system elapsed
7.885 1.207 44.388
BiocBook.Rcheck/BiocBook-Ex.timings
| name | user | system | elapsed | |
| BiocBook-editing | 5.285 | 3.383 | 41.284 | |
| BiocBook | 0.490 | 0.204 | 14.927 | |