Back to Multiple platform build/check report for BioC 3.18:   simplified   long
A[B]CDEFGHIJKLMNOPQRSTUVWXYZ

This page was generated on 2024-03-04 11:37:09 -0500 (Mon, 04 Mar 2024).

HostnameOSArch (*)R versionInstalled pkgs
nebbiolo2Linux (Ubuntu 22.04.3 LTS)x86_644.3.2 Patched (2023-11-13 r85521) -- "Eye Holes" 4692
palomino4Windows Server 2022 Datacenterx644.3.2 (2023-10-31 ucrt) -- "Eye Holes" 4445
lconwaymacOS 12.7.1 Montereyx86_644.3.2 Patched (2023-11-01 r85457) -- "Eye Holes" 4466
Click on any hostname to see more info about the system (e.g. compilers)      (*) as reported by 'uname -p', except on Windows and Mac OS X

Package 165/2266HostnameOS / ArchINSTALLBUILDCHECKBUILD BIN
BindingSiteFinder 2.0.0  (landing page)
Mirko Brüggemann
Snapshot Date: 2024-03-03 14:05:05 -0500 (Sun, 03 Mar 2024)
git_url: https://git.bioconductor.org/packages/BindingSiteFinder
git_branch: RELEASE_3_18
git_last_commit: 8a2c174
git_last_commit_date: 2023-10-24 11:35:05 -0500 (Tue, 24 Oct 2023)
nebbiolo2Linux (Ubuntu 22.04.3 LTS) / x86_64  OK    OK    OK  UNNEEDED, same version is already published
palomino4Windows Server 2022 Datacenter / x64  OK    OK    OK    OK  UNNEEDED, same version is already published
lconwaymacOS 12.7.1 Monterey / x86_64  OK    OK    OK    OK  UNNEEDED, same version is already published
kjohnson1macOS 13.6.1 Ventura / arm64see weekly results here

CHECK results for BindingSiteFinder on lconway


To the developers/maintainers of the BindingSiteFinder package:
- Allow up to 24 hours (and sometimes 48 hours) for your latest push to git@git.bioconductor.org:packages/BindingSiteFinder.git to reflect on this report. See Troubleshooting Build Report for more information.
- Use the following Renviron settings to reproduce errors and warnings.
- If 'R CMD check' started to fail recently on the Linux builder(s) over a missing dependency, add the missing dependency to 'Suggests:' in your DESCRIPTION file. See Renviron.bioc for more information.

raw results


Summary

Package: BindingSiteFinder
Version: 2.0.0
Command: /Library/Frameworks/R.framework/Resources/bin/R CMD check --install=check:BindingSiteFinder.install-out.txt --library=/Library/Frameworks/R.framework/Resources/library --no-vignettes --timings BindingSiteFinder_2.0.0.tar.gz
StartedAt: 2024-03-03 19:09:56 -0500 (Sun, 03 Mar 2024)
EndedAt: 2024-03-03 19:26:19 -0500 (Sun, 03 Mar 2024)
EllapsedTime: 983.1 seconds
RetCode: 0
Status:   OK  
CheckDir: BindingSiteFinder.Rcheck
Warnings: 0

Command output

##############################################################################
##############################################################################
###
### Running command:
###
###   /Library/Frameworks/R.framework/Resources/bin/R CMD check --install=check:BindingSiteFinder.install-out.txt --library=/Library/Frameworks/R.framework/Resources/library --no-vignettes --timings BindingSiteFinder_2.0.0.tar.gz
###
##############################################################################
##############################################################################


* using log directory ‘/Users/biocbuild/bbs-3.18-bioc/meat/BindingSiteFinder.Rcheck’
* using R version 4.3.2 Patched (2023-11-01 r85457)
* using platform: x86_64-apple-darwin20 (64-bit)
* R was compiled by
    Apple clang version 14.0.3 (clang-1403.0.22.14.1)
    GNU Fortran (GCC) 12.2.0
* running under: macOS Monterey 12.7.1
* using session charset: UTF-8
* using option ‘--no-vignettes’
* checking for file ‘BindingSiteFinder/DESCRIPTION’ ... OK
* checking extension type ... Package
* this is package ‘BindingSiteFinder’ version ‘2.0.0’
* package encoding: UTF-8
* checking package namespace information ... OK
* checking package dependencies ... OK
* checking if this is a source package ... OK
* checking if there is a namespace ... OK
* checking for hidden files and directories ... OK
* checking for portable file names ... OK
* checking for sufficient/correct file permissions ... OK
* checking whether package ‘BindingSiteFinder’ can be installed ... OK
* checking installed package size ... OK
* checking package directory ... OK
* checking ‘build’ directory ... OK
* checking DESCRIPTION meta-information ... OK
* checking top-level files ... OK
* checking for left-over files ... OK
* checking index information ... OK
* checking package subdirectories ... OK
* checking R files for non-ASCII characters ... OK
* checking R files for syntax errors ... OK
* checking whether the package can be loaded ... OK
* checking whether the package can be loaded with stated dependencies ... OK
* checking whether the package can be unloaded cleanly ... OK
* checking whether the namespace can be loaded with stated dependencies ... OK
* checking whether the namespace can be unloaded cleanly ... OK
* checking dependencies in R code ... OK
* checking S3 generic/method consistency ... OK
* checking replacement functions ... OK
* checking foreign function calls ... OK
* checking R code for possible problems ... OK
* checking Rd files ... OK
* checking Rd metadata ... OK
* checking Rd cross-references ... OK
* checking for missing documentation entries ... OK
* checking for code/documentation mismatches ... OK
* checking Rd \usage sections ... OK
* checking Rd contents ... OK
* checking for unstated dependencies in examples ... OK
* checking files in ‘vignettes’ ... OK
* checking examples ... OK
Examples with CPU (user + system) or elapsed time > 5s
                             user system elapsed
quickFigure                38.060  0.799  39.379
BSFind                     32.428  0.650  33.455
processingStepsFlowChart   30.741  0.673  32.180
bindingSiteDefinednessPlot 30.166  0.793  31.411
calculateBsFoldChange      18.988  0.525  20.348
plotBsMA                   12.975  0.276  13.658
plotBsVolcano              12.430  0.284  13.045
estimateBsWidth             9.921  0.306  10.403
estimateBsWidthPlot         9.581  0.241   9.984
bindingSiteCoveragePlot     9.303  0.487  10.145
rangeCoveragePlot           7.586  0.153   7.804
calculateBsBackground       5.605  0.196   5.889
plotBsBackgroundFilter      5.134  0.159   5.939
supportRatioPlot            5.035  0.171   5.251
* checking for unstated dependencies in ‘tests’ ... OK
* checking tests ...
  Running ‘testthat.R’
 OK
* checking for unstated dependencies in vignettes ... OK
* checking package vignettes in ‘inst/doc’ ... OK
* checking running R code from vignettes ... SKIPPED
* checking re-building of vignette outputs ... SKIPPED
* checking PDF version of manual ... OK
* DONE

Status: OK


Installation output

BindingSiteFinder.Rcheck/00install.out

##############################################################################
##############################################################################
###
### Running command:
###
###   /Library/Frameworks/R.framework/Resources/bin/R CMD INSTALL BindingSiteFinder
###
##############################################################################
##############################################################################


* installing to library ‘/Library/Frameworks/R.framework/Versions/4.3-x86_64/Resources/library’
* installing *source* package ‘BindingSiteFinder’ ...
** using staged installation
** R
** inst
** byte-compile and prepare package for lazy loading
** help
*** installing help indices
** building package indices
** installing vignettes
** testing if installed package can be loaded from temporary location
** testing if installed package can be loaded from final location
** testing if installed package keeps a record of temporary installation path
* DONE (BindingSiteFinder)

Tests output

BindingSiteFinder.Rcheck/tests/testthat.Rout


R version 4.3.2 Patched (2023-11-01 r85457) -- "Eye Holes"
Copyright (C) 2023 The R Foundation for Statistical Computing
Platform: x86_64-apple-darwin20 (64-bit)

R is free software and comes with ABSOLUTELY NO WARRANTY.
You are welcome to redistribute it under certain conditions.
Type 'license()' or 'licence()' for distribution details.

R is a collaborative project with many contributors.
Type 'contributors()' for more information and
'citation()' on how to cite R or R packages in publications.

Type 'demo()' for some demos, 'help()' for on-line help, or
'help.start()' for an HTML browser interface to help.
Type 'q()' to quit R.

> library("testthat")
> library("BindingSiteFinder")
Loading required package: GenomicRanges
Loading required package: stats4
Loading required package: BiocGenerics

Attaching package: 'BiocGenerics'

The following objects are masked from 'package:stats':

    IQR, mad, sd, var, xtabs

The following objects are masked from 'package:base':

    Filter, Find, Map, Position, Reduce, anyDuplicated, aperm, append,
    as.data.frame, basename, cbind, colnames, dirname, do.call,
    duplicated, eval, evalq, get, grep, grepl, intersect, is.unsorted,
    lapply, mapply, match, mget, order, paste, pmax, pmax.int, pmin,
    pmin.int, rank, rbind, rownames, sapply, setdiff, sort, table,
    tapply, union, unique, unsplit, which.max, which.min

Loading required package: S4Vectors

Attaching package: 'S4Vectors'

The following object is masked from 'package:utils':

    findMatches

The following objects are masked from 'package:base':

    I, expand.grid, unname

Loading required package: IRanges
Loading required package: GenomeInfoDb
> test_check("BindingSiteFinder")
[1] "make bs"
[1] "calc ratio"
[1] "make bs"
[1] "calc ratio"
[ FAIL 0 | WARN 1 | SKIP 0 | PASS 236 ]

[ FAIL 0 | WARN 1 | SKIP 0 | PASS 236 ]
> 
> proc.time()
   user  system elapsed 
335.720   6.041 344.846 

Example timings

BindingSiteFinder.Rcheck/BindingSiteFinder-Ex.timings

nameusersystemelapsed
BSFDataSet0.1700.0070.179
BSFind32.428 0.65033.455
add-BSFDataSet2.2700.0702.383
annotateWithScore1.5500.0331.701
assignToGenes2.2120.0442.291
assignToTranscriptRegions2.3460.0592.488
bindingSiteCoveragePlot 9.303 0.48710.145
bindingSiteDefinednessPlot30.166 0.79331.411
calculateBsBackground5.6050.1965.889
calculateBsFoldChange18.988 0.52520.348
calculateSignalToFlankScore1.1930.0311.231
clipCoverage1.5240.0331.566
collapseReplicates0.1350.0110.147
combineBSF2.8950.0873.019
coverageOverRanges0.9670.0361.020
duplicatedSitesPlot0.5710.0230.607
estimateBsWidth 9.921 0.30610.403
estimateBsWidthPlot9.5810.2419.984
exportTargetGenes0.0220.0030.025
exportToBED0.0190.0020.041
filterBsBackground3.9400.0814.154
geneOverlapsPlot2.9790.0773.227
getMeta0.0210.0010.022
getName0.0200.0010.021
getRanges0.0460.0040.070
getSignal0.0850.0040.106
getSummary1.2360.0241.300
globalScorePlot1.5240.0341.606
imputeBsDifferencesForTestdata3.5680.1413.772
makeBindingSites2.7370.0662.870
makeBsSummaryPlot1.3850.0381.513
mergeCrosslinkDiagnosticsPlot1.6710.0351.787
mergeSummaryPlot4.0740.0924.238
plotBsBackgroundFilter5.1340.1595.939
plotBsMA12.975 0.27613.658
plotBsVolcano12.430 0.28413.045
processingStepsFlowChart30.741 0.67332.180
processingStepsTable0.0750.0030.087
pureClipGeneWiseFilter0.3770.0080.389
pureClipGlobalFilter0.0510.0020.054
pureClipGlobalFilterPlot0.3700.0530.443
quickFigure38.060 0.79939.379
rangeCoveragePlot7.5860.1537.804
reproducibilityCutoffPlot3.3900.0523.472
reproducibilityFilter2.0590.0352.115
reproducibilityFilterPlot2.6060.0322.659
reproducibilitySamplesPlot2.2340.0322.285
reproducibilityScatterPlot4.6310.0744.747
setMeta0.0290.0030.033
setName0.0290.0020.032
setRanges0.0560.0020.086
setSignal0.0610.0020.064
setSummary0.0290.0020.032
show0.0290.0030.032
subset-BSFDataSet0.0430.0030.046
summary0.0830.0100.095
supportRatio4.5790.0674.687
supportRatioPlot5.0350.1715.251
targetGeneSpectrumPlot2.6190.0472.688
transcriptRegionOverlapsPlot2.5930.0402.649
transcriptRegionSpectrumPlot2.9340.0493.010