| Back to Build/check report for BioC 3.18: simplified long |
|
This page was generated on 2023-04-20 12:50:26 -0400 (Thu, 20 Apr 2023).
| Hostname | OS | Arch (*) | R version | Installed pkgs |
|---|---|---|---|---|
| nebbiolo2 | Linux (Ubuntu 20.04.5 LTS) | x86_64 | R Under development (unstable) (2023-04-19 r84288) -- "Unsuffered Consequences" | 3941 |
| Click on any hostname to see more info about the system (e.g. compilers) (*) as reported by 'uname -p', except on Windows and Mac OS X | ||||
|
To the developers/maintainers of the ArrayExpressHTS package: - Allow up to 24 hours (and sometimes 48 hours) for your latest push to git@git.bioconductor.org:packages/ArrayExpressHTS.git to reflect on this report. See Troubleshooting Build Report for more information. - Use the following Renviron settings to reproduce errors and warnings. Note: If "R CMD check" recently failed on the Linux builder over a missing dependency, add the missing dependency to "Suggests" in your DESCRIPTION file. See the Renviron.bioc for details. |
| Package 89/2223 | Hostname | OS / Arch | INSTALL | BUILD | CHECK | BUILD BIN | ||||||||
Angela Goncalves
| nebbiolo2 | Linux (Ubuntu 20.04.5 LTS) / x86_64 | ERROR | ERROR | skipped | |||||||||
| Package: ArrayExpressHTS |
| Version: 1.49.1 |
| Command: /home/biocbuild/bbs-3.18-bioc/R/bin/R CMD build --keep-empty-dirs --no-resave-data ArrayExpressHTS |
| StartedAt: 2023-04-20 04:10:38 -0400 (Thu, 20 Apr 2023) |
| EndedAt: 2023-04-20 04:10:39 -0400 (Thu, 20 Apr 2023) |
| EllapsedTime: 1.3 seconds |
| RetCode: 1 |
| Status: ERROR |
| PackageFile: None |
| PackageFileSize: NA |
##############################################################################
##############################################################################
###
### Running command:
###
### /home/biocbuild/bbs-3.18-bioc/R/bin/R CMD build --keep-empty-dirs --no-resave-data ArrayExpressHTS
###
##############################################################################
##############################################################################
* checking for file ‘ArrayExpressHTS/DESCRIPTION’ ... OK
* preparing ‘ArrayExpressHTS’:
* checking DESCRIPTION meta-information ... OK
* cleaning src
* installing the package to build vignettes
-----------------------------------
* installing *source* package ‘ArrayExpressHTS’ ...
** using staged installation
** libs
using C compiler: ‘gcc (Ubuntu 11.3.0-1ubuntu1~22.04) 11.3.0’
gcc -I"/home/biocbuild/bbs-3.18-bioc/R/include" -DNDEBUG -D_FILE_OFFSET_BITS=64 -I'/home/biocbuild/bbs-3.18-bioc/R/site-library/Rhtslib/include' -I/usr/local/include -fpic -g -O2 -Wall -c addXS.c -o addXS.o
addXS.c: In function ‘addXS’:
addXS.c:42:5: warning: implicit declaration of function ‘Rprintf’; did you mean ‘dprintf’? [-Wimplicit-function-declaration]
42 | Rprintf("What?\n");
| ^~~~~~~
| dprintf
In file included from /usr/include/string.h:535,
from addXS.c:7:
In function ‘strncpy’,
inlined from ‘pastefield’ at addXS.c:17:5:
/usr/include/x86_64-linux-gnu/bits/string_fortified.h:95:10: warning: ‘__builtin_strncpy’ output truncated before terminating nul copying as many bytes from a string as its length [-Wstringop-truncation]
95 | return __builtin___strncpy_chk (__dest, __src, __len,
| ^~~~~~~~~~~~~~~~~~~~~~~~~~~~~~~~~~~~~~~~~~~~~~
96 | __glibc_objsize (__dest));
| ~~~~~~~~~~~~~~~~~~~~~~~~~
addXS.c: In function ‘pastefield’:
addXS.c:14:19: note: length computed here
14 | int length1 = strlen(text1);
| ^~~~~~~~~~~~~
In file included from /usr/include/string.h:535,
from addXS.c:7:
In function ‘strncpy’,
inlined from ‘pastefield’ at addXS.c:18:5:
/usr/include/x86_64-linux-gnu/bits/string_fortified.h:95:10: warning: ‘__builtin_strncpy’ output truncated before terminating nul copying as many bytes from a string as its length [-Wstringop-truncation]
95 | return __builtin___strncpy_chk (__dest, __src, __len,
| ^~~~~~~~~~~~~~~~~~~~~~~~~~~~~~~~~~~~~~~~~~~~~~
96 | __glibc_objsize (__dest));
| ~~~~~~~~~~~~~~~~~~~~~~~~~
addXS.c: In function ‘pastefield’:
addXS.c:15:19: note: length computed here
15 | int length2 = strlen(text2);
| ^~~~~~~~~~~~~
gcc -I"/home/biocbuild/bbs-3.18-bioc/R/include" -DNDEBUG -D_FILE_OFFSET_BITS=64 -I'/home/biocbuild/bbs-3.18-bioc/R/site-library/Rhtslib/include' -I/usr/local/include -fpic -g -O2 -Wall -c bam_plbuf.c -o bam_plbuf.o
gcc -I"/home/biocbuild/bbs-3.18-bioc/R/include" -DNDEBUG -D_FILE_OFFSET_BITS=64 -I'/home/biocbuild/bbs-3.18-bioc/R/site-library/Rhtslib/include' -I/usr/local/include -fpic -g -O2 -Wall -c fltbam.c -o fltbam.o
fltbam.c:2:10: fatal error: sam.h: No such file or directory
2 | #include "sam.h"
| ^~~~~~~
compilation terminated.
make: *** [/home/biocbuild/bbs-3.18-bioc/R/etc/Makeconf:191: fltbam.o] Error 1
ERROR: compilation failed for package ‘ArrayExpressHTS’
* removing ‘/tmp/RtmpOoruoa/Rinstc662c8d193a2/ArrayExpressHTS’
-----------------------------------
ERROR: package installation failed