Back to Multiple platform build/check report for BioC 3.18: simplified long |
|
This page was generated on 2024-04-17 11:35:46 -0400 (Wed, 17 Apr 2024).
Hostname | OS | Arch (*) | R version | Installed pkgs |
---|---|---|---|---|
nebbiolo2 | Linux (Ubuntu 22.04.3 LTS) | x86_64 | 4.3.3 (2024-02-29) -- "Angel Food Cake" | 4676 |
palomino4 | Windows Server 2022 Datacenter | x64 | 4.3.3 (2024-02-29 ucrt) -- "Angel Food Cake" | 4414 |
merida1 | macOS 12.7.1 Monterey | x86_64 | 4.3.3 (2024-02-29) -- "Angel Food Cake" | 4437 |
Click on any hostname to see more info about the system (e.g. compilers) (*) as reported by 'uname -p', except on Windows and Mac OS X |
Package 55/2266 | Hostname | OS / Arch | INSTALL | BUILD | CHECK | BUILD BIN | ||||||||
AlphaBeta 1.16.0 (landing page) Yadollah Shahryary Dizaji
| nebbiolo2 | Linux (Ubuntu 22.04.3 LTS) / x86_64 | OK | OK | OK | ![]() | ||||||||
palomino4 | Windows Server 2022 Datacenter / x64 | OK | OK | OK | OK | ![]() | ||||||||
merida1 | macOS 12.7.1 Monterey / x86_64 | OK | OK | OK | OK | ![]() | ||||||||
kjohnson1 | macOS 13.6.1 Ventura / arm64 | see weekly results here | ||||||||||||
To the developers/maintainers of the AlphaBeta package: - Allow up to 24 hours (and sometimes 48 hours) for your latest push to git@git.bioconductor.org:packages/AlphaBeta.git to reflect on this report. See Troubleshooting Build Report for more information. - Use the following Renviron settings to reproduce errors and warnings. - If 'R CMD check' started to fail recently on the Linux builder(s) over a missing dependency, add the missing dependency to 'Suggests:' in your DESCRIPTION file. See Renviron.bioc for more information. |
Package: AlphaBeta |
Version: 1.16.0 |
Command: /home/biocbuild/bbs-3.18-bioc/R/bin/R CMD check --install=check:AlphaBeta.install-out.txt --library=/home/biocbuild/bbs-3.18-bioc/R/site-library --timings AlphaBeta_1.16.0.tar.gz |
StartedAt: 2024-04-15 19:59:13 -0400 (Mon, 15 Apr 2024) |
EndedAt: 2024-04-15 20:13:40 -0400 (Mon, 15 Apr 2024) |
EllapsedTime: 866.4 seconds |
RetCode: 0 |
Status: OK |
CheckDir: AlphaBeta.Rcheck |
Warnings: 0 |
############################################################################## ############################################################################## ### ### Running command: ### ### /home/biocbuild/bbs-3.18-bioc/R/bin/R CMD check --install=check:AlphaBeta.install-out.txt --library=/home/biocbuild/bbs-3.18-bioc/R/site-library --timings AlphaBeta_1.16.0.tar.gz ### ############################################################################## ############################################################################## * using log directory ‘/home/biocbuild/bbs-3.18-bioc/meat/AlphaBeta.Rcheck’ * using R version 4.3.3 (2024-02-29) * using platform: x86_64-pc-linux-gnu (64-bit) * R was compiled by gcc (Ubuntu 11.4.0-1ubuntu1~22.04) 11.4.0 GNU Fortran (Ubuntu 11.4.0-1ubuntu1~22.04) 11.4.0 * running under: Ubuntu 22.04.4 LTS * using session charset: UTF-8 * checking for file ‘AlphaBeta/DESCRIPTION’ ... OK * checking extension type ... Package * this is package ‘AlphaBeta’ version ‘1.16.0’ * package encoding: UTF-8 * checking package namespace information ... OK * checking package dependencies ... OK * checking if this is a source package ... OK * checking if there is a namespace ... OK * checking for hidden files and directories ... OK * checking for portable file names ... OK * checking for sufficient/correct file permissions ... OK * checking whether package ‘AlphaBeta’ can be installed ... OK * checking installed package size ... OK * checking package directory ... OK * checking ‘build’ directory ... OK * checking DESCRIPTION meta-information ... OK * checking top-level files ... NOTE File LICENSE is not mentioned in the DESCRIPTION file. * checking for left-over files ... OK * checking index information ... OK * checking package subdirectories ... OK * checking R files for non-ASCII characters ... OK * checking R files for syntax errors ... OK * checking whether the package can be loaded ... OK * checking whether the package can be loaded with stated dependencies ... OK * checking whether the package can be unloaded cleanly ... OK * checking whether the namespace can be loaded with stated dependencies ... OK * checking whether the namespace can be unloaded cleanly ... OK * checking loading without being on the library search path ... OK * checking dependencies in R code ... OK * checking S3 generic/method consistency ... OK * checking replacement functions ... OK * checking foreign function calls ... OK * checking R code for possible problems ... NOTE ABplot: no visible binding for global variable ‘delta.t’ ABplot: no visible binding for global variable ‘div.obs’ BOOTmodel : LSE_intercept: no visible binding for global variable ‘sel’ BOOTmodel: no visible binding for global variable ‘sel’ BOOTmodel: multiple local function definitions for ‘divergence’ with different formal arguments plotPedigree: no visible binding for global variable ‘meth’ plotPedigree: no visible binding for global variable ‘V1’ plotPedigree: no visible binding for global variable ‘V2’ Undefined global functions or variables: V1 V2 delta.t div.obs meth sel * checking Rd files ... OK * checking Rd metadata ... OK * checking Rd cross-references ... OK * checking for missing documentation entries ... OK * checking for code/documentation mismatches ... OK * checking Rd \usage sections ... OK * checking Rd contents ... OK * checking for unstated dependencies in examples ... OK * checking files in ‘vignettes’ ... OK * checking examples ... OK Examples with CPU (user + system) or elapsed time > 5s user system elapsed BOOTmodel 84.179 0.083 84.263 ABselectUU 79.868 0.100 79.968 ABselectMM 64.074 0.136 64.211 ABneutral 52.487 0.357 52.843 ABselectUUSOMA 5.442 0.012 5.455 ABneutralSOMA 5.132 0.019 5.152 * checking for unstated dependencies in vignettes ... OK * checking package vignettes in ‘inst/doc’ ... OK * checking running R code from vignettes ... ‘AlphaBeta.Rmd’ using ‘UTF-8’... OK OK * checking re-building of vignette outputs ... OK * checking PDF version of manual ... OK * DONE Status: 2 NOTEs See ‘/home/biocbuild/bbs-3.18-bioc/meat/AlphaBeta.Rcheck/00check.log’ for details.
AlphaBeta.Rcheck/00install.out
############################################################################## ############################################################################## ### ### Running command: ### ### /home/biocbuild/bbs-3.18-bioc/R/bin/R CMD INSTALL AlphaBeta ### ############################################################################## ############################################################################## * installing to library ‘/home/biocbuild/bbs-3.18-bioc/R/site-library’ * installing *source* package ‘AlphaBeta’ ... ** using staged installation ** R ** inst ** byte-compile and prepare package for lazy loading ** help *** installing help indices ** building package indices ** installing vignettes ** testing if installed package can be loaded from temporary location ** testing if installed package can be loaded from final location ** testing if installed package keeps a record of temporary installation path * DONE (AlphaBeta)
AlphaBeta.Rcheck/AlphaBeta-Ex.timings
name | user | system | elapsed | |
ABneutral | 52.487 | 0.357 | 52.843 | |
ABneutralSOMA | 5.132 | 0.019 | 5.152 | |
ABnull | 0.010 | 0.001 | 0.010 | |
ABplot | 0.262 | 0.004 | 0.267 | |
ABselectMM | 64.074 | 0.136 | 64.211 | |
ABselectMMSOMA | 3.794 | 0.008 | 3.801 | |
ABselectUU | 79.868 | 0.100 | 79.968 | |
ABselectUUSOMA | 5.442 | 0.012 | 5.455 | |
BOOTmodel | 84.179 | 0.083 | 84.263 | |
FtestRSS | 0.01 | 0.00 | 0.01 | |
buildPedigree | 0.926 | 0.019 | 4.461 | |
dMatrix | 0.119 | 0.011 | 0.129 | |
plotPedigree | 0.07 | 0.00 | 0.07 | |
rc.meth.lvl | 0.660 | 0.001 | 4.268 | |