| Back to Multiple platform build/check report for BioC 3.18: simplified long |
|
This page was generated on 2023-11-02 11:40:24 -0400 (Thu, 02 Nov 2023).
| Hostname | OS | Arch (*) | R version | Installed pkgs |
|---|---|---|---|---|
| nebbiolo2 | Linux (Ubuntu 22.04.2 LTS) | x86_64 | 4.3.1 (2023-06-16) -- "Beagle Scouts" | 4729 |
| palomino4 | Windows Server 2022 Datacenter | x64 | 4.3.1 (2023-06-16 ucrt) -- "Beagle Scouts" | 4463 |
| lconway | macOS 12.6.5 Monterey | x86_64 | 4.3.1 Patched (2023-06-17 r84564) -- "Beagle Scouts" | 4478 |
| kunpeng2 | Linux (openEuler 22.03 LTS-SP1) | aarch64 | 4.3.1 (2023-06-16) -- "Beagle Scouts" | 4464 |
| Click on any hostname to see more info about the system (e.g. compilers) (*) as reported by 'uname -p', except on Windows and Mac OS X | ||||
| Package 52/2266 | Hostname | OS / Arch | INSTALL | BUILD | CHECK | BUILD BIN | ||||||||
| ALDEx2 1.34.0 (landing page) Greg Gloor
| nebbiolo2 | Linux (Ubuntu 22.04.2 LTS) / x86_64 | OK | OK | OK | |||||||||
| palomino4 | Windows Server 2022 Datacenter / x64 | OK | OK | OK | OK | |||||||||
| lconway | macOS 12.6.5 Monterey / x86_64 | OK | OK | OK | OK | |||||||||
| kjohnson1 | macOS 13.6.1 Ventura / arm64 | see weekly results here | ||||||||||||
| kunpeng2 | Linux (openEuler 22.03 LTS-SP1) / aarch64 | OK | OK | OK | ||||||||||
|
To the developers/maintainers of the ALDEx2 package: - Allow up to 24 hours (and sometimes 48 hours) for your latest push to git@git.bioconductor.org:packages/ALDEx2.git to reflect on this report. See Troubleshooting Build Report for more information. - Use the following Renviron settings to reproduce errors and warnings. - If 'R CMD check' started to fail recently on the Linux builder(s) over a missing dependency, add the missing dependency to 'Suggests:' in your DESCRIPTION file. See Renviron.bioc for more information. - See Martin Grigorov's blog post for how to debug Linux ARM64 related issues on a x86_64 host. |
| Package: ALDEx2 |
| Version: 1.34.0 |
| Command: /home/biocbuild/R/R-4.3.1/bin/R CMD check --install=check:ALDEx2.install-out.txt --library=/home/biocbuild/R/R-4.3.1/site-library --no-vignettes --timings ALDEx2_1.34.0.tar.gz |
| StartedAt: 2023-11-02 08:16:07 -0000 (Thu, 02 Nov 2023) |
| EndedAt: 2023-11-02 08:21:38 -0000 (Thu, 02 Nov 2023) |
| EllapsedTime: 330.4 seconds |
| RetCode: 0 |
| Status: OK |
| CheckDir: ALDEx2.Rcheck |
| Warnings: 0 |
##############################################################################
##############################################################################
###
### Running command:
###
### /home/biocbuild/R/R-4.3.1/bin/R CMD check --install=check:ALDEx2.install-out.txt --library=/home/biocbuild/R/R-4.3.1/site-library --no-vignettes --timings ALDEx2_1.34.0.tar.gz
###
##############################################################################
##############################################################################
* using log directory ‘/home/biocbuild/bbs-3.18-bioc/meat/ALDEx2.Rcheck’
* using R version 4.3.1 (2023-06-16)
* using platform: aarch64-unknown-linux-gnu (64-bit)
* R was compiled by
gcc (GCC) 10.3.1
GNU Fortran (GCC) 10.3.1
* running under: openEuler 22.03 (LTS-SP1)
* using session charset: UTF-8
* using option ‘--no-vignettes’
* checking for file ‘ALDEx2/DESCRIPTION’ ... OK
* checking extension type ... Package
* this is package ‘ALDEx2’ version ‘1.34.0’
* checking package namespace information ... OK
* checking package dependencies ... OK
* checking if this is a source package ... OK
* checking if there is a namespace ... OK
* checking for hidden files and directories ... OK
* checking for portable file names ... OK
* checking for sufficient/correct file permissions ... OK
* checking whether package ‘ALDEx2’ can be installed ... OK
* checking installed package size ... OK
* checking package directory ... OK
* checking ‘build’ directory ... OK
* checking DESCRIPTION meta-information ... OK
* checking top-level files ... OK
* checking for left-over files ... OK
* checking index information ... OK
* checking package subdirectories ... OK
* checking R files for non-ASCII characters ... OK
* checking R files for syntax errors ... OK
* checking whether the package can be loaded ... OK
* checking whether the package can be loaded with stated dependencies ... OK
* checking whether the package can be unloaded cleanly ... OK
* checking whether the namespace can be loaded with stated dependencies ... OK
* checking whether the namespace can be unloaded cleanly ... OK
* checking loading without being on the library search path ... OK
* checking dependencies in R code ... OK
* checking S3 generic/method consistency ... OK
* checking replacement functions ... OK
* checking foreign function calls ... OK
* checking R code for possible problems ... OK
* checking Rd files ... OK
* checking Rd metadata ... OK
* checking Rd cross-references ... OK
* checking for missing documentation entries ... OK
* checking for code/documentation mismatches ... OK
* checking Rd \usage sections ... OK
* checking Rd contents ... OK
* checking for unstated dependencies in examples ... OK
* checking contents of ‘data’ directory ... OK
* checking data for non-ASCII characters ... OK
* checking data for ASCII and uncompressed saves ... OK
* checking files in ‘vignettes’ ... OK
* checking examples ... OK
Examples with CPU (user + system) or elapsed time > 5s
user system elapsed
aldex.glm 5.208 0.012 5.238
* checking for unstated dependencies in ‘tests’ ... OK
* checking tests ...
Running ‘testthat.R’
OK
* checking for unstated dependencies in vignettes ... OK
* checking package vignettes in ‘inst/doc’ ... OK
* checking running R code from vignettes ... SKIPPED
* checking re-building of vignette outputs ... SKIPPED
* checking PDF version of manual ... OK
* DONE
Status: OK
ALDEx2.Rcheck/00install.out
############################################################################## ############################################################################## ### ### Running command: ### ### /home/biocbuild/R/R-4.3.1/bin/R CMD INSTALL ALDEx2 ### ############################################################################## ############################################################################## * installing to library ‘/home/biocbuild/R/R-4.3.1/site-library’ * installing *source* package ‘ALDEx2’ ... ** using staged installation ** R ** data ** inst ** byte-compile and prepare package for lazy loading ** help *** installing help indices ** building package indices ** installing vignettes ** testing if installed package can be loaded from temporary location ** testing if installed package can be loaded from final location ** testing if installed package keeps a record of temporary installation path * DONE (ALDEx2)
ALDEx2.Rcheck/tests/testthat.Rout
R version 4.3.1 (2023-06-16) -- "Beagle Scouts"
Copyright (C) 2023 The R Foundation for Statistical Computing
Platform: aarch64-unknown-linux-gnu (64-bit)
R is free software and comes with ABSOLUTELY NO WARRANTY.
You are welcome to redistribute it under certain conditions.
Type 'license()' or 'licence()' for distribution details.
R is a collaborative project with many contributors.
Type 'contributors()' for more information and
'citation()' on how to cite R or R packages in publications.
Type 'demo()' for some demos, 'help()' for on-line help, or
'help.start()' for an HTML browser interface to help.
Type 'q()' to quit R.
> library(testthat)
> library(ALDEx2)
Loading required package: zCompositions
Loading required package: MASS
Loading required package: NADA
Loading required package: survival
Attaching package: 'NADA'
The following object is masked from 'package:stats':
cor
Loading required package: truncnorm
Loading required package: lattice
Loading required package: latticeExtra
>
> test_check("ALDEx2")
[ FAIL 0 | WARN 5 | SKIP 0 | PASS 34 ]
[ FAIL 0 | WARN 5 | SKIP 0 | PASS 34 ]
>
> proc.time()
user system elapsed
99.909 1.227 101.435
ALDEx2.Rcheck/ALDEx2-Ex.timings
| name | user | system | elapsed | |
| ALDEx2m-package | 0.000 | 0.000 | 0.001 | |
| aldex | 0.469 | 0.056 | 0.563 | |
| aldex.clr-class | 0.029 | 0.000 | 0.028 | |
| aldex.corr | 1.423 | 0.116 | 1.542 | |
| aldex.effect | 0.216 | 0.000 | 0.216 | |
| aldex.expectedDistance | 1.145 | 0.016 | 1.163 | |
| aldex.glm | 5.208 | 0.012 | 5.238 | |
| aldex.glm.effect | 0.450 | 0.004 | 0.463 | |
| aldex.glm.plot | 0 | 0 | 0 | |
| aldex.kw | 2.297 | 0.199 | 2.502 | |
| aldex.makeScaleMatrix | 0.011 | 0.004 | 0.015 | |
| aldex.plot | 0.001 | 0.000 | 0.000 | |
| aldex.plotFeature | 0.074 | 0.000 | 0.075 | |
| aldex.set.mode | 0.029 | 0.000 | 0.030 | |
| aldex.ttest | 0.144 | 0.008 | 0.152 | |
| getConditions-method | 0.028 | 0.000 | 0.028 | |
| getDenom-method | 0.073 | 0.000 | 0.073 | |
| getDirichletInstances-method | 0.038 | 0.000 | 0.039 | |
| getDirichletReplicate-method | 0.027 | 0.000 | 0.027 | |
| getDirichletSample-method | 0.027 | 0.000 | 0.028 | |
| getFeatureNames-method | 0.027 | 0.000 | 0.028 | |
| getFeatures-method | 0.027 | 0.000 | 0.028 | |
| getMonteCarloInstances-method | 0.027 | 0.000 | 0.027 | |
| getMonteCarloReplicate-method | 0.027 | 0.000 | 0.027 | |
| getMonteCarloSample-method | 0.027 | 0.000 | 0.027 | |
| getReads-method | 0.027 | 0.000 | 0.027 | |
| getSampleIDs-method | 0.029 | 0.000 | 0.029 | |
| getScaleSamples-method | 0.028 | 0.000 | 0.029 | |
| numConditions-method | 0.039 | 0.000 | 0.039 | |
| numFeatures-method | 0.028 | 0.000 | 0.028 | |
| numMCInstances-method | 0.028 | 0.000 | 0.028 | |