| Back to Multiple platform build/check report for BioC 3.17 |
|
This page was generated on 2023-04-12 10:55:32 -0400 (Wed, 12 Apr 2023).
| Hostname | OS | Arch (*) | R version | Installed pkgs |
|---|---|---|---|---|
| nebbiolo1 | Linux (Ubuntu 22.04.1 LTS) | x86_64 | 4.3.0 alpha (2023-04-03 r84154) | 4547 |
| nebbiolo2 | Linux (Ubuntu 20.04.5 LTS) | x86_64 | R Under development (unstable) (2023-02-14 r83833) -- "Unsuffered Consequences" | 4333 |
| Click on any hostname to see more info about the system (e.g. compilers) (*) as reported by 'uname -p', except on Windows and Mac OS X | ||||
|
To the developers/maintainers of the ttgsea package: - Allow up to 24 hours (and sometimes 48 hours) for your latest push to git@git.bioconductor.org:packages/ttgsea.git to reflect on this report. See Troubleshooting Build Report for more information. - Use the following Renviron settings to reproduce errors and warnings. Note: If "R CMD check" recently failed on the Linux builder over a missing dependency, add the missing dependency to "Suggests" in your DESCRIPTION file. See the Renviron.bioc for details. |
| Package 2131/2207 | Hostname | OS / Arch | INSTALL | BUILD | CHECK | BUILD BIN | ||||||||
| ttgsea 1.7.1 (landing page) Dongmin Jung
| nebbiolo1 | Linux (Ubuntu 22.04.1 LTS) / x86_64 | OK | OK | OK | |||||||||
| nebbiolo2 | Linux (Ubuntu 20.04.5 LTS) / x86_64 | OK | OK | OK | ||||||||||
| Package: ttgsea |
| Version: 1.7.1 |
| Command: /home/biocbuild/bbs-3.17-bioc/R/bin/R CMD check --install=check:ttgsea.install-out.txt --library=/home/biocbuild/bbs-3.17-bioc/R/site-library --timings ttgsea_1.7.1.tar.gz |
| StartedAt: 2023-04-12 00:16:50 -0400 (Wed, 12 Apr 2023) |
| EndedAt: 2023-04-12 00:19:46 -0400 (Wed, 12 Apr 2023) |
| EllapsedTime: 175.5 seconds |
| RetCode: 0 |
| Status: OK |
| CheckDir: ttgsea.Rcheck |
| Warnings: 0 |
##############################################################################
##############################################################################
###
### Running command:
###
### /home/biocbuild/bbs-3.17-bioc/R/bin/R CMD check --install=check:ttgsea.install-out.txt --library=/home/biocbuild/bbs-3.17-bioc/R/site-library --timings ttgsea_1.7.1.tar.gz
###
##############################################################################
##############################################################################
* using log directory ‘/home/biocbuild/bbs-3.17-bioc/meat/ttgsea.Rcheck’
* using R version 4.3.0 alpha (2023-04-03 r84154)
* using platform: x86_64-pc-linux-gnu (64-bit)
* R was compiled by
gcc (Ubuntu 11.3.0-1ubuntu1~22.04) 11.3.0
GNU Fortran (Ubuntu 11.3.0-1ubuntu1~22.04) 11.3.0
* running under: Ubuntu 22.04.2 LTS
* using session charset: UTF-8
* checking for file ‘ttgsea/DESCRIPTION’ ... OK
* checking extension type ... Package
* this is package ‘ttgsea’ version ‘1.7.1’
* checking package namespace information ... OK
* checking package dependencies ... OK
* checking if this is a source package ... OK
* checking if there is a namespace ... OK
* checking for hidden files and directories ... OK
* checking for portable file names ... OK
* checking for sufficient/correct file permissions ... OK
* checking whether package ‘ttgsea’ can be installed ... OK
* checking installed package size ... OK
* checking package directory ... OK
* checking ‘build’ directory ... OK
* checking DESCRIPTION meta-information ... OK
* checking top-level files ... OK
* checking for left-over files ... OK
* checking index information ... OK
* checking package subdirectories ... OK
* checking R files for non-ASCII characters ... OK
* checking R files for syntax errors ... OK
* checking whether the package can be loaded ... OK
* checking whether the package can be loaded with stated dependencies ... OK
* checking whether the package can be unloaded cleanly ... OK
* checking whether the namespace can be loaded with stated dependencies ... OK
* checking whether the namespace can be unloaded cleanly ... OK
* checking loading without being on the library search path ... OK
* checking dependencies in R code ... OK
* checking S3 generic/method consistency ... OK
* checking replacement functions ... OK
* checking foreign function calls ... OK
* checking R code for possible problems ... OK
* checking Rd files ... OK
* checking Rd metadata ... OK
* checking Rd cross-references ... OK
* checking for missing documentation entries ... OK
* checking for code/documentation mismatches ... OK
* checking Rd \usage sections ... OK
* checking Rd contents ... OK
* checking for unstated dependencies in examples ... OK
* checking files in ‘vignettes’ ... OK
* checking examples ... OK
Examples with CPU (user + system) or elapsed time > 5s
user system elapsed
predict_model 24.543 3.416 14.207
fit_model 23.417 2.342 15.205
token_vector 9.586 0.522 6.249
text_token 9.552 0.457 6.141
bi_gru 3.432 0.688 6.083
* checking for unstated dependencies in ‘tests’ ... OK
* checking tests ...
Running ‘testthat.R’
OK
* checking for unstated dependencies in vignettes ... OK
* checking package vignettes in ‘inst/doc’ ... OK
* checking running R code from vignettes ...
‘ttgsea.Rmd’ using ‘UTF-8’... OK
NONE
* checking re-building of vignette outputs ... OK
* checking PDF version of manual ... OK
* DONE
Status: OK
ttgsea.Rcheck/00install.out
############################################################################## ############################################################################## ### ### Running command: ### ### /home/biocbuild/bbs-3.17-bioc/R/bin/R CMD INSTALL ttgsea ### ############################################################################## ############################################################################## * installing to library ‘/home/biocbuild/bbs-3.17-bioc/R/site-library’ * installing *source* package ‘ttgsea’ ... ** using staged installation ** R ** byte-compile and prepare package for lazy loading ** help *** installing help indices ** building package indices ** installing vignettes ** testing if installed package can be loaded from temporary location ** testing if installed package can be loaded from final location ** testing if installed package keeps a record of temporary installation path * DONE (ttgsea)
ttgsea.Rcheck/tests/testthat.Rout
R version 4.3.0 alpha (2023-04-03 r84154)
Copyright (C) 2023 The R Foundation for Statistical Computing
Platform: x86_64-pc-linux-gnu (64-bit)
R is free software and comes with ABSOLUTELY NO WARRANTY.
You are welcome to redistribute it under certain conditions.
Type 'license()' or 'licence()' for distribution details.
R is a collaborative project with many contributors.
Type 'contributors()' for more information and
'citation()' on how to cite R or R packages in publications.
Type 'demo()' for some demos, 'help()' for on-line help, or
'help.start()' for an HTML browser interface to help.
Type 'q()' to quit R.
> library(testthat)
> library(ttgsea)
Loading required package: keras
>
> test_check("ttgsea")
2023-04-12 00:18:48.686448: I tensorflow/core/platform/cpu_feature_guard.cc:193] This TensorFlow binary is optimized with oneAPI Deep Neural Network Library (oneDNN) to use the following CPU instructions in performance-critical operations: AVX2 AVX512F AVX512_VNNI FMA
To enable them in other operations, rebuild TensorFlow with the appropriate compiler flags.
2023-04-12 00:18:48.922229: I tensorflow/core/util/util.cc:169] oneDNN custom operations are on. You may see slightly different numerical results due to floating-point round-off errors from different computation orders. To turn them off, set the environment variable `TF_ENABLE_ONEDNN_OPTS=0`.
2023-04-12 00:18:48.929892: W tensorflow/stream_executor/platform/default/dso_loader.cc:64] Could not load dynamic library 'libcudart.so.11.0'; dlerror: libcudart.so.11.0: cannot open shared object file: No such file or directory; LD_LIBRARY_PATH: /home/biocbuild/bbs-3.17-bioc/R/lib:/usr/local/lib:/usr/lib/x86_64-linux-gnu:/usr/lib/jvm/java-11-openjdk-amd64/lib/server:/home/biocbuild/bbs-3.17-bioc/R/lib:/usr/local/lib:/usr/lib/x86_64-linux-gnu:/usr/lib/jvm/java-11-openjdk-amd64/lib/server:/home/biocbuild/bbs-3.17-bioc/R/lib:/usr/local/lib:/usr/lib/x86_64-linux-gnu:/usr/lib/jvm/java-11-openjdk-amd64/lib/server:/home/biocbuild/bbs-3.17-bioc/R/lib:/usr/local/lib:/usr/lib/x86_64-linux-gnu:/usr/lib/jvm/java-11-openjdk-amd64/lib/server:/home/biocbuild/bbs-3.17-bioc/R/lib:/usr/local/lib:/usr/lib/x86_64-linux-gnu:/usr/lib/jvm/java-11-openjdk-amd64/lib/server
2023-04-12 00:18:48.929970: I tensorflow/stream_executor/cuda/cudart_stub.cc:29] Ignore above cudart dlerror if you do not have a GPU set up on your machine.
2023-04-12 00:18:48.964927: E tensorflow/stream_executor/cuda/cuda_blas.cc:2981] Unable to register cuBLAS factory: Attempting to register factory for plugin cuBLAS when one has already been registered
2023-04-12 00:18:49.905696: W tensorflow/stream_executor/platform/default/dso_loader.cc:64] Could not load dynamic library 'libnvinfer.so.7'; dlerror: libnvinfer.so.7: cannot open shared object file: No such file or directory; LD_LIBRARY_PATH: /home/biocbuild/bbs-3.17-bioc/R/lib:/usr/local/lib:/usr/lib/x86_64-linux-gnu:/usr/lib/jvm/java-11-openjdk-amd64/lib/server:/home/biocbuild/bbs-3.17-bioc/R/lib:/usr/local/lib:/usr/lib/x86_64-linux-gnu:/usr/lib/jvm/java-11-openjdk-amd64/lib/server:/home/biocbuild/bbs-3.17-bioc/R/lib:/usr/local/lib:/usr/lib/x86_64-linux-gnu:/usr/lib/jvm/java-11-openjdk-amd64/lib/server:/home/biocbuild/bbs-3.17-bioc/R/lib:/usr/local/lib:/usr/lib/x86_64-linux-gnu:/usr/lib/jvm/java-11-openjdk-amd64/lib/server:/home/biocbuild/bbs-3.17-bioc/R/lib:/usr/local/lib:/usr/lib/x86_64-linux-gnu:/usr/lib/jvm/java-11-openjdk-amd64/lib/server
2023-04-12 00:18:49.905821: W tensorflow/stream_executor/platform/default/dso_loader.cc:64] Could not load dynamic library 'libnvinfer_plugin.so.7'; dlerror: libnvinfer_plugin.so.7: cannot open shared object file: No such file or directory; LD_LIBRARY_PATH: /home/biocbuild/bbs-3.17-bioc/R/lib:/usr/local/lib:/usr/lib/x86_64-linux-gnu:/usr/lib/jvm/java-11-openjdk-amd64/lib/server:/home/biocbuild/bbs-3.17-bioc/R/lib:/usr/local/lib:/usr/lib/x86_64-linux-gnu:/usr/lib/jvm/java-11-openjdk-amd64/lib/server:/home/biocbuild/bbs-3.17-bioc/R/lib:/usr/local/lib:/usr/lib/x86_64-linux-gnu:/usr/lib/jvm/java-11-openjdk-amd64/lib/server:/home/biocbuild/bbs-3.17-bioc/R/lib:/usr/local/lib:/usr/lib/x86_64-linux-gnu:/usr/lib/jvm/java-11-openjdk-amd64/lib/server:/home/biocbuild/bbs-3.17-bioc/R/lib:/usr/local/lib:/usr/lib/x86_64-linux-gnu:/usr/lib/jvm/java-11-openjdk-amd64/lib/server
2023-04-12 00:18:49.905844: W tensorflow/compiler/tf2tensorrt/utils/py_utils.cc:38] TF-TRT Warning: Cannot dlopen some TensorRT libraries. If you would like to use Nvidia GPU with TensorRT, please make sure the missing libraries mentioned above are installed properly.
2023-04-12 00:18:51.789972: E tensorflow/stream_executor/cuda/cuda_driver.cc:265] failed call to cuInit: CUDA_ERROR_NO_DEVICE: no CUDA-capable device is detected
2023-04-12 00:18:51.790082: I tensorflow/stream_executor/cuda/cuda_diagnostics.cc:156] kernel driver does not appear to be running on this host (nebbiolo1): /proc/driver/nvidia/version does not exist
2023-04-12 00:18:51.790546: I tensorflow/core/platform/cpu_feature_guard.cc:193] This TensorFlow binary is optimized with oneAPI Deep Neural Network Library (oneDNN) to use the following CPU instructions in performance-critical operations: AVX2 AVX512F AVX512_VNNI FMA
To enable them in other operations, rebuild TensorFlow with the appropriate compiler flags.
1/45 [..............................] - ETA: 2:38 - loss: 1.5030 - pearson_correlation: -0.0763
3/45 [=>............................] - ETA: 1s - loss: 1.4802 - pearson_correlation: -0.0114
5/45 [==>...........................] - ETA: 1s - loss: 1.5753 - pearson_correlation: -0.0173
7/45 [===>..........................] - ETA: 1s - loss: 1.5203 - pearson_correlation: 0.0025
9/45 [=====>........................] - ETA: 1s - loss: 1.5652 - pearson_correlation: 0.0658
11/45 [======>.......................] - ETA: 1s - loss: 1.5500 - pearson_correlation: 0.0775
13/45 [=======>......................] - ETA: 1s - loss: 1.5448 - pearson_correlation: 0.0883
15/45 [=========>....................] - ETA: 1s - loss: 1.5629 - pearson_correlation: 0.1020
17/45 [==========>...................] - ETA: 1s - loss: 1.5819 - pearson_correlation: 0.1195
19/45 [===========>..................] - ETA: 0s - loss: 1.6059 - pearson_correlation: 0.1249
21/45 [=============>................] - ETA: 0s - loss: 1.6098 - pearson_correlation: 0.1048
23/45 [==============>...............] - ETA: 0s - loss: 1.5886 - pearson_correlation: 0.0839
25/45 [===============>..............] - ETA: 0s - loss: 1.5934 - pearson_correlation: 0.0971
27/45 [=================>............] - ETA: 0s - loss: 1.6073 - pearson_correlation: 0.1136
29/45 [==================>...........] - ETA: 0s - loss: 1.5870 - pearson_correlation: 0.1319
31/45 [===================>..........] - ETA: 0s - loss: 1.5950 - pearson_correlation: 0.1333
33/45 [=====================>........] - ETA: 0s - loss: 1.5703 - pearson_correlation: 0.1369
35/45 [======================>.......] - ETA: 0s - loss: 1.5561 - pearson_correlation: 0.1444
37/45 [=======================>......] - ETA: 0s - loss: 1.5607 - pearson_correlation: 0.1442
39/45 [=========================>....] - ETA: 0s - loss: 1.5531 - pearson_correlation: 0.1518
41/45 [==========================>...] - ETA: 0s - loss: 1.5644 - pearson_correlation: 0.1523
43/45 [===========================>..] - ETA: 0s - loss: 1.5538 - pearson_correlation: 0.1470
45/45 [==============================] - ETA: 0s - loss: 1.5616 - pearson_correlation: 0.1429
45/45 [==============================] - 5s 37ms/step - loss: 1.5616 - pearson_correlation: 0.1429
1/4 [======>.......................] - ETA: 1s
4/4 [==============================] - 0s 9ms/step
1/1 [==============================] - ETA: 0s
1/1 [==============================] - 0s 32ms/step
1/32 [..............................] - ETA: 0s
7/32 [=====>........................] - ETA: 0s
13/32 [===========>..................] - ETA: 0s
18/32 [===============>..............] - ETA: 0s
23/32 [====================>.........] - ETA: 0s
28/32 [=========================>....] - ETA: 0s
32/32 [==============================] - 0s 10ms/step
1/32 [..............................] - ETA: 0s
10/32 [========>.....................] - ETA: 0s
18/32 [===============>..............] - ETA: 0s
25/32 [======================>.......] - ETA: 0s
31/32 [============================>.] - ETA: 0s
32/32 [==============================] - 0s 7ms/step
1/1 [==============================] - ETA: 0s
1/1 [==============================] - 0s 25ms/step
1/32 [..............................] - ETA: 0s
10/32 [========>.....................] - ETA: 0s
18/32 [===============>..............] - ETA: 0s
25/32 [======================>.......] - ETA: 0s
31/32 [============================>.] - ETA: 0s
32/32 [==============================] - 0s 7ms/step
1/32 [..............................] - ETA: 0s
9/32 [=======>......................] - ETA: 0s
17/32 [==============>...............] - ETA: 0s
25/32 [======================>.......] - ETA: 0s
32/32 [==============================] - 0s 7ms/step
1/32 [..............................] - ETA: 0s
9/32 [=======>......................] - ETA: 0s
16/32 [==============>...............] - ETA: 0s
23/32 [====================>.........] - ETA: 0s
31/32 [============================>.] - ETA: 0s
32/32 [==============================] - 0s 7ms/step
1/32 [..............................] - ETA: 0s
9/32 [=======>......................] - ETA: 0s
17/32 [==============>...............] - ETA: 0s
25/32 [======================>.......] - ETA: 0s
32/32 [==============================] - ETA: 0s
32/32 [==============================] - 0s 7ms/step
[ FAIL 0 | WARN 0 | SKIP 0 | PASS 13 ]
>
> proc.time()
user system elapsed
28.192 3.764 19.873
ttgsea.Rcheck/ttgsea-Ex.timings
| name | user | system | elapsed | |
| bi_gru | 3.432 | 0.688 | 6.083 | |
| bi_lstm | 0.234 | 0.012 | 0.245 | |
| fit_model | 23.417 | 2.342 | 15.205 | |
| metric_pearson_correlation | 0.019 | 0.008 | 0.027 | |
| plot_model | 0.254 | 0.029 | 0.274 | |
| predict_model | 24.543 | 3.416 | 14.207 | |
| sampling_generator | 0.011 | 0.001 | 0.012 | |
| text_token | 9.552 | 0.457 | 6.141 | |
| token_vector | 9.586 | 0.522 | 6.249 | |