| Back to Multiple platform build/check report for BioC 3.17 |
|
This page was generated on 2023-04-12 10:55:43 -0400 (Wed, 12 Apr 2023).
| Hostname | OS | Arch (*) | R version | Installed pkgs |
|---|---|---|---|---|
| nebbiolo1 | Linux (Ubuntu 22.04.1 LTS) | x86_64 | 4.3.0 alpha (2023-04-03 r84154) | 4547 |
| nebbiolo2 | Linux (Ubuntu 20.04.5 LTS) | x86_64 | R Under development (unstable) (2023-02-14 r83833) -- "Unsuffered Consequences" | 4333 |
| Click on any hostname to see more info about the system (e.g. compilers) (*) as reported by 'uname -p', except on Windows and Mac OS X | ||||
|
To the developers/maintainers of the transcriptR package: - Allow up to 24 hours (and sometimes 48 hours) for your latest push to git@git.bioconductor.org:packages/transcriptR.git to reflect on this report. See Troubleshooting Build Report for more information. - Use the following Renviron settings to reproduce errors and warnings. Note: If "R CMD check" recently failed on the Linux builder over a missing dependency, add the missing dependency to "Suggests" in your DESCRIPTION file. See the Renviron.bioc for details. |
| Package 2103/2207 | Hostname | OS / Arch | INSTALL | BUILD | CHECK | BUILD BIN | ||||||||
| transcriptR 1.27.0 (landing page) Armen R. Karapetyan
| nebbiolo1 | Linux (Ubuntu 22.04.1 LTS) / x86_64 | OK | OK | OK | |||||||||
| nebbiolo2 | Linux (Ubuntu 20.04.5 LTS) / x86_64 | OK | OK | OK | ||||||||||
| Package: transcriptR |
| Version: 1.27.0 |
| Command: /home/biocbuild/bbs-3.17-bioc/R/bin/R CMD check --install=check:transcriptR.install-out.txt --library=/home/biocbuild/bbs-3.17-bioc/R/site-library --timings transcriptR_1.27.0.tar.gz |
| StartedAt: 2023-04-12 09:58:56 -0400 (Wed, 12 Apr 2023) |
| EndedAt: 2023-04-12 10:06:48 -0400 (Wed, 12 Apr 2023) |
| EllapsedTime: 472.3 seconds |
| RetCode: 0 |
| Status: OK |
| CheckDir: transcriptR.Rcheck |
| Warnings: 0 |
##############################################################################
##############################################################################
###
### Running command:
###
### /home/biocbuild/bbs-3.17-bioc/R/bin/R CMD check --install=check:transcriptR.install-out.txt --library=/home/biocbuild/bbs-3.17-bioc/R/site-library --timings transcriptR_1.27.0.tar.gz
###
##############################################################################
##############################################################################
* using log directory ‘/home/biocbuild/bbs-3.17-bioc/meat/transcriptR.Rcheck’
* using R Under development (unstable) (2023-02-14 r83833)
* using platform: x86_64-pc-linux-gnu (64-bit)
* R was compiled by
gcc (Ubuntu 9.4.0-1ubuntu1~20.04.1) 9.4.0
GNU Fortran (Ubuntu 9.4.0-1ubuntu1~20.04.1) 9.4.0
* running under: Ubuntu 20.04.6 LTS
* using session charset: UTF-8
* checking for file ‘transcriptR/DESCRIPTION’ ... OK
* checking extension type ... Package
* this is package ‘transcriptR’ version ‘1.27.0’
* checking package namespace information ... OK
* checking package dependencies ... OK
* checking if this is a source package ... OK
* checking if there is a namespace ... OK
* checking for hidden files and directories ... OK
* checking for portable file names ... OK
* checking for sufficient/correct file permissions ... OK
* checking whether package ‘transcriptR’ can be installed ... OK
* checking installed package size ... OK
* checking package directory ... OK
* checking ‘build’ directory ... OK
* checking DESCRIPTION meta-information ... OK
* checking top-level files ... OK
* checking for left-over files ... OK
* checking index information ... OK
* checking package subdirectories ... OK
* checking R files for non-ASCII characters ... OK
* checking R files for syntax errors ... OK
* checking whether the package can be loaded ... OK
* checking whether the package can be loaded with stated dependencies ... OK
* checking whether the package can be unloaded cleanly ... OK
* checking whether the namespace can be loaded with stated dependencies ... OK
* checking whether the namespace can be unloaded cleanly ... OK
* checking loading without being on the library search path ... OK
* checking dependencies in R code ... OK
* checking S3 generic/method consistency ... OK
* checking replacement functions ... OK
* checking foreign function calls ... OK
* checking R code for possible problems ... OK
* checking Rd files ... OK
* checking Rd metadata ... OK
* checking Rd cross-references ... OK
* checking for missing documentation entries ... OK
* checking for code/documentation mismatches ... OK
* checking Rd \usage sections ... OK
* checking Rd contents ... OK
* checking for unstated dependencies in examples ... OK
* checking contents of ‘data’ directory ... OK
* checking data for non-ASCII characters ... OK
* checking data for ASCII and uncompressed saves ... OK
* checking files in ‘vignettes’ ... OK
* checking examples ... OK
Examples with CPU (user + system) or elapsed time > 5s
user system elapsed
breakTranscriptsByPeaks-methods 6.152 0.559 6.711
* checking for unstated dependencies in ‘tests’ ... OK
* checking tests ...
Running ‘testthat.R’
OK
* checking for unstated dependencies in vignettes ... OK
* checking package vignettes in ‘inst/doc’ ... OK
* checking running R code from vignettes ...
‘transcriptR.Rmd’ using ‘UTF-8’... OK
NONE
* checking re-building of vignette outputs ... OK
* checking PDF version of manual ... OK
* DONE
Status: OK
transcriptR.Rcheck/00install.out
############################################################################## ############################################################################## ### ### Running command: ### ### /home/biocbuild/bbs-3.17-bioc/R/bin/R CMD INSTALL transcriptR ### ############################################################################## ############################################################################## * installing to library ‘/home/biocbuild/bbs-3.17-bioc/R/site-library’ * installing *source* package ‘transcriptR’ ... ** using staged installation ** R ** data ** inst ** byte-compile and prepare package for lazy loading ** help *** installing help indices ** building package indices ** installing vignettes ** testing if installed package can be loaded from temporary location ** testing if installed package can be loaded from final location ** testing if installed package keeps a record of temporary installation path * DONE (transcriptR)
transcriptR.Rcheck/tests/testthat.Rout
R Under development (unstable) (2023-02-14 r83833) -- "Unsuffered Consequences"
Copyright (C) 2023 The R Foundation for Statistical Computing
Platform: x86_64-pc-linux-gnu (64-bit)
R is free software and comes with ABSOLUTELY NO WARRANTY.
You are welcome to redistribute it under certain conditions.
Type 'license()' or 'licence()' for distribution details.
R is a collaborative project with many contributors.
Type 'contributors()' for more information and
'citation()' on how to cite R or R packages in publications.
Type 'demo()' for some demos, 'help()' for on-line help, or
'help.start()' for an HTML browser interface to help.
Type 'q()' to quit R.
> library(testthat)
> library(transcriptR)
>
> test_check("transcriptR")
[ FAIL 0 | WARN 0 | SKIP 0 | PASS 87 ]
>
> proc.time()
user system elapsed
57.447 3.115 60.560
transcriptR.Rcheck/transcriptR-Ex.timings
| name | user | system | elapsed | |
| addFeature-methods | 0.09 | 0.00 | 0.09 | |
| annotateTranscripts-methods | 3.289 | 0.412 | 3.701 | |
| breakTranscriptsByPeaks-methods | 6.152 | 0.559 | 6.711 | |
| constructCDS | 0.003 | 0.000 | 0.003 | |
| constructTDS | 0.210 | 0.016 | 0.226 | |
| detectTranscripts-methods | 1.097 | 0.048 | 1.145 | |
| estimateBackground-methods | 0.389 | 0.000 | 0.389 | |
| estimateGapDistance-methods | 0.896 | 0.048 | 0.944 | |
| exportCoverage-methods | 0.214 | 0.003 | 0.218 | |
| getConfusionMatrix-methods | 0.002 | 0.000 | 0.002 | |
| getGenomicAnnot-methods | 0.003 | 0.000 | 0.003 | |
| getPeaks-methods | 0.022 | 0.000 | 0.022 | |
| getPredictorSignificance-methods | 0.002 | 0.000 | 0.002 | |
| getProbTreshold-methods | 0.002 | 0.000 | 0.002 | |
| getQuadProb-methods | 1.256 | 0.151 | 1.408 | |
| getTestedGapDistances-methods | 0.218 | 0.009 | 0.226 | |
| getTranscripts-methods | 0.213 | 0.012 | 0.224 | |
| peaksToBed-methods | 3.212 | 0.216 | 3.428 | |
| plotErrorRate-methods | 0.859 | 0.020 | 0.879 | |
| plotFeatures-methods | 1.871 | 0.028 | 1.898 | |
| plotGenomicAnnot-methods | 0.352 | 0.024 | 0.376 | |
| plotROC-methods | 0.569 | 0.008 | 0.576 | |
| predictStrand-methods | 4.438 | 0.279 | 4.718 | |
| predictTssOverlap-methods | 0.583 | 0.025 | 0.607 | |
| show | 0.217 | 0.004 | 0.220 | |
| transcriptsToBed-methods | 1.163 | 0.027 | 1.190 | |