| Back to Multiple platform build/check report for BioC 3.17 |
|
This page was generated on 2023-04-12 10:55:32 -0400 (Wed, 12 Apr 2023).
| Hostname | OS | Arch (*) | R version | Installed pkgs |
|---|---|---|---|---|
| nebbiolo1 | Linux (Ubuntu 22.04.1 LTS) | x86_64 | 4.3.0 alpha (2023-04-03 r84154) | 4547 |
| nebbiolo2 | Linux (Ubuntu 20.04.5 LTS) | x86_64 | R Under development (unstable) (2023-02-14 r83833) -- "Unsuffered Consequences" | 4333 |
| Click on any hostname to see more info about the system (e.g. compilers) (*) as reported by 'uname -p', except on Windows and Mac OS X | ||||
|
To the developers/maintainers of the tigre package: - Allow up to 24 hours (and sometimes 48 hours) for your latest push to git@git.bioconductor.org:packages/tigre.git to reflect on this report. See Troubleshooting Build Report for more information. - Use the following Renviron settings to reproduce errors and warnings. Note: If "R CMD check" recently failed on the Linux builder over a missing dependency, add the missing dependency to "Suggests" in your DESCRIPTION file. See the Renviron.bioc for details. |
| Package 2073/2207 | Hostname | OS / Arch | INSTALL | BUILD | CHECK | BUILD BIN | ||||||||
| tigre 1.53.0 (landing page) Antti Honkela
| nebbiolo1 | Linux (Ubuntu 22.04.1 LTS) / x86_64 | OK | OK | OK | |||||||||
| nebbiolo2 | Linux (Ubuntu 20.04.5 LTS) / x86_64 | OK | OK | OK | ||||||||||
| Package: tigre |
| Version: 1.53.0 |
| Command: /home/biocbuild/bbs-3.17-bioc/R/bin/R CMD check --install=check:tigre.install-out.txt --library=/home/biocbuild/bbs-3.17-bioc/R/site-library --timings tigre_1.53.0.tar.gz |
| StartedAt: 2023-04-12 00:06:42 -0400 (Wed, 12 Apr 2023) |
| EndedAt: 2023-04-12 00:14:57 -0400 (Wed, 12 Apr 2023) |
| EllapsedTime: 494.8 seconds |
| RetCode: 0 |
| Status: OK |
| CheckDir: tigre.Rcheck |
| Warnings: 0 |
##############################################################################
##############################################################################
###
### Running command:
###
### /home/biocbuild/bbs-3.17-bioc/R/bin/R CMD check --install=check:tigre.install-out.txt --library=/home/biocbuild/bbs-3.17-bioc/R/site-library --timings tigre_1.53.0.tar.gz
###
##############################################################################
##############################################################################
* using log directory ‘/home/biocbuild/bbs-3.17-bioc/meat/tigre.Rcheck’
* using R version 4.3.0 alpha (2023-04-03 r84154)
* using platform: x86_64-pc-linux-gnu (64-bit)
* R was compiled by
gcc (Ubuntu 11.3.0-1ubuntu1~22.04) 11.3.0
GNU Fortran (Ubuntu 11.3.0-1ubuntu1~22.04) 11.3.0
* running under: Ubuntu 22.04.2 LTS
* using session charset: UTF-8
* checking for file ‘tigre/DESCRIPTION’ ... OK
* this is package ‘tigre’ version ‘1.53.0’
* checking package namespace information ... OK
* checking package dependencies ... OK
* checking if this is a source package ... OK
* checking if there is a namespace ... OK
* checking for hidden files and directories ... OK
* checking for portable file names ... OK
* checking for sufficient/correct file permissions ... OK
* checking whether package ‘tigre’ can be installed ... OK
* used C compiler: ‘gcc (Ubuntu 11.3.0-1ubuntu1~22.04) 11.3.0’
* checking installed package size ... OK
* checking package directory ... OK
* checking ‘build’ directory ... OK
* checking DESCRIPTION meta-information ... OK
* checking top-level files ... OK
* checking for left-over files ... OK
* checking index information ... OK
* checking package subdirectories ... OK
* checking R files for non-ASCII characters ... OK
* checking R files for syntax errors ... OK
* checking whether the package can be loaded ... OK
* checking whether the package can be loaded with stated dependencies ... OK
* checking whether the package can be unloaded cleanly ... OK
* checking whether the namespace can be loaded with stated dependencies ... OK
* checking whether the namespace can be unloaded cleanly ... OK
* checking loading without being on the library search path ... OK
* checking dependencies in R code ... OK
* checking S3 generic/method consistency ... OK
* checking replacement functions ... OK
* checking foreign function calls ... OK
* checking R code for possible problems ... OK
* checking Rd files ... OK
* checking Rd metadata ... OK
* checking Rd cross-references ... OK
* checking for missing documentation entries ... OK
* checking for code/documentation mismatches ... OK
* checking Rd \usage sections ... OK
* checking Rd contents ... OK
* checking for unstated dependencies in examples ... OK
* checking contents of ‘data’ directory ... OK
* checking data for non-ASCII characters ... OK
* checking data for ASCII and uncompressed saves ... OK
* checking line endings in C/C++/Fortran sources/headers ... OK
* checking compiled code ... NOTE
Note: information on .o files is not available
* checking files in ‘vignettes’ ... OK
* checking examples ... OK
* checking for unstated dependencies in vignettes ... OK
* checking package vignettes in ‘inst/doc’ ... OK
* checking running R code from vignettes ...
‘tigre.Rnw’... OK
OK
* checking re-building of vignette outputs ... OK
* checking PDF version of manual ... OK
* DONE
Status: 1 NOTE
See
‘/home/biocbuild/bbs-3.17-bioc/meat/tigre.Rcheck/00check.log’
for details.
tigre.Rcheck/00install.out
############################################################################## ############################################################################## ### ### Running command: ### ### /home/biocbuild/bbs-3.17-bioc/R/bin/R CMD INSTALL tigre ### ############################################################################## ############################################################################## * installing to library ‘/home/biocbuild/bbs-3.17-bioc/R/site-library’ * installing *source* package ‘tigre’ ... ** using staged installation ** libs using C compiler: ‘gcc (Ubuntu 11.3.0-1ubuntu1~22.04) 11.3.0’ gcc -I"/home/biocbuild/bbs-3.17-bioc/R/include" -DNDEBUG -I/usr/local/include -fpic -g -O2 -Wall -c miscCFunctions.c -o miscCFunctions.o gcc -shared -L/home/biocbuild/bbs-3.17-bioc/R/lib -L/usr/local/lib -o tigre.so miscCFunctions.o -L/home/biocbuild/bbs-3.17-bioc/R/lib -lR installing to /home/biocbuild/bbs-3.17-bioc/R/site-library/00LOCK-tigre/00new/tigre/libs ** R ** data ** inst ** byte-compile and prepare package for lazy loading ** help *** installing help indices ** building package indices ** installing vignettes ** testing if installed package can be loaded from temporary location ** checking absolute paths in shared objects and dynamic libraries ** testing if installed package can be loaded from final location ** testing if installed package keeps a record of temporary installation path * DONE (tigre)
tigre.Rcheck/tigre-Ex.timings
| name | user | system | elapsed | |
| ExpressionTimeSeries-class | 0.001 | 0.000 | 0.002 | |
| GPLearn | 1.107 | 0.024 | 1.148 | |
| GPModel-class | 0.001 | 0.000 | 0.001 | |
| GPPlot | 0.001 | 0.000 | 0.001 | |
| GPRankTargets | 0 | 0 | 0 | |
| SCGoptim | 0 | 0 | 0 | |
| expTransform | 0.001 | 0.000 | 0.001 | |
| export | 0.001 | 0.000 | 0.001 | |
| generateModels | 0 | 0 | 0 | |
| gpsimCreate | 0 | 0 | 0 | |
| kernCompute | 0.001 | 0.000 | 0.001 | |
| kernCreate | 0.006 | 0.000 | 0.006 | |
| kernDiagGradX | 0.001 | 0.000 | 0.001 | |
| kernGradient | 0.001 | 0.000 | 0.001 | |
| lnDiffErfs | 0 | 0 | 0 | |
| modelDisplay | 0.060 | 0.011 | 0.071 | |
| modelExpandParam | 0.000 | 0.001 | 0.000 | |
| modelExtractParam | 0.072 | 0.018 | 0.090 | |
| modelGradient | 0.089 | 0.004 | 0.093 | |
| modelTieParam | 0.005 | 0.001 | 0.005 | |
| optimiDefaultConstraint | 0.000 | 0.001 | 0.000 | |
| plotTimeseries | 0.102 | 0.002 | 0.104 | |
| processData | 4.252 | 0.260 | 4.512 | |
| scoreList-class | 0.001 | 0.000 | 0.001 | |
| tigre-package | 0 | 0 | 0 | |