| Back to Multiple platform build/check report for BioC 3.17 |
|
This page was generated on 2023-04-12 10:55:42 -0400 (Wed, 12 Apr 2023).
| Hostname | OS | Arch (*) | R version | Installed pkgs |
|---|---|---|---|---|
| nebbiolo1 | Linux (Ubuntu 22.04.1 LTS) | x86_64 | 4.3.0 alpha (2023-04-03 r84154) | 4547 |
| nebbiolo2 | Linux (Ubuntu 20.04.5 LTS) | x86_64 | R Under development (unstable) (2023-02-14 r83833) -- "Unsuffered Consequences" | 4333 |
| Click on any hostname to see more info about the system (e.g. compilers) (*) as reported by 'uname -p', except on Windows and Mac OS X | ||||
|
To the developers/maintainers of the structToolbox package: - Allow up to 24 hours (and sometimes 48 hours) for your latest push to git@git.bioconductor.org:packages/structToolbox.git to reflect on this report. See Troubleshooting Build Report for more information. - Use the following Renviron settings to reproduce errors and warnings. Note: If "R CMD check" recently failed on the Linux builder over a missing dependency, add the missing dependency to "Suggests" in your DESCRIPTION file. See the Renviron.bioc for details. |
| Package 2013/2207 | Hostname | OS / Arch | INSTALL | BUILD | CHECK | BUILD BIN | ||||||||
| structToolbox 1.11.0 (landing page) Gavin Rhys Lloyd
| nebbiolo1 | Linux (Ubuntu 22.04.1 LTS) / x86_64 | OK | OK | OK | |||||||||
| nebbiolo2 | Linux (Ubuntu 20.04.5 LTS) / x86_64 | OK | OK | OK | ||||||||||
| Package: structToolbox |
| Version: 1.11.0 |
| Command: /home/biocbuild/bbs-3.17-bioc/R/bin/R CMD check --install=check:structToolbox.install-out.txt --library=/home/biocbuild/bbs-3.17-bioc/R/site-library --timings structToolbox_1.11.0.tar.gz |
| StartedAt: 2023-04-12 09:46:06 -0400 (Wed, 12 Apr 2023) |
| EndedAt: 2023-04-12 10:05:50 -0400 (Wed, 12 Apr 2023) |
| EllapsedTime: 1183.4 seconds |
| RetCode: 0 |
| Status: OK |
| CheckDir: structToolbox.Rcheck |
| Warnings: 0 |
##############################################################################
##############################################################################
###
### Running command:
###
### /home/biocbuild/bbs-3.17-bioc/R/bin/R CMD check --install=check:structToolbox.install-out.txt --library=/home/biocbuild/bbs-3.17-bioc/R/site-library --timings structToolbox_1.11.0.tar.gz
###
##############################################################################
##############################################################################
* using log directory ‘/home/biocbuild/bbs-3.17-bioc/meat/structToolbox.Rcheck’
* using R Under development (unstable) (2023-02-14 r83833)
* using platform: x86_64-pc-linux-gnu (64-bit)
* R was compiled by
gcc (Ubuntu 9.4.0-1ubuntu1~20.04.1) 9.4.0
GNU Fortran (Ubuntu 9.4.0-1ubuntu1~20.04.1) 9.4.0
* running under: Ubuntu 20.04.6 LTS
* using session charset: UTF-8
* checking for file ‘structToolbox/DESCRIPTION’ ... OK
* checking extension type ... Package
* this is package ‘structToolbox’ version ‘1.11.0’
* package encoding: UTF-8
* checking package namespace information ... OK
* checking package dependencies ... OK
* checking if this is a source package ... OK
* checking if there is a namespace ... OK
* checking for hidden files and directories ... OK
* checking for portable file names ... OK
* checking for sufficient/correct file permissions ... OK
* checking whether package ‘structToolbox’ can be installed ... OK
* checking installed package size ... OK
* checking package directory ... OK
* checking ‘build’ directory ... OK
* checking DESCRIPTION meta-information ... OK
* checking top-level files ... OK
* checking for left-over files ... OK
* checking index information ... OK
* checking package subdirectories ... OK
* checking R files for non-ASCII characters ... OK
* checking R files for syntax errors ... OK
* checking whether the package can be loaded ... OK
* checking whether the package can be loaded with stated dependencies ... OK
* checking whether the package can be unloaded cleanly ... OK
* checking whether the namespace can be loaded with stated dependencies ... OK
* checking whether the namespace can be unloaded cleanly ... OK
* checking loading without being on the library search path ... OK
* checking dependencies in R code ... OK
* checking S3 generic/method consistency ... OK
* checking replacement functions ... OK
* checking foreign function calls ... OK
* checking R code for possible problems ... OK
* checking Rd files ... OK
* checking Rd metadata ... OK
* checking Rd cross-references ... OK
* checking for missing documentation entries ... OK
* checking for code/documentation mismatches ... OK
* checking Rd \usage sections ... OK
* checking Rd contents ... OK
* checking for unstated dependencies in examples ... OK
* checking R/sysdata.rda ... OK
* checking files in ‘vignettes’ ... OK
* checking examples ... OK
Examples with CPU (user + system) or elapsed time > 5s
user system elapsed
fold_change_int 18.939 0.032 18.971
fold_change 13.402 0.119 13.522
fisher_exact 12.392 0.040 12.432
forward_selection_by_rank 7.694 0.112 7.806
fs_line 7.188 0.008 7.197
compare_dist 5.725 0.140 5.865
* checking for unstated dependencies in ‘tests’ ... OK
* checking tests ...
Running ‘testthat.R’
OK
* checking for unstated dependencies in vignettes ... OK
* checking package vignettes in ‘inst/doc’ ... OK
* checking running R code from vignettes ...
‘data_analysis_omics_using_the_structtoolbox.Rmd’ using ‘UTF-8’... OK
NONE
* checking re-building of vignette outputs ... OK
* checking PDF version of manual ... OK
* DONE
Status: OK
structToolbox.Rcheck/00install.out
############################################################################## ############################################################################## ### ### Running command: ### ### /home/biocbuild/bbs-3.17-bioc/R/bin/R CMD INSTALL structToolbox ### ############################################################################## ############################################################################## * installing to library ‘/home/biocbuild/bbs-3.17-bioc/R/site-library’ * installing *source* package ‘structToolbox’ ... ** using staged installation ** R ** inst ** byte-compile and prepare package for lazy loading ** help *** installing help indices ** building package indices ** installing vignettes ** testing if installed package can be loaded from temporary location ** testing if installed package can be loaded from final location ** testing if installed package keeps a record of temporary installation path * DONE (structToolbox)
structToolbox.Rcheck/tests/testthat.Rout
R Under development (unstable) (2023-02-14 r83833) -- "Unsuffered Consequences"
Copyright (C) 2023 The R Foundation for Statistical Computing
Platform: x86_64-pc-linux-gnu (64-bit)
R is free software and comes with ABSOLUTELY NO WARRANTY.
You are welcome to redistribute it under certain conditions.
Type 'license()' or 'licence()' for distribution details.
R is a collaborative project with many contributors.
Type 'contributors()' for more information and
'citation()' on how to cite R or R packages in publications.
Type 'demo()' for some demos, 'help()' for on-line help, or
'help.start()' for an HTML browser interface to help.
Type 'q()' to quit R.
> library(testthat)
> library(ggplot2)
> library(structToolbox)
Loading required package: struct
>
> test_check("structToolbox")
[ FAIL 0 | WARN 7 | SKIP 0 | PASS 124 ]
[ FAIL 0 | WARN 7 | SKIP 0 | PASS 124 ]
>
> proc.time()
user system elapsed
170.789 1.608 172.384
structToolbox.Rcheck/structToolbox-Ex.timings
| name | user | system | elapsed | |
| ANOVA | 0.239 | 0.000 | 0.240 | |
| AUC | 3.339 | 0.091 | 3.431 | |
| DFA | 0.200 | 0.001 | 0.201 | |
| DatasetExperiment_boxplot | 0.917 | 0.028 | 0.946 | |
| DatasetExperiment_dist | 2.737 | 0.007 | 2.745 | |
| DatasetExperiment_factor_boxplot | 0.211 | 0.000 | 0.211 | |
| DatasetExperiment_heatmap | 0.303 | 0.003 | 0.306 | |
| HCA | 0.064 | 0.001 | 0.064 | |
| HSD | 0.489 | 0.011 | 0.507 | |
| HSDEM | 0.356 | 0.004 | 0.360 | |
| MTBLS79_DatasetExperiment | 0.001 | 0.001 | 0.001 | |
| PCA | 0.004 | 0.000 | 0.005 | |
| PLSDA | 0.015 | 0.000 | 0.015 | |
| PLSR | 0.004 | 0.000 | 0.005 | |
| SVM | 0.011 | 0.000 | 0.011 | |
| as_data_frame | 0.131 | 0.000 | 0.132 | |
| autoscale | 0.074 | 0.000 | 0.074 | |
| balanced_accuracy | 1.946 | 0.003 | 1.950 | |
| blank_filter | 0.393 | 0.015 | 0.410 | |
| blank_filter_hist | 0.001 | 0.000 | 0.001 | |
| bootstrap | 0.007 | 0.000 | 0.007 | |
| calculate | 0.006 | 0.000 | 0.006 | |
| chart_plot | 0.034 | 0.000 | 0.035 | |
| classical_lsq | 0.32 | 0.00 | 0.32 | |
| compare_dist | 5.725 | 0.140 | 5.865 | |
| confounders_clsq | 3.868 | 0.087 | 3.955 | |
| confounders_lsq_barchart | 3.835 | 0.024 | 3.859 | |
| confounders_lsq_boxplot | 3.546 | 0.008 | 3.554 | |
| constant_sum_norm | 0.006 | 0.000 | 0.006 | |
| corr_coef | 0.305 | 0.000 | 0.305 | |
| dfa_scores_plot | 0.793 | 0.000 | 0.794 | |
| dratio_filter | 0.583 | 0.012 | 0.595 | |
| equal_split | 0.132 | 0.000 | 0.132 | |
| feature_boxplot | 0.017 | 0.000 | 0.018 | |
| feature_profile | 0.465 | 0.004 | 0.469 | |
| feature_profile_array | 0.738 | 0.028 | 0.767 | |
| filter_by_name | 0.030 | 0.000 | 0.031 | |
| filter_na_count | 1.25 | 0.00 | 1.25 | |
| filter_smeta | 0.055 | 0.000 | 0.055 | |
| fisher_exact | 12.392 | 0.040 | 12.432 | |
| fold_change | 13.402 | 0.119 | 13.522 | |
| fold_change_int | 18.939 | 0.032 | 18.971 | |
| fold_change_plot | 0.006 | 0.000 | 0.006 | |
| forward_selection_by_rank | 7.694 | 0.112 | 7.806 | |
| fs_line | 7.188 | 0.008 | 7.197 | |
| glog_opt_plot | 0.594 | 0.000 | 0.594 | |
| glog_transform | 0.386 | 0.000 | 0.386 | |
| grid_search_1d | 3.864 | 0.008 | 3.872 | |
| gs_line | 0.001 | 0.000 | 0.001 | |
| hca_dendrogram | 0.001 | 0.000 | 0.001 | |
| kfold_xval | 3.533 | 0.004 | 3.537 | |
| kfoldxcv_grid | 4.215 | 0.004 | 4.219 | |
| kfoldxcv_metric | 0.001 | 0.000 | 0.001 | |
| knn_impute | 0.007 | 0.000 | 0.007 | |
| kw_p_hist | 0.000 | 0.000 | 0.001 | |
| kw_rank_sum | 0.077 | 0.000 | 0.077 | |
| linear_model | 0.025 | 0.000 | 0.025 | |
| log_transform | 0.004 | 0.000 | 0.005 | |
| mean_centre | 0.001 | 0.000 | 0.002 | |
| mean_of_medians | 0.116 | 0.003 | 0.120 | |
| mixed_effect | 0.155 | 0.000 | 0.155 | |
| model_apply | 0.024 | 0.000 | 0.024 | |
| model_predict | 0.075 | 0.000 | 0.075 | |
| model_reverse | 0.044 | 0.000 | 0.044 | |
| model_train | 0.055 | 0.000 | 0.055 | |
| mv_boxplot | 0.265 | 0.000 | 0.266 | |
| mv_feature_filter | 0.104 | 0.000 | 0.104 | |
| mv_feature_filter_hist | 0.001 | 0.000 | 0.001 | |
| mv_histogram | 0.255 | 0.000 | 0.256 | |
| mv_sample_filter | 0.005 | 0.000 | 0.005 | |
| mv_sample_filter_hist | 0 | 0 | 0 | |
| nroot_transform | 0.004 | 0.000 | 0.004 | |
| ontology_cache | 0.000 | 0.000 | 0.001 | |
| pairs_filter | 0.006 | 0.000 | 0.005 | |
| pareto_scale | 0.055 | 0.000 | 0.055 | |
| pca_biplot | 0.007 | 0.000 | 0.008 | |
| pca_correlation_plot | 0.004 | 0.000 | 0.003 | |
| pca_dstat_plot | 0.005 | 0.000 | 0.005 | |
| pca_loadings_plot | 0.004 | 0.000 | 0.005 | |
| pca_scores_plot | 0.62 | 0.00 | 0.62 | |
| pca_scree_plot | 0.001 | 0.000 | 0.001 | |
| permutation_test | 0.005 | 0.000 | 0.006 | |
| permutation_test_plot | 0.003 | 0.000 | 0.003 | |
| permute_sample_order | 0.004 | 0.000 | 0.004 | |
| pls_regcoeff_plot | 0.340 | 0.000 | 0.339 | |
| pls_scores_plot | 0.687 | 0.004 | 0.691 | |
| pls_vip_plot | 0.372 | 0.000 | 0.372 | |
| plsda_feature_importance_plot | 0.584 | 0.000 | 0.584 | |
| plsda_predicted_plot | 0.503 | 0.000 | 0.504 | |
| plsda_roc_plot | 1.033 | 0.000 | 1.033 | |
| plsr_cook_dist | 0.005 | 0.000 | 0.005 | |
| plsr_prediction_plot | 0.004 | 0.000 | 0.004 | |
| plsr_qq_plot | 0.004 | 0.000 | 0.004 | |
| plsr_residual_hist | 0.004 | 0.000 | 0.003 | |
| pqn_norm | 0.358 | 0.000 | 0.358 | |
| pqn_norm_hist | 0.001 | 0.000 | 0.001 | |
| prop_na | 0.006 | 0.000 | 0.006 | |
| r_squared | 0.001 | 0.000 | 0.001 | |
| resample | 0.008 | 0.000 | 0.008 | |
| resample_chart | 0.003 | 0.000 | 0.004 | |
| rsd_filter | 0.004 | 0.003 | 0.008 | |
| rsd_filter_hist | 0.001 | 0.000 | 0.001 | |
| run | 0.032 | 0.000 | 0.032 | |
| sb_corr | 0.015 | 0.000 | 0.016 | |
| scatter_chart | 0.394 | 0.000 | 0.394 | |
| split_data | 0.004 | 0.000 | 0.004 | |
| stratified_split | 0.114 | 0.004 | 0.118 | |
| svm_plot_2d | 0.693 | 0.032 | 0.725 | |
| tSNE | 0.012 | 0.000 | 0.012 | |
| tSNE_scatter | 0.004 | 0.000 | 0.004 | |
| tic_chart | 0.236 | 0.012 | 0.247 | |
| ttest | 0.01 | 0.00 | 0.01 | |
| vec_norm | 0.001 | 0.000 | 0.001 | |
| wilcox_p_hist | 0.001 | 0.000 | 0.001 | |
| wilcox_test | 0.009 | 0.000 | 0.009 | |