| Back to Multiple platform build/check report for BioC 3.17 |
|
This page was generated on 2023-04-12 10:55:32 -0400 (Wed, 12 Apr 2023).
| Hostname | OS | Arch (*) | R version | Installed pkgs |
|---|---|---|---|---|
| nebbiolo1 | Linux (Ubuntu 22.04.1 LTS) | x86_64 | 4.3.0 alpha (2023-04-03 r84154) | 4547 |
| nebbiolo2 | Linux (Ubuntu 20.04.5 LTS) | x86_64 | R Under development (unstable) (2023-02-14 r83833) -- "Unsuffered Consequences" | 4333 |
| Click on any hostname to see more info about the system (e.g. compilers) (*) as reported by 'uname -p', except on Windows and Mac OS X | ||||
|
To the developers/maintainers of the spiky package: - Allow up to 24 hours (and sometimes 48 hours) for your latest push to git@git.bioconductor.org:packages/spiky.git to reflect on this report. See Troubleshooting Build Report for more information. - Use the following Renviron settings to reproduce errors and warnings. Note: If "R CMD check" recently failed on the Linux builder over a missing dependency, add the missing dependency to "Suggests" in your DESCRIPTION file. See the Renviron.bioc for details. |
| Package 1969/2207 | Hostname | OS / Arch | INSTALL | BUILD | CHECK | BUILD BIN | ||||||||
| spiky 1.5.0 (landing page) Tim Triche
| nebbiolo1 | Linux (Ubuntu 22.04.1 LTS) / x86_64 | OK | OK | OK | |||||||||
| nebbiolo2 | Linux (Ubuntu 20.04.5 LTS) / x86_64 | OK | OK | OK | ||||||||||
| Package: spiky |
| Version: 1.5.0 |
| Command: /home/biocbuild/bbs-3.17-bioc/R/bin/R CMD check --install=check:spiky.install-out.txt --library=/home/biocbuild/bbs-3.17-bioc/R/site-library --timings spiky_1.5.0.tar.gz |
| StartedAt: 2023-04-11 23:49:23 -0400 (Tue, 11 Apr 2023) |
| EndedAt: 2023-04-11 23:55:14 -0400 (Tue, 11 Apr 2023) |
| EllapsedTime: 351.9 seconds |
| RetCode: 0 |
| Status: OK |
| CheckDir: spiky.Rcheck |
| Warnings: 0 |
##############################################################################
##############################################################################
###
### Running command:
###
### /home/biocbuild/bbs-3.17-bioc/R/bin/R CMD check --install=check:spiky.install-out.txt --library=/home/biocbuild/bbs-3.17-bioc/R/site-library --timings spiky_1.5.0.tar.gz
###
##############################################################################
##############################################################################
* using log directory ‘/home/biocbuild/bbs-3.17-bioc/meat/spiky.Rcheck’
* using R version 4.3.0 alpha (2023-04-03 r84154)
* using platform: x86_64-pc-linux-gnu (64-bit)
* R was compiled by
gcc (Ubuntu 11.3.0-1ubuntu1~22.04) 11.3.0
GNU Fortran (Ubuntu 11.3.0-1ubuntu1~22.04) 11.3.0
* running under: Ubuntu 22.04.2 LTS
* using session charset: UTF-8
* checking for file ‘spiky/DESCRIPTION’ ... OK
* checking extension type ... Package
* this is package ‘spiky’ version ‘1.5.0’
* package encoding: UTF-8
* checking package namespace information ... OK
* checking package dependencies ... OK
* checking if this is a source package ... OK
* checking if there is a namespace ... OK
* checking for hidden files and directories ... OK
* checking for portable file names ... OK
* checking for sufficient/correct file permissions ... OK
* checking whether package ‘spiky’ can be installed ... OK
* checking installed package size ... NOTE
installed size is 16.2Mb
sub-directories of 1Mb or more:
data 2.9Mb
extdata 12.9Mb
* checking package directory ... OK
* checking ‘build’ directory ... OK
* checking DESCRIPTION meta-information ... OK
* checking top-level files ... OK
* checking for left-over files ... OK
* checking index information ... OK
* checking package subdirectories ... OK
* checking R files for non-ASCII characters ... OK
* checking R files for syntax errors ... OK
* checking whether the package can be loaded ... OK
* checking whether the package can be loaded with stated dependencies ... OK
* checking whether the package can be unloaded cleanly ... OK
* checking whether the namespace can be loaded with stated dependencies ... OK
* checking whether the namespace can be unloaded cleanly ... OK
* checking loading without being on the library search path ... OK
* checking dependencies in R code ... OK
* checking S3 generic/method consistency ... OK
* checking replacement functions ... OK
* checking foreign function calls ... OK
* checking R code for possible problems ... NOTE
.toGRs: warning in grep("(chrom|seqnames|start|end)1", colnames(x), val
= TRUE): partial argument match of 'val' to 'value'
.toGRs: warning in grep("(chrom|seqnames|start|end)2", colnames(x), val
= TRUE): partial argument match of 'val' to 'value'
* checking Rd files ... OK
* checking Rd metadata ... OK
* checking Rd cross-references ... OK
* checking for missing documentation entries ... OK
* checking for code/documentation mismatches ... OK
* checking Rd \usage sections ... OK
* checking Rd contents ... OK
* checking for unstated dependencies in examples ... OK
* checking contents of ‘data’ directory ... OK
* checking data for non-ASCII characters ... OK
* checking LazyData ... OK
* checking data for ASCII and uncompressed saves ... OK
* checking files in ‘vignettes’ ... OK
* checking examples ... OK
Examples with CPU (user + system) or elapsed time > 5s
user system elapsed
scan_genomic_contigs 16.054 2.827 18.883
scan_genomic_bedpe 14.457 0.691 15.151
bin_pmol 4.326 2.012 6.528
model_bam_standards 5.815 0.348 6.163
* checking for unstated dependencies in vignettes ... OK
* checking package vignettes in ‘inst/doc’ ... OK
* checking running R code from vignettes ...
‘spiky_vignette.Rmd’ using ‘UTF-8’... OK
NONE
* checking re-building of vignette outputs ... OK
* checking PDF version of manual ... OK
* DONE
Status: 2 NOTEs
See
‘/home/biocbuild/bbs-3.17-bioc/meat/spiky.Rcheck/00check.log’
for details.
spiky.Rcheck/00install.out
############################################################################## ############################################################################## ### ### Running command: ### ### /home/biocbuild/bbs-3.17-bioc/R/bin/R CMD INSTALL spiky ### ############################################################################## ############################################################################## * installing to library ‘/home/biocbuild/bbs-3.17-bioc/R/site-library’ * installing *source* package ‘spiky’ ... ** using staged installation ** R ** data *** moving datasets to lazyload DB ** inst ** byte-compile and prepare package for lazy loading ** help *** installing help indices ** building package indices ** installing vignettes ** testing if installed package can be loaded from temporary location ** testing if installed package can be loaded from final location ** testing if installed package keeps a record of temporary installation path * DONE (spiky)
spiky.Rcheck/spiky-Ex.timings
| name | user | system | elapsed | |
| add_frag_info | 0.129 | 0.028 | 0.158 | |
| bam_to_bins | 0.225 | 0.008 | 0.233 | |
| bin_pmol | 4.326 | 2.012 | 6.528 | |
| covg_to_df | 0.094 | 0.012 | 0.106 | |
| find_spike_contigs | 0.019 | 0.012 | 0.032 | |
| generate_spike_fasta | 0.109 | 0.037 | 0.146 | |
| get_base_name | 0.010 | 0.003 | 0.015 | |
| get_binned_coverage | 0.199 | 0.047 | 0.247 | |
| get_merged_gr | 0.055 | 0.007 | 0.064 | |
| get_spike_depth | 0.239 | 0.055 | 0.295 | |
| get_spiked_coverage | 0.211 | 0.028 | 0.239 | |
| kmax | 0.046 | 0.003 | 0.050 | |
| kmers | 0.035 | 0.001 | 0.035 | |
| methylation_specificity | 0.083 | 0.000 | 0.083 | |
| model_bam_standards | 5.815 | 0.348 | 6.163 | |
| model_glm_pmol | 0.059 | 0.000 | 0.059 | |
| predict_pmol | 2.081 | 1.227 | 3.308 | |
| process_spikes | 0.203 | 0.019 | 0.223 | |
| read_bedpe | 0 | 0 | 0 | |
| scan_genomic_bedpe | 14.457 | 0.691 | 15.151 | |
| scan_genomic_contigs | 16.054 | 2.827 | 18.883 | |
| scan_methylation_specificity | 0.027 | 0.003 | 0.031 | |
| scan_spike_bedpe | 3.629 | 0.220 | 3.851 | |
| scan_spike_contigs | 0.416 | 0.060 | 0.476 | |
| scan_spike_counts | 0.046 | 0.012 | 0.058 | |
| scan_spiked_bam | 0.412 | 0.040 | 0.452 | |
| seqinfo_from_header | 0.099 | 0.004 | 0.104 | |
| spike_bland_altman_plot | 0.096 | 0.008 | 0.103 | |
| spike_counts | 0.057 | 0.004 | 0.062 | |
| tile_bins | 0.035 | 0.004 | 0.040 | |