| Back to Multiple platform build/check report for BioC 3.17 |
|
This page was generated on 2023-04-12 10:55:42 -0400 (Wed, 12 Apr 2023).
| Hostname | OS | Arch (*) | R version | Installed pkgs |
|---|---|---|---|---|
| nebbiolo1 | Linux (Ubuntu 22.04.1 LTS) | x86_64 | 4.3.0 alpha (2023-04-03 r84154) | 4547 |
| nebbiolo2 | Linux (Ubuntu 20.04.5 LTS) | x86_64 | R Under development (unstable) (2023-02-14 r83833) -- "Unsuffered Consequences" | 4333 |
| Click on any hostname to see more info about the system (e.g. compilers) (*) as reported by 'uname -p', except on Windows and Mac OS X | ||||
|
To the developers/maintainers of the sparrow package: - Allow up to 24 hours (and sometimes 48 hours) for your latest push to git@git.bioconductor.org:packages/sparrow.git to reflect on this report. See Troubleshooting Build Report for more information. - Use the following Renviron settings to reproduce errors and warnings. Note: If "R CMD check" recently failed on the Linux builder over a missing dependency, add the missing dependency to "Suggests" in your DESCRIPTION file. See the Renviron.bioc for details. |
| Package 1944/2207 | Hostname | OS / Arch | INSTALL | BUILD | CHECK | BUILD BIN | ||||||||
| sparrow 1.5.0 (landing page) Steve Lianoglou
| nebbiolo1 | Linux (Ubuntu 22.04.1 LTS) / x86_64 | OK | OK | OK | |||||||||
| nebbiolo2 | Linux (Ubuntu 20.04.5 LTS) / x86_64 | OK | OK | OK | ||||||||||
| Package: sparrow |
| Version: 1.5.0 |
| Command: /home/biocbuild/bbs-3.17-bioc/R/bin/R CMD check --install=check:sparrow.install-out.txt --library=/home/biocbuild/bbs-3.17-bioc/R/site-library --timings sparrow_1.5.0.tar.gz |
| StartedAt: 2023-04-12 09:33:45 -0400 (Wed, 12 Apr 2023) |
| EndedAt: 2023-04-12 09:47:38 -0400 (Wed, 12 Apr 2023) |
| EllapsedTime: 832.1 seconds |
| RetCode: 0 |
| Status: OK |
| CheckDir: sparrow.Rcheck |
| Warnings: 0 |
##############################################################################
##############################################################################
###
### Running command:
###
### /home/biocbuild/bbs-3.17-bioc/R/bin/R CMD check --install=check:sparrow.install-out.txt --library=/home/biocbuild/bbs-3.17-bioc/R/site-library --timings sparrow_1.5.0.tar.gz
###
##############################################################################
##############################################################################
* using log directory ‘/home/biocbuild/bbs-3.17-bioc/meat/sparrow.Rcheck’
* using R Under development (unstable) (2023-02-14 r83833)
* using platform: x86_64-pc-linux-gnu (64-bit)
* R was compiled by
gcc (Ubuntu 9.4.0-1ubuntu1~20.04.1) 9.4.0
GNU Fortran (Ubuntu 9.4.0-1ubuntu1~20.04.1) 9.4.0
* running under: Ubuntu 20.04.6 LTS
* using session charset: UTF-8
* checking for file ‘sparrow/DESCRIPTION’ ... OK
* checking extension type ... Package
* this is package ‘sparrow’ version ‘1.5.0’
* package encoding: UTF-8
* checking package namespace information ... OK
* checking package dependencies ... OK
* checking if this is a source package ... OK
* checking if there is a namespace ... OK
* checking for hidden files and directories ... OK
* checking for portable file names ... OK
* checking for sufficient/correct file permissions ... OK
* checking whether package ‘sparrow’ can be installed ... OK
* checking installed package size ... OK
* checking package directory ... OK
* checking ‘build’ directory ... OK
* checking DESCRIPTION meta-information ... OK
* checking top-level files ... OK
* checking for left-over files ... OK
* checking index information ... OK
* checking package subdirectories ... OK
* checking R files for non-ASCII characters ... OK
* checking R files for syntax errors ... OK
* checking whether the package can be loaded ... OK
* checking whether the package can be loaded with stated dependencies ... OK
* checking whether the package can be unloaded cleanly ... OK
* checking whether the namespace can be loaded with stated dependencies ... OK
* checking whether the namespace can be unloaded cleanly ... OK
* checking loading without being on the library search path ... OK
* checking dependencies in R code ... OK
* checking S3 generic/method consistency ... OK
* checking replacement functions ... OK
* checking foreign function calls ... OK
* checking R code for possible problems ... NOTE
geneSetsStats: no visible binding for global variable ‘direction’
Undefined global functions or variables:
direction
* checking Rd files ... OK
* checking Rd metadata ... OK
* checking Rd cross-references ... OK
* checking for missing documentation entries ... OK
* checking for code/documentation mismatches ... OK
* checking Rd \usage sections ... OK
* checking Rd contents ... OK
* checking for unstated dependencies in examples ... OK
* checking line endings in Makefiles ... OK
* checking for GNU extensions in Makefiles ... OK
* checking include directives in Makefiles ... OK
* checking files in ‘vignettes’ ... OK
* checking examples ... OK
Examples with CPU (user + system) or elapsed time > 5s
user system elapsed
goseq 8.860 0.232 8.127
geneSetsStats 6.393 0.113 4.772
SparrowResult-utilities 5.776 0.168 5.028
seas 5.715 0.084 4.837
annotateGeneSetMembership 5.345 0.200 4.625
scoreSingleSamples 4.895 0.188 4.980
* checking for unstated dependencies in ‘tests’ ... OK
* checking tests ...
Running ‘testthat.R’
OK
* checking for unstated dependencies in vignettes ... OK
* checking package vignettes in ‘inst/doc’ ... OK
* checking running R code from vignettes ...
‘sparrow.Rmd’ using ‘UTF-8’... OK
NONE
* checking re-building of vignette outputs ... OK
* checking PDF version of manual ... OK
* DONE
Status: 1 NOTE
See
‘/home/biocbuild/bbs-3.17-bioc/meat/sparrow.Rcheck/00check.log’
for details.
sparrow.Rcheck/00install.out
############################################################################## ############################################################################## ### ### Running command: ### ### /home/biocbuild/bbs-3.17-bioc/R/bin/R CMD INSTALL sparrow ### ############################################################################## ############################################################################## * installing to library ‘/home/biocbuild/bbs-3.17-bioc/R/site-library’ * installing *source* package ‘sparrow’ ... ** using staged installation ** R ** inst ** byte-compile and prepare package for lazy loading ** help *** installing help indices *** copying figures ** building package indices ** installing vignettes ** testing if installed package can be loaded from temporary location ** testing if installed package can be loaded from final location ** testing if installed package keeps a record of temporary installation path * DONE (sparrow)
sparrow.Rcheck/tests/testthat.Rout
R Under development (unstable) (2023-02-14 r83833) -- "Unsuffered Consequences"
Copyright (C) 2023 The R Foundation for Statistical Computing
Platform: x86_64-pc-linux-gnu (64-bit)
R is free software and comes with ABSOLUTELY NO WARRANTY.
You are welcome to redistribute it under certain conditions.
Type 'license()' or 'licence()' for distribution details.
R is a collaborative project with many contributors.
Type 'contributors()' for more information and
'citation()' on how to cite R or R packages in publications.
Type 'demo()' for some demos, 'help()' for on-line help, or
'help.start()' for an HTML browser interface to help.
Type 'q()' to quit R.
> library("sparrow")
> library("testthat")
> library("data.table")
> library("dplyr")
Attaching package: 'dplyr'
The following objects are masked from 'package:data.table':
between, first, last
The following object is masked from 'package:testthat':
matches
The following object is masked from 'package:sparrow':
combine
The following objects are masked from 'package:stats':
filter, lag
The following objects are masked from 'package:base':
intersect, setdiff, setequal, union
>
> test_check("sparrow")
Attaching package: 'magrittr'
The following objects are masked from 'package:testthat':
equals, is_less_than, not
[1] "Calculating ranks..."
[1] "Calculating absolute values from ranks..."
[1] "Normalizing..."
[1] "Calculating ranks..."
[1] "Calculating absolute values from ranks..."
[1] "Normalizing..."
[1] "Calculating ranks..."
[1] "Calculating absolute values from ranks..."
[1] "Normalizing..."
[1] "Calculating ranks..."
[1] "Calculating absolute values from ranks..."
[1] "Normalizing..."
[1] "Calculating ranks..."
[1] "Calculating absolute values from ranks..."
[1] "Normalizing..."
[1] "Calculating ranks..."
[1] "Calculating absolute values from ranks..."
[1] "Normalizing..."
[1] "Calculating ranks..."
[1] "Calculating absolute values from ranks..."
[1] "Normalizing..."
[ FAIL 0 | WARN 0 | SKIP 1 | PASS 1495 ]
══ Skipped tests ═══════════════════════════════════════════════════════════════
• empty test (1)
[ FAIL 0 | WARN 0 | SKIP 1 | PASS 1495 ]
>
> ## Remove temporary files that were generated
> test.dir <- system.file('tests', package = "sparrow")
> pdfs <- dir(test.dir, "\\.pdf$", full.names=TRUE)
> if (length(pdfs)) {
+ unlink(pdfs)
+ }
>
>
> proc.time()
user system elapsed
372.970 20.927 343.297
sparrow.Rcheck/sparrow-Ex.timings
| name | user | system | elapsed | |
| GeneSetDb-class | 0.092 | 0.004 | 0.074 | |
| SparrowResult-utilities | 5.776 | 0.168 | 5.028 | |
| addGeneSetMetadata | 0.091 | 0.004 | 0.067 | |
| annotateGeneSetMembership | 5.345 | 0.200 | 4.625 | |
| calculateIndividualLogFC | 2.832 | 0.124 | 2.956 | |
| collectionMetadata | 0.106 | 0.000 | 0.078 | |
| combine-GeneSetDb-GeneSetDb-method | 0.143 | 0.012 | 0.102 | |
| combine-SparrowResult-SparrowResult-method | 0.127 | 0.020 | 0.145 | |
| conform | 0.456 | 0.016 | 0.446 | |
| conversion | 0.683 | 0.004 | 0.572 | |
| convertIdentifiers | 0.271 | 0.004 | 0.176 | |
| corplot | 0.090 | 0.004 | 0.093 | |
| eigenWeightedMean | 1.859 | 0.052 | 1.859 | |
| examples | 0.304 | 0.020 | 0.324 | |
| failWith | 0 | 0 | 0 | |
| featureIdMap | 0.447 | 0.000 | 0.420 | |
| featureIds | 0.473 | 0.000 | 0.436 | |
| geneSet | 0.105 | 0.000 | 0.071 | |
| geneSetCollectionURLfunction | 0.076 | 0.000 | 0.051 | |
| geneSetSummaryByGenes | 4.298 | 0.036 | 3.317 | |
| geneSets | 0.082 | 0.000 | 0.053 | |
| geneSetsStats | 6.393 | 0.113 | 4.772 | |
| getKeggCollection | 0 | 0 | 0 | |
| getMSigCollection | 0.001 | 0.000 | 0.000 | |
| getPantherCollection | 0 | 0 | 0 | |
| getReactomeCollection | 0 | 0 | 0 | |
| goseq | 8.860 | 0.232 | 8.127 | |
| gsdScore | 0.931 | 0.032 | 0.895 | |
| gskey | 0.003 | 0.000 | 0.003 | |
| hasGeneSet | 0.082 | 0.000 | 0.056 | |
| hasGeneSetCollection | 0.080 | 0.000 | 0.054 | |
| incidenceMatrix | 1.074 | 0.000 | 1.047 | |
| iplot | 1.175 | 0.032 | 1.158 | |
| is.active | 0.380 | 0.032 | 0.383 | |
| logFC | 4.187 | 0.036 | 3.293 | |
| mgheatmap | 0 | 0 | 0 | |
| mgheatmap2 | 0 | 0 | 0 | |
| msg | 0 | 0 | 0 | |
| ora | 0.267 | 0.014 | 0.275 | |
| p.matrix | 0.090 | 0.008 | 0.098 | |
| randomGeneSetDb | 0.088 | 0.004 | 0.087 | |
| renameCollections | 0.112 | 0.004 | 0.080 | |
| renameRows | 0.444 | 0.016 | 0.455 | |
| results | 0.115 | 0.000 | 0.115 | |
| scale_rows | 0.004 | 0.000 | 0.004 | |
| scoreSingleSamples | 4.895 | 0.188 | 4.980 | |
| seas | 5.715 | 0.084 | 4.837 | |
| sparrow_methods | 0.004 | 0.000 | 0.003 | |
| species_info | 0.005 | 0.000 | 0.006 | |
| subset.GeneSetDb | 0.085 | 0.008 | 0.066 | |
| subsetByFeatures | 0.197 | 0.004 | 0.147 | |
| validateInputs | 0.167 | 0.001 | 0.136 | |
| volcanoPlot | 1.851 | 0.031 | 1.883 | |
| volcanoStatsTable | 0.069 | 0.000 | 0.069 | |
| zScore | 0.849 | 0.023 | 0.822 | |