This page was generated on 2023-04-12 10:55:31 -0400 (Wed, 12 Apr 2023).
| Hostname | OS | Arch (*) | R version | Installed pkgs | 
|---|
| nebbiolo1 | Linux (Ubuntu 22.04.1 LTS) | x86_64 | 4.3.0 alpha (2023-04-03 r84154) | 4547 | 
| nebbiolo2 | Linux (Ubuntu 20.04.5 LTS) | x86_64 | R Under development (unstable) (2023-02-14 r83833) -- "Unsuffered Consequences" | 4333 | 
| Click on any hostname to see more info about the system (e.g. compilers)      (*) as reported by 'uname -p', except on Windows and Mac OS X | 
INSTALL results for singscore on nebbiolo1
| To the developers/maintainers of the singscore package: - Allow up to 24 hours (and sometimes 48 hours) for your latest push to git@git.bioconductor.org:packages/singscore.git to reflect on this report. See Troubleshooting Build Report for more information.
 
 - Use the following Renviron settings to reproduce errors and warnings.
 
 Note: If "R CMD check" recently failed on the Linux builder over a missing dependency, add the missing dependency to "Suggests" in your DESCRIPTION file. See the Renviron.bioc for details.
 | 
 
raw results
|  | singscore 1.19.1  (landing page) Malvika Kharbanda
 
 
| Snapshot Date: 2023-04-11 14:00:16 -0400 (Tue, 11 Apr 2023) |  | git_url: https://git.bioconductor.org/packages/singscore |  | git_branch: devel |  | git_last_commit: c57f71d |  | git_last_commit_date: 2023-02-20 22:12:44 -0400 (Mon, 20 Feb 2023) |  | nebbiolo1 | Linux (Ubuntu 22.04.1 LTS) / x86_64 | OK | OK | WARNINGS |  |  |  | 
|  | nebbiolo2 | Linux (Ubuntu 20.04.5 LTS) / x86_64 | OK | OK | OK |  |  |  | 
Summary
Command output