| Back to Multiple platform build/check report for BioC 3.17 |
|
This page was generated on 2023-04-12 10:55:31 -0400 (Wed, 12 Apr 2023).
| Hostname | OS | Arch (*) | R version | Installed pkgs |
|---|---|---|---|---|
| nebbiolo1 | Linux (Ubuntu 22.04.1 LTS) | x86_64 | 4.3.0 alpha (2023-04-03 r84154) | 4547 |
| nebbiolo2 | Linux (Ubuntu 20.04.5 LTS) | x86_64 | R Under development (unstable) (2023-02-14 r83833) -- "Unsuffered Consequences" | 4333 |
| Click on any hostname to see more info about the system (e.g. compilers) (*) as reported by 'uname -p', except on Windows and Mac OS X | ||||
|
To the developers/maintainers of the sesame package: - Allow up to 24 hours (and sometimes 48 hours) for your latest push to git@git.bioconductor.org:packages/sesame.git to reflect on this report. See Troubleshooting Build Report for more information. - Use the following Renviron settings to reproduce errors and warnings. Note: If "R CMD check" recently failed on the Linux builder over a missing dependency, add the missing dependency to "Suggests" in your DESCRIPTION file. See the Renviron.bioc for details. |
| Package 1877/2207 | Hostname | OS / Arch | INSTALL | BUILD | CHECK | BUILD BIN | ||||||||
| sesame 1.17.9 (landing page) Wanding Zhou
| nebbiolo1 | Linux (Ubuntu 22.04.1 LTS) / x86_64 | OK | OK | OK | |||||||||
| nebbiolo2 | Linux (Ubuntu 20.04.5 LTS) / x86_64 | OK | OK | OK | ||||||||||
| Package: sesame |
| Version: 1.17.9 |
| Command: /home/biocbuild/bbs-3.17-bioc/R/bin/R CMD check --install=check:sesame.install-out.txt --library=/home/biocbuild/bbs-3.17-bioc/R/site-library --timings sesame_1.17.9.tar.gz |
| StartedAt: 2023-04-11 23:31:51 -0400 (Tue, 11 Apr 2023) |
| EndedAt: 2023-04-11 23:52:55 -0400 (Tue, 11 Apr 2023) |
| EllapsedTime: 1264.2 seconds |
| RetCode: 0 |
| Status: OK |
| CheckDir: sesame.Rcheck |
| Warnings: 0 |
##############################################################################
##############################################################################
###
### Running command:
###
### /home/biocbuild/bbs-3.17-bioc/R/bin/R CMD check --install=check:sesame.install-out.txt --library=/home/biocbuild/bbs-3.17-bioc/R/site-library --timings sesame_1.17.9.tar.gz
###
##############################################################################
##############################################################################
* using log directory ‘/home/biocbuild/bbs-3.17-bioc/meat/sesame.Rcheck’
* using R version 4.3.0 alpha (2023-04-03 r84154)
* using platform: x86_64-pc-linux-gnu (64-bit)
* R was compiled by
gcc (Ubuntu 11.3.0-1ubuntu1~22.04) 11.3.0
GNU Fortran (Ubuntu 11.3.0-1ubuntu1~22.04) 11.3.0
* running under: Ubuntu 22.04.2 LTS
* using session charset: UTF-8
* checking for file ‘sesame/DESCRIPTION’ ... OK
* checking extension type ... Package
* this is package ‘sesame’ version ‘1.17.9’
* package encoding: UTF-8
* checking package namespace information ... OK
* checking package dependencies ... OK
* checking if this is a source package ... OK
* checking if there is a namespace ... OK
* checking for hidden files and directories ... OK
* checking for portable file names ... OK
* checking for sufficient/correct file permissions ... OK
* checking whether package ‘sesame’ can be installed ... OK
* checking installed package size ... OK
* checking package directory ... OK
* checking ‘build’ directory ... OK
* checking DESCRIPTION meta-information ... OK
* checking top-level files ... OK
* checking for left-over files ... OK
* checking index information ... OK
* checking package subdirectories ... OK
* checking R files for non-ASCII characters ... OK
* checking R files for syntax errors ... OK
* checking whether the package can be loaded ... OK
* checking whether the package can be loaded with stated dependencies ... OK
* checking whether the package can be unloaded cleanly ... OK
* checking whether the namespace can be loaded with stated dependencies ... OK
* checking whether the namespace can be unloaded cleanly ... OK
* checking loading without being on the library search path ... OK
* checking startup messages can be suppressed ... OK
* checking dependencies in R code ... OK
* checking S3 generic/method consistency ... OK
* checking replacement functions ... OK
* checking foreign function calls ... OK
* checking R code for possible problems ... OK
* checking Rd files ... OK
* checking Rd metadata ... OK
* checking Rd cross-references ... OK
* checking for missing documentation entries ... OK
* checking for code/documentation mismatches ... OK
* checking Rd \usage sections ... OK
* checking Rd contents ... OK
* checking for unstated dependencies in examples ... OK
* checking files in ‘vignettes’ ... OK
* checking examples ... OK
Examples with CPU (user + system) or elapsed time > 5s
user system elapsed
testEnrichmentGene 123.124 8.543 135.150
KYCG_plotMeta 24.576 1.465 26.592
KYCG_plotEnrichAll 20.747 2.202 24.158
sesameQC_calcStats 21.181 1.264 22.610
sesameQC_plotHeatSNPs 19.308 1.236 20.709
inferSpecies 16.492 1.520 18.348
ELBAR 16.386 1.160 17.714
matchDesign 16.252 0.845 17.260
KYCG_annoProbes 14.205 1.474 16.183
diffRefSet 14.096 1.272 15.704
compareMouseStrainReference 13.853 0.989 15.176
compareReference 12.708 1.243 14.287
visualizeGene 11.485 1.388 13.374
sesameQC_plotBar 11.912 0.708 13.045
testEnrichmentSEA 10.776 1.536 12.820
KYCG_buildGeneDBs 11.008 1.197 12.538
getRefSet 10.857 0.835 12.025
KYCG_plotMetaEnrichment 10.933 0.707 12.140
sesameQC_plotBetaByDesign 10.874 0.676 11.550
inferTissue 10.247 1.200 11.968
dbStats 9.185 1.236 10.762
DMR 9.020 0.832 10.186
getSexInfo 9.167 0.605 10.268
sdf_read_table 8.939 0.564 9.930
createUCSCtrack 8.270 0.708 9.316
DML 7.777 0.708 8.822
dyeBiasNL 7.766 0.679 8.613
testEnrichment 7.366 0.871 8.741
inferStrain 7.143 0.896 8.369
visualizeProbes 7.232 0.644 8.082
estimateLeukocyte 6.914 0.655 7.805
deidentify 6.400 0.896 7.781
dyeBiasCorrMostBalanced 6.346 0.444 7.128
KYCG_plotSetEnrichment 6.077 0.580 7.014
reIdentify 5.786 0.840 6.794
bisConversionControl 5.713 0.500 6.755
inferSex 5.474 0.652 6.604
checkLevels 4.562 0.701 5.432
inferSexKaryotypes 4.602 0.452 5.218
sesameQC_rankStats 4.235 0.451 5.025
* checking for unstated dependencies in ‘tests’ ... OK
* checking tests ...
Running ‘testthat.R’
OK
* checking for unstated dependencies in vignettes ... OK
* checking package vignettes in ‘inst/doc’ ... OK
* checking running R code from vignettes ...
‘KYCG.Rmd’ using ‘UTF-8’... OK
‘QC.Rmd’ using ‘UTF-8’... OK
‘inferences.Rmd’ using ‘UTF-8’... OK
‘modeling.Rmd’ using ‘UTF-8’... OK
‘nonhuman.Rmd’ using ‘UTF-8’... OK
‘sesame.Rmd’ using ‘UTF-8’... OK
NONE
* checking re-building of vignette outputs ... OK
* checking PDF version of manual ... OK
* DONE
Status: OK
sesame.Rcheck/00install.out
############################################################################## ############################################################################## ### ### Running command: ### ### /home/biocbuild/bbs-3.17-bioc/R/bin/R CMD INSTALL sesame ### ############################################################################## ############################################################################## * installing to library ‘/home/biocbuild/bbs-3.17-bioc/R/site-library’ * installing *source* package ‘sesame’ ... ** using staged installation ** R ** inst ** byte-compile and prepare package for lazy loading ** help *** installing help indices ** building package indices ** installing vignettes ** testing if installed package can be loaded from temporary location ** testing if installed package can be loaded from final location ** testing if installed package keeps a record of temporary installation path * DONE (sesame)
sesame.Rcheck/tests/testthat.Rout
R version 4.3.0 alpha (2023-04-03 r84154)
Copyright (C) 2023 The R Foundation for Statistical Computing
Platform: x86_64-pc-linux-gnu (64-bit)
R is free software and comes with ABSOLUTELY NO WARRANTY.
You are welcome to redistribute it under certain conditions.
Type 'license()' or 'licence()' for distribution details.
R is a collaborative project with many contributors.
Type 'contributors()' for more information and
'citation()' on how to cite R or R packages in publications.
Type 'demo()' for some demos, 'help()' for on-line help, or
'help.start()' for an HTML browser interface to help.
Type 'q()' to quit R.
> library(testthat)
> library(sesame)
Loading required package: sesameData
Loading required package: ExperimentHub
Loading required package: BiocGenerics
Attaching package: 'BiocGenerics'
The following objects are masked from 'package:stats':
IQR, mad, sd, var, xtabs
The following objects are masked from 'package:base':
Filter, Find, Map, Position, Reduce, anyDuplicated, aperm, append,
as.data.frame, basename, cbind, colnames, dirname, do.call,
duplicated, eval, evalq, get, grep, grepl, intersect, is.unsorted,
lapply, mapply, match, mget, order, paste, pmax, pmax.int, pmin,
pmin.int, rank, rbind, rownames, sapply, setdiff, sort, table,
tapply, union, unique, unsplit, which.max, which.min
Loading required package: AnnotationHub
Loading required package: BiocFileCache
Loading required package: dbplyr
Loading sesameData.
----------------------------------------------------------
| SEnsible Step-wise Analysis of DNA MEthylation (SeSAMe)
| --------------------------------------------------------
| Please cache auxiliary data by "sesameDataCache()".
| This needs to be done only once per SeSAMe installation.
----------------------------------------------------------
>
> test_check("sesame")
[ FAIL 0 | WARN 0 | SKIP 0 | PASS 1 ]
>
> proc.time()
user system elapsed
15.368 0.765 16.291
sesame.Rcheck/sesame-Ex.timings
| name | user | system | elapsed | |
| BetaValueToMValue | 0.000 | 0.000 | 0.001 | |
| DML | 7.777 | 0.708 | 8.822 | |
| DMLpredict | 1.443 | 0.124 | 1.736 | |
| DMR | 9.020 | 0.832 | 10.186 | |
| ELBAR | 16.386 | 1.160 | 17.714 | |
| KYCG_annoProbes | 14.205 | 1.474 | 16.183 | |
| KYCG_buildGeneDBs | 11.008 | 1.197 | 12.538 | |
| KYCG_getDBs | 3.298 | 0.311 | 4.171 | |
| KYCG_listDBGroups | 0.032 | 0.004 | 0.036 | |
| KYCG_loadDBs | 0 | 0 | 0 | |
| KYCG_plotBar | 0.206 | 0.019 | 0.226 | |
| KYCG_plotDot | 0.272 | 0.016 | 0.288 | |
| KYCG_plotEnrichAll | 20.747 | 2.202 | 24.158 | |
| KYCG_plotLollipop | 0.258 | 0.032 | 0.289 | |
| KYCG_plotManhattan | 1.457 | 0.192 | 1.649 | |
| KYCG_plotMeta | 24.576 | 1.465 | 26.592 | |
| KYCG_plotMetaEnrichment | 10.933 | 0.707 | 12.140 | |
| KYCG_plotPointRange | 3.985 | 0.452 | 4.605 | |
| KYCG_plotSetEnrichment | 6.077 | 0.580 | 7.014 | |
| KYCG_plotVolcano | 0.177 | 0.008 | 0.185 | |
| KYCG_plotWaterfall | 2.965 | 0.339 | 3.468 | |
| MValueToBetaValue | 0 | 0 | 0 | |
| SigDF | 0.366 | 0.072 | 0.603 | |
| addMask | 0.103 | 0.020 | 0.122 | |
| aggregateTestEnrichments | 2.578 | 0.192 | 2.770 | |
| betasCollapseToPfx | 0.003 | 0.000 | 0.003 | |
| bisConversionControl | 5.713 | 0.500 | 6.755 | |
| calcEffectSize | 1.622 | 0.232 | 2.022 | |
| checkLevels | 4.562 | 0.701 | 5.432 | |
| cnSegmentation | 0.378 | 0.059 | 0.608 | |
| compareMouseStrainReference | 13.853 | 0.989 | 15.176 | |
| compareMouseTissueReference | 0 | 0 | 0 | |
| compareReference | 12.708 | 1.243 | 14.287 | |
| controls | 3.204 | 0.288 | 3.873 | |
| createUCSCtrack | 8.270 | 0.708 | 9.316 | |
| dataFrame2sesameQC | 1.558 | 0.132 | 1.886 | |
| dbStats | 9.185 | 1.236 | 10.762 | |
| deidentify | 6.400 | 0.896 | 7.781 | |
| detectionPnegEcdf | 2.798 | 0.240 | 3.202 | |
| diffRefSet | 14.096 | 1.272 | 15.704 | |
| dmContrasts | 2.468 | 0.240 | 2.878 | |
| dyeBiasCorr | 3.293 | 0.375 | 4.139 | |
| dyeBiasCorrMostBalanced | 6.346 | 0.444 | 7.128 | |
| dyeBiasL | 2.951 | 0.448 | 3.571 | |
| dyeBiasNL | 7.766 | 0.679 | 8.613 | |
| estimateLeukocyte | 6.914 | 0.655 | 7.805 | |
| formatVCF | 3.614 | 0.372 | 4.323 | |
| getAFTypeIbySumAlleles | 1.767 | 0.271 | 2.376 | |
| getAFs | 1.157 | 0.180 | 1.407 | |
| getBetas | 1.103 | 0.216 | 1.484 | |
| getRefSet | 10.857 | 0.835 | 12.025 | |
| getSexInfo | 9.167 | 0.605 | 10.268 | |
| imputeTo | 1.910 | 0.252 | 2.333 | |
| inferEthnicity | 2.372 | 0.252 | 2.790 | |
| inferInfiniumIChannel | 0.403 | 0.559 | 0.963 | |
| inferSex | 5.474 | 0.652 | 6.604 | |
| inferSexKaryotypes | 4.602 | 0.452 | 5.218 | |
| inferSpecies | 16.492 | 1.520 | 18.348 | |
| inferStrain | 7.143 | 0.896 | 8.369 | |
| inferTissue | 10.247 | 1.200 | 11.968 | |
| initFileSet | 1.250 | 0.096 | 1.512 | |
| listAvailableMasks | 0.000 | 0.002 | 0.003 | |
| mapFileSet | 0.034 | 0.000 | 0.035 | |
| mapToMammal40 | 3.141 | 0.283 | 3.858 | |
| matchDesign | 16.252 | 0.845 | 17.260 | |
| meanIntensity | 3.065 | 0.318 | 3.716 | |
| medianTotalIntensity | 0.983 | 0.092 | 1.241 | |
| noMasked | 1.739 | 0.180 | 2.084 | |
| noob | 2.207 | 0.296 | 2.502 | |
| openSesame | 4.051 | 0.500 | 4.723 | |
| openSesameToFile | 1.504 | 0.152 | 1.655 | |
| pOOBAH | 1.503 | 0.036 | 1.539 | |
| palgen | 0.059 | 0.028 | 0.087 | |
| parseGEOsignalMU | 3.802 | 0.464 | 4.435 | |
| predictAge | 2.535 | 0.242 | 2.942 | |
| predictAgeHorvath353 | 0.000 | 0.001 | 0.000 | |
| predictAgeSkinBlood | 0.000 | 0.001 | 0.001 | |
| predictMouseAgeInMonth | 0 | 0 | 0 | |
| prefixMask | 0.428 | 0.012 | 0.441 | |
| prefixMaskButC | 0.12 | 0.00 | 0.12 | |
| prefixMaskButCG | 0.037 | 0.004 | 0.041 | |
| prepSesame | 2.622 | 0.264 | 2.885 | |
| prepSesameList | 0.000 | 0.003 | 0.002 | |
| print.DMLSummary | 3.186 | 0.545 | 4.063 | |
| print.fileSet | 1.308 | 0.135 | 1.613 | |
| probeID_designType | 0.001 | 0.000 | 0.000 | |
| probeSuccessRate | 3.514 | 0.309 | 4.152 | |
| qualityMask | 0.673 | 0.083 | 0.921 | |
| reIdentify | 5.786 | 0.840 | 6.794 | |
| readFileSet | 0.054 | 0.004 | 0.058 | |
| readIDATpair | 0.134 | 0.000 | 0.134 | |
| resetMask | 0.495 | 0.096 | 0.759 | |
| scrub | 2.468 | 0.336 | 2.803 | |
| scrubSoft | 4.025 | 0.528 | 4.553 | |
| sdfPlatform | 0.585 | 0.056 | 0.949 | |
| sdf_read_table | 8.939 | 0.564 | 9.930 | |
| sdf_write_table | 2.701 | 0.118 | 3.041 | |
| searchIDATprefixes | 0.008 | 0.000 | 0.009 | |
| sesame-package | 0.727 | 0.076 | 0.804 | |
| sesameAnno_download | 0.000 | 0.000 | 0.001 | |
| sesameAnno_get | 0.000 | 0.000 | 0.001 | |
| sesameData_getAnno | 0 | 0 | 0 | |
| sesameQC_calcStats | 21.181 | 1.264 | 22.610 | |
| sesameQC_getStats | 1.703 | 0.048 | 1.750 | |
| sesameQC_plotBar | 11.912 | 0.708 | 13.045 | |
| sesameQC_plotBetaByDesign | 10.874 | 0.676 | 11.550 | |
| sesameQC_plotHeatSNPs | 19.308 | 1.236 | 20.709 | |
| sesameQC_plotIntensVsBetas | 2.775 | 0.287 | 3.325 | |
| sesameQC_plotRedGrnQQ | 1.943 | 0.139 | 2.244 | |
| sesameQC_rankStats | 4.235 | 0.451 | 5.025 | |
| setMask | 0.274 | 0.015 | 0.289 | |
| signalMU | 0.903 | 0.100 | 1.175 | |
| sliceFileSet | 0.036 | 0.000 | 0.036 | |
| summaryExtractTest | 3.057 | 0.499 | 3.893 | |
| testEnrichment | 7.366 | 0.871 | 8.741 | |
| testEnrichmentGene | 123.124 | 8.543 | 135.150 | |
| testEnrichmentSEA | 10.776 | 1.536 | 12.820 | |
| totalIntensities | 3.219 | 0.314 | 4.021 | |
| updateSigDF | 3.731 | 0.588 | 4.598 | |
| visualizeGene | 11.485 | 1.388 | 13.374 | |
| visualizeProbes | 7.232 | 0.644 | 8.082 | |
| visualizeRegion | 0.333 | 0.008 | 0.341 | |
| visualizeSegments | 2.244 | 0.376 | 2.922 | |