| Back to Multiple platform build/check report for BioC 3.17 |
|
This page was generated on 2023-04-12 10:55:42 -0400 (Wed, 12 Apr 2023).
| Hostname | OS | Arch (*) | R version | Installed pkgs |
|---|---|---|---|---|
| nebbiolo1 | Linux (Ubuntu 22.04.1 LTS) | x86_64 | 4.3.0 alpha (2023-04-03 r84154) | 4547 |
| nebbiolo2 | Linux (Ubuntu 20.04.5 LTS) | x86_64 | R Under development (unstable) (2023-02-14 r83833) -- "Unsuffered Consequences" | 4333 |
| Click on any hostname to see more info about the system (e.g. compilers) (*) as reported by 'uname -p', except on Windows and Mac OS X | ||||
|
To the developers/maintainers of the seqsetvis package: - Allow up to 24 hours (and sometimes 48 hours) for your latest push to git@git.bioconductor.org:packages/seqsetvis.git to reflect on this report. See Troubleshooting Build Report for more information. - Use the following Renviron settings to reproduce errors and warnings. Note: If "R CMD check" recently failed on the Linux builder over a missing dependency, add the missing dependency to "Suggests" in your DESCRIPTION file. See the Renviron.bioc for details. |
| Package 1873/2207 | Hostname | OS / Arch | INSTALL | BUILD | CHECK | BUILD BIN | ||||||||
| seqsetvis 1.19.3 (landing page) Joseph R Boyd
| nebbiolo1 | Linux (Ubuntu 22.04.1 LTS) / x86_64 | OK | OK | OK | |||||||||
| nebbiolo2 | Linux (Ubuntu 20.04.5 LTS) / x86_64 | OK | OK | OK | ||||||||||
| Package: seqsetvis |
| Version: 1.19.3 |
| Command: /home/biocbuild/bbs-3.17-bioc/R/bin/R CMD check --install=check:seqsetvis.install-out.txt --library=/home/biocbuild/bbs-3.17-bioc/R/site-library --timings seqsetvis_1.19.3.tar.gz |
| StartedAt: 2023-04-12 09:21:10 -0400 (Wed, 12 Apr 2023) |
| EndedAt: 2023-04-12 09:31:38 -0400 (Wed, 12 Apr 2023) |
| EllapsedTime: 627.8 seconds |
| RetCode: 0 |
| Status: OK |
| CheckDir: seqsetvis.Rcheck |
| Warnings: 0 |
##############################################################################
##############################################################################
###
### Running command:
###
### /home/biocbuild/bbs-3.17-bioc/R/bin/R CMD check --install=check:seqsetvis.install-out.txt --library=/home/biocbuild/bbs-3.17-bioc/R/site-library --timings seqsetvis_1.19.3.tar.gz
###
##############################################################################
##############################################################################
* using log directory ‘/home/biocbuild/bbs-3.17-bioc/meat/seqsetvis.Rcheck’
* using R Under development (unstable) (2023-02-14 r83833)
* using platform: x86_64-pc-linux-gnu (64-bit)
* R was compiled by
gcc (Ubuntu 9.4.0-1ubuntu1~20.04.1) 9.4.0
GNU Fortran (Ubuntu 9.4.0-1ubuntu1~20.04.1) 9.4.0
* running under: Ubuntu 20.04.6 LTS
* using session charset: UTF-8
* checking for file ‘seqsetvis/DESCRIPTION’ ... OK
* checking extension type ... Package
* this is package ‘seqsetvis’ version ‘1.19.3’
* package encoding: UTF-8
* checking package namespace information ... OK
* checking package dependencies ... OK
* checking if this is a source package ... OK
* checking if there is a namespace ... OK
* checking for hidden files and directories ... OK
* checking for portable file names ... OK
* checking for sufficient/correct file permissions ... OK
* checking whether package ‘seqsetvis’ can be installed ... OK
* checking installed package size ... OK
* checking package directory ... OK
* checking ‘build’ directory ... OK
* checking DESCRIPTION meta-information ... OK
* checking top-level files ... OK
* checking for left-over files ... OK
* checking index information ... OK
* checking package subdirectories ... OK
* checking R files for non-ASCII characters ... OK
* checking R files for syntax errors ... OK
* checking whether the package can be loaded ... OK
* checking whether the package can be loaded with stated dependencies ... OK
* checking whether the package can be unloaded cleanly ... OK
* checking whether the namespace can be loaded with stated dependencies ... OK
* checking whether the namespace can be unloaded cleanly ... OK
* checking loading without being on the library search path ... OK
* checking dependencies in R code ... OK
* checking S3 generic/method consistency ... OK
* checking replacement functions ... OK
* checking foreign function calls ... OK
* checking R code for possible problems ... NOTE
ssvSignalBandedQuantiles: no visible binding for global variable ‘x’
ssvSignalLineplotAgg: no visible binding for global variable ‘y’
Undefined global functions or variables:
x y
* checking Rd files ... OK
* checking Rd metadata ... OK
* checking Rd cross-references ... OK
* checking for missing documentation entries ... OK
* checking for code/documentation mismatches ... OK
* checking Rd \usage sections ... OK
* checking Rd contents ... OK
* checking for unstated dependencies in examples ... OK
* checking contents of ‘data’ directory ... OK
* checking data for non-ASCII characters ... OK
* checking LazyData ... OK
* checking data for ASCII and uncompressed saves ... OK
* checking files in ‘vignettes’ ... OK
* checking examples ... OK
Examples with CPU (user + system) or elapsed time > 5s
user system elapsed
ssvFeatureBinaryHeatmap 7.414 0.383 7.799
ssvFetchBam 6.185 0.036 6.184
* checking for unstated dependencies in ‘tests’ ... OK
* checking tests ...
Running ‘testthat.R’
OK
* checking for unstated dependencies in vignettes ... OK
* checking package vignettes in ‘inst/doc’ ... OK
* checking running R code from vignettes ...
‘seqsetvis_overview.Rmd’ using ‘UTF-8’... OK
NONE
* checking re-building of vignette outputs ... OK
* checking PDF version of manual ... OK
* DONE
Status: 1 NOTE
See
‘/home/biocbuild/bbs-3.17-bioc/meat/seqsetvis.Rcheck/00check.log’
for details.
seqsetvis.Rcheck/00install.out
############################################################################## ############################################################################## ### ### Running command: ### ### /home/biocbuild/bbs-3.17-bioc/R/bin/R CMD INSTALL seqsetvis ### ############################################################################## ############################################################################## * installing to library ‘/home/biocbuild/bbs-3.17-bioc/R/site-library’ * installing *source* package ‘seqsetvis’ ... ** using staged installation ** R ** data *** moving datasets to lazyload DB ** inst ** byte-compile and prepare package for lazy loading ** help *** installing help indices ** building package indices ** installing vignettes ** testing if installed package can be loaded from temporary location ** testing if installed package can be loaded from final location ** testing if installed package keeps a record of temporary installation path * DONE (seqsetvis)
seqsetvis.Rcheck/tests/testthat.Rout
R Under development (unstable) (2023-02-14 r83833) -- "Unsuffered Consequences" Copyright (C) 2023 The R Foundation for Statistical Computing Platform: x86_64-pc-linux-gnu (64-bit) R is free software and comes with ABSOLUTELY NO WARRANTY. You are welcome to redistribute it under certain conditions. Type 'license()' or 'licence()' for distribution details. R is a collaborative project with many contributors. Type 'contributors()' for more information and 'citation()' on how to cite R or R packages in publications. Type 'demo()' for some demos, 'help()' for on-line help, or 'help.start()' for an HTML browser interface to help. Type 'q()' to quit R. > > ## load dependencies > library(testthat) > library(seqsetvis) Loading required package: ggplot2 > library(data.table) > > ## test package > test_check(package = "seqsetvis") [ FAIL 0 | WARN 0 | SKIP 0 | PASS 1182 ] > > proc.time() user system elapsed 270.074 2.928 269.673
seqsetvis.Rcheck/seqsetvis-Ex.timings
| name | user | system | elapsed | |
| add_cluster_annotation | 3.503 | 0.531 | 3.985 | |
| append_ynorm | 0.055 | 0.000 | 0.032 | |
| applySpline | 0.494 | 0.024 | 0.479 | |
| assemble_heatmap_cluster_bars | 0.701 | 0.008 | 0.677 | |
| calc_norm_factors | 0.018 | 0.000 | 0.011 | |
| centerAtMax | 0.300 | 0.000 | 0.252 | |
| centerFixedSizeGRanges | 0.124 | 0.008 | 0.132 | |
| centerGRangesAtMax | 0.604 | 0.062 | 0.616 | |
| clusteringKmeans | 0.038 | 0.000 | 0.025 | |
| clusteringKmeansNestedHclust | 0.054 | 0.000 | 0.041 | |
| col2hex | 0.002 | 0.000 | 0.002 | |
| collapse_gr | 0.936 | 0.048 | 0.984 | |
| convert_collapsed_coord | 0.217 | 0.012 | 0.229 | |
| copy_clust_info | 1.977 | 0.044 | 1.936 | |
| crossCorrByRle | 0.365 | 0.028 | 0.394 | |
| easyLoad_FUN | 0.055 | 0.000 | 0.055 | |
| easyLoad_IDRmerged | 0.055 | 0.000 | 0.056 | |
| easyLoad_bed | 0.122 | 0.000 | 0.122 | |
| easyLoad_broadPeak | 0.037 | 0.000 | 0.037 | |
| easyLoad_narrowPeak | 0.052 | 0.004 | 0.056 | |
| easyLoad_seacr | 0.044 | 0.000 | 0.044 | |
| expandCigar | 0.172 | 0.016 | 0.169 | |
| fragLen_calcStranded | 1.698 | 0.028 | 1.720 | |
| fragLen_fromMacs2Xls | 0.002 | 0.000 | 0.003 | |
| getReadLength | 0.055 | 0.000 | 0.055 | |
| get_mapped_reads | 0.009 | 0.000 | 0.009 | |
| ggellipse | 0.617 | 0.004 | 0.621 | |
| harmonize_seqlengths | 0.105 | 0.000 | 0.105 | |
| make_clustering_matrix | 0.050 | 0.000 | 0.038 | |
| merge_clusters | 4.069 | 0.144 | 4.122 | |
| prepare_fetch_GRanges | 0.020 | 0.008 | 0.027 | |
| prepare_fetch_GRanges_names | 0.073 | 0.000 | 0.073 | |
| prepare_fetch_GRanges_width | 0.025 | 0.000 | 0.024 | |
| quantileGRangesWidth | 0.002 | 0.000 | 0.001 | |
| reorder_clusters_hclust | 1.875 | 0.064 | 1.893 | |
| reorder_clusters_manual | 0.968 | 0.020 | 0.945 | |
| reorder_clusters_stepdown | 1.844 | 0.033 | 1.830 | |
| reverse_clusters | 2.056 | 0.020 | 1.978 | |
| safeBrew | 0.022 | 0.000 | 0.023 | |
| split_cluster | 2.121 | 0.063 | 2.087 | |
| ssvConsensusIntervalSets | 0.391 | 0.000 | 0.391 | |
| ssvFactorizeMembTable | 0.014 | 0.000 | 0.014 | |
| ssvFeatureBars | 0.635 | 0.008 | 0.642 | |
| ssvFeatureBinaryHeatmap | 7.414 | 0.383 | 7.799 | |
| ssvFeatureEuler | 0.552 | 0.008 | 0.563 | |
| ssvFeaturePie | 0.563 | 0.001 | 0.562 | |
| ssvFeatureUpset | 2.958 | 0.052 | 3.009 | |
| ssvFeatureVenn | 0.76 | 0.00 | 0.76 | |
| ssvFetchBam | 6.185 | 0.036 | 6.184 | |
| ssvFetchBamPE | 1.965 | 0.004 | 1.970 | |
| ssvFetchBigwig | 1.436 | 0.012 | 1.447 | |
| ssvFetchGRanges | 0.796 | 0.016 | 0.812 | |
| ssvFetchSignal | 1.461 | 0.000 | 1.461 | |
| ssvMakeMembTable-methods | 0.495 | 0.004 | 0.499 | |
| ssvOverlapIntervalSets | 0.237 | 0.002 | 0.239 | |
| ssvSignalBandedQuantiles | 4.884 | 0.027 | 4.791 | |
| ssvSignalClustering | 1.973 | 0.005 | 1.885 | |
| ssvSignalHeatmap.ClusterBars | 3.70 | 0.16 | 3.69 | |
| ssvSignalHeatmap | 3.388 | 0.000 | 3.171 | |
| ssvSignalLineplot | 2.333 | 0.035 | 2.362 | |
| ssvSignalLineplotAgg | 1.032 | 0.000 | 1.013 | |
| ssvSignalScatterplot | 0.889 | 0.004 | 0.848 | |
| viewGRangesWinSample_dt | 1.207 | 0.004 | 1.206 | |
| viewGRangesWinSummary_dt | 1.180 | 0.000 | 1.155 | |
| within_clust_sort | 1.320 | 0.008 | 1.268 | |