| Back to Multiple platform build/check report for BioC 3.17 |
|
This page was generated on 2023-04-12 10:55:41 -0400 (Wed, 12 Apr 2023).
| Hostname | OS | Arch (*) | R version | Installed pkgs |
|---|---|---|---|---|
| nebbiolo1 | Linux (Ubuntu 22.04.1 LTS) | x86_64 | 4.3.0 alpha (2023-04-03 r84154) | 4547 |
| nebbiolo2 | Linux (Ubuntu 20.04.5 LTS) | x86_64 | R Under development (unstable) (2023-02-14 r83833) -- "Unsuffered Consequences" | 4333 |
| Click on any hostname to see more info about the system (e.g. compilers) (*) as reported by 'uname -p', except on Windows and Mac OS X | ||||
|
To the developers/maintainers of the scone package: - Allow up to 24 hours (and sometimes 48 hours) for your latest push to git@git.bioconductor.org:packages/scone.git to reflect on this report. See Troubleshooting Build Report for more information. - Use the following Renviron settings to reproduce errors and warnings. Note: If "R CMD check" recently failed on the Linux builder over a missing dependency, add the missing dependency to "Suggests" in your DESCRIPTION file. See the Renviron.bioc for details. |
| Package 1830/2207 | Hostname | OS / Arch | INSTALL | BUILD | CHECK | BUILD BIN | ||||||||
| scone 1.23.1 (landing page) Davide Risso
| nebbiolo1 | Linux (Ubuntu 22.04.1 LTS) / x86_64 | OK | OK | OK | |||||||||
| nebbiolo2 | Linux (Ubuntu 20.04.5 LTS) / x86_64 | OK | OK | OK | ||||||||||
| Package: scone |
| Version: 1.23.1 |
| Command: /home/biocbuild/bbs-3.17-bioc/R/bin/R CMD check --install=check:scone.install-out.txt --library=/home/biocbuild/bbs-3.17-bioc/R/site-library --timings scone_1.23.1.tar.gz |
| StartedAt: 2023-04-12 09:11:36 -0400 (Wed, 12 Apr 2023) |
| EndedAt: 2023-04-12 09:24:45 -0400 (Wed, 12 Apr 2023) |
| EllapsedTime: 789.2 seconds |
| RetCode: 0 |
| Status: OK |
| CheckDir: scone.Rcheck |
| Warnings: 0 |
##############################################################################
##############################################################################
###
### Running command:
###
### /home/biocbuild/bbs-3.17-bioc/R/bin/R CMD check --install=check:scone.install-out.txt --library=/home/biocbuild/bbs-3.17-bioc/R/site-library --timings scone_1.23.1.tar.gz
###
##############################################################################
##############################################################################
* using log directory ‘/home/biocbuild/bbs-3.17-bioc/meat/scone.Rcheck’
* using R Under development (unstable) (2023-02-14 r83833)
* using platform: x86_64-pc-linux-gnu (64-bit)
* R was compiled by
gcc (Ubuntu 9.4.0-1ubuntu1~20.04.1) 9.4.0
GNU Fortran (Ubuntu 9.4.0-1ubuntu1~20.04.1) 9.4.0
* running under: Ubuntu 20.04.6 LTS
* using session charset: UTF-8
* checking for file ‘scone/DESCRIPTION’ ... OK
* this is package ‘scone’ version ‘1.23.1’
* package encoding: UTF-8
* checking package namespace information ... OK
* checking package dependencies ... OK
* checking if this is a source package ... OK
* checking if there is a namespace ... OK
* checking for hidden files and directories ... OK
* checking for portable file names ... OK
* checking for sufficient/correct file permissions ... OK
* checking whether package ‘scone’ can be installed ... OK
* checking installed package size ... OK
* checking package directory ... OK
* checking ‘build’ directory ... OK
* checking DESCRIPTION meta-information ... OK
* checking top-level files ... OK
* checking for left-over files ... OK
* checking index information ... OK
* checking package subdirectories ... OK
* checking R files for non-ASCII characters ... OK
* checking R files for syntax errors ... OK
* checking whether the package can be loaded ... OK
* checking whether the package can be loaded with stated dependencies ... OK
* checking whether the package can be unloaded cleanly ... OK
* checking whether the namespace can be loaded with stated dependencies ... OK
* checking whether the namespace can be unloaded cleanly ... OK
* checking loading without being on the library search path ... OK
* checking dependencies in R code ... OK
* checking S3 generic/method consistency ... OK
* checking replacement functions ... OK
* checking foreign function calls ... OK
* checking R code for possible problems ... NOTE
sconeReport: no visible global function definition for
‘visNetworkOutput’
sconeReport: no visible global function definition for ‘plotlyOutput’
sconeReport : server: no visible global function definition for
‘renderVisNetwork’
sconeReport : server: no visible global function definition for ‘%>%’
sconeReport : server: no visible global function definition for
‘visNetwork’
sconeReport : server: no visible global function definition for
‘visHierarchicalLayout’
sconeReport : server: no visible global function definition for
‘visGroups’
sconeReport : server: no visible global function definition for
‘visEdges’
sconeReport : server: no visible global function definition for
‘visOptions’
sconeReport : server: no visible global function definition for
‘visLegend’
sconeReport : server: no visible global function definition for
‘visNetworkProxy’
sconeReport : server: no visible global function definition for
‘visSelectNodes’
sconeReport : server: no visible global function definition for
‘plot_ly’
sconeReport : server: no visible global function definition for
‘ggplot’
sconeReport : server: no visible global function definition for ‘aes’
sconeReport : server: no visible global function definition for
‘geom_bar’
sconeReport : server: no visible global function definition for ‘ylim’
sconeReport : server: no visible global function definition for ‘labs’
sconeReport : server: no visible global function definition for ‘theme’
sconeReport : server: no visible global function definition for
‘element_blank’
sconeReport : server: no visible global function definition for
‘ggplotly’
sconeReport : server: no visible global function definition for
‘geom_violin’
sconeReport : server: no visible global function definition for
‘coord_cartesian’
sconeReport : server: no visible global function definition for
‘scale_fill_manual’
sconeReport : server: no visible global function definition for
‘geom_point’
sconeReport : server: no visible global function definition for
‘guides’
Undefined global functions or variables:
%>% aes coord_cartesian element_blank geom_bar geom_point geom_violin
ggplot ggplotly guides labs plot_ly plotlyOutput renderVisNetwork
scale_fill_manual theme visEdges visGroups visHierarchicalLayout
visLegend visNetwork visNetworkOutput visNetworkProxy visOptions
visSelectNodes ylim
* checking Rd files ... OK
* checking Rd metadata ... OK
* checking Rd cross-references ... OK
* checking for missing documentation entries ... OK
* checking for code/documentation mismatches ... OK
* checking Rd \usage sections ... OK
* checking Rd contents ... OK
* checking for unstated dependencies in examples ... OK
* checking contents of ‘data’ directory ... OK
* checking data for non-ASCII characters ... OK
* checking data for ASCII and uncompressed saves ... OK
* checking files in ‘vignettes’ ... OK
* checking examples ... OK
* checking for unstated dependencies in ‘tests’ ... OK
* checking tests ...
Running ‘testthat.R’
OK
* checking for unstated dependencies in vignettes ... OK
* checking package vignettes in ‘inst/doc’ ... OK
* checking running R code from vignettes ...
‘PsiNorm.Rmd’ using ‘UTF-8’... OK
‘sconeTutorial.Rmd’ using ‘UTF-8’... OK
NONE
* checking re-building of vignette outputs ... OK
* checking PDF version of manual ... OK
* DONE
Status: 1 NOTE
See
‘/home/biocbuild/bbs-3.17-bioc/meat/scone.Rcheck/00check.log’
for details.
scone.Rcheck/00install.out
############################################################################## ############################################################################## ### ### Running command: ### ### /home/biocbuild/bbs-3.17-bioc/R/bin/R CMD INSTALL scone ### ############################################################################## ############################################################################## * installing to library ‘/home/biocbuild/bbs-3.17-bioc/R/site-library’ * installing *source* package ‘scone’ ... ** using staged installation ** R ** data ** inst ** byte-compile and prepare package for lazy loading ** help *** installing help indices ** building package indices ** installing vignettes ** testing if installed package can be loaded from temporary location ** testing if installed package can be loaded from final location ** testing if installed package keeps a record of temporary installation path * DONE (scone)
scone.Rcheck/tests/testthat.Rout
R Under development (unstable) (2023-02-14 r83833) -- "Unsuffered Consequences"
Copyright (C) 2023 The R Foundation for Statistical Computing
Platform: x86_64-pc-linux-gnu (64-bit)
R is free software and comes with ABSOLUTELY NO WARRANTY.
You are welcome to redistribute it under certain conditions.
Type 'license()' or 'licence()' for distribution details.
R is a collaborative project with many contributors.
Type 'contributors()' for more information and
'citation()' on how to cite R or R packages in publications.
Type 'demo()' for some demos, 'help()' for on-line help, or
'help.start()' for an HTML browser interface to help.
Type 'q()' to quit R.
> Sys.setenv("R_TESTS" = "")
>
> library(testthat)
> library(scone)
Loading required package: SummarizedExperiment
Loading required package: MatrixGenerics
Loading required package: matrixStats
Attaching package: 'MatrixGenerics'
The following objects are masked from 'package:matrixStats':
colAlls, colAnyNAs, colAnys, colAvgsPerRowSet, colCollapse,
colCounts, colCummaxs, colCummins, colCumprods, colCumsums,
colDiffs, colIQRDiffs, colIQRs, colLogSumExps, colMadDiffs,
colMads, colMaxs, colMeans2, colMedians, colMins, colOrderStats,
colProds, colQuantiles, colRanges, colRanks, colSdDiffs, colSds,
colSums2, colTabulates, colVarDiffs, colVars, colWeightedMads,
colWeightedMeans, colWeightedMedians, colWeightedSds,
colWeightedVars, rowAlls, rowAnyNAs, rowAnys, rowAvgsPerColSet,
rowCollapse, rowCounts, rowCummaxs, rowCummins, rowCumprods,
rowCumsums, rowDiffs, rowIQRDiffs, rowIQRs, rowLogSumExps,
rowMadDiffs, rowMads, rowMaxs, rowMeans2, rowMedians, rowMins,
rowOrderStats, rowProds, rowQuantiles, rowRanges, rowRanks,
rowSdDiffs, rowSds, rowSums2, rowTabulates, rowVarDiffs, rowVars,
rowWeightedMads, rowWeightedMeans, rowWeightedMedians,
rowWeightedSds, rowWeightedVars
Loading required package: GenomicRanges
Loading required package: stats4
Loading required package: BiocGenerics
Attaching package: 'BiocGenerics'
The following objects are masked from 'package:stats':
IQR, mad, sd, var, xtabs
The following objects are masked from 'package:base':
Filter, Find, Map, Position, Reduce, anyDuplicated, aperm, append,
as.data.frame, basename, cbind, colnames, dirname, do.call,
duplicated, eval, evalq, get, grep, grepl, intersect, is.unsorted,
lapply, mapply, match, mget, order, paste, pmax, pmax.int, pmin,
pmin.int, rank, rbind, rownames, sapply, setdiff, sort, table,
tapply, union, unique, unsplit, which.max, which.min
Loading required package: S4Vectors
Attaching package: 'S4Vectors'
The following objects are masked from 'package:base':
I, expand.grid, unname
Loading required package: IRanges
Loading required package: GenomeInfoDb
Loading required package: Biobase
Welcome to Bioconductor
Vignettes contain introductory material; view with
'browseVignettes()'. To cite Bioconductor, see
'citation("Biobase")', and for packages 'citation("pkgname")'.
Attaching package: 'Biobase'
The following object is masked from 'package:MatrixGenerics':
rowMedians
The following objects are masked from 'package:matrixStats':
anyMissing, rowMedians
>
> test_check("scone")
[ FAIL 0 | WARN 0 | SKIP 0 | PASS 64 ]
>
> proc.time()
user system elapsed
77.918 8.475 270.423
scone.Rcheck/scone-Ex.timings
| name | user | system | elapsed | |
| CLR_FN | 0.002 | 0.000 | 0.001 | |
| DESEQ_FN | 0.001 | 0.000 | 0.001 | |
| FQ_FN | 0.002 | 0.000 | 0.002 | |
| PSINORM_FN | 0.002 | 0.000 | 0.002 | |
| PsiNorm | 0.505 | 0.004 | 0.508 | |
| SCRAN_FN | 2.185 | 0.100 | 2.285 | |
| SUM_FN | 0 | 0 | 0 | |
| SconeExperiment-class | 0.125 | 0.008 | 0.133 | |
| TMM_FN | 0.004 | 0.000 | 0.004 | |
| UQ_FN | 0.001 | 0.000 | 0.001 | |
| biplot_color | 0.011 | 0.000 | 0.011 | |
| biplot_interactive | 0.479 | 0.004 | 0.483 | |
| control_genes | 0.016 | 0.004 | 0.020 | |
| estimate_ziber | 0.045 | 0.000 | 0.044 | |
| factor_sample_filter | 0.050 | 0.004 | 0.054 | |
| fast_estimate_ziber | 0.03 | 0.00 | 0.03 | |
| get_bio | 0.037 | 0.000 | 0.036 | |
| get_design | 0.468 | 0.000 | 0.468 | |
| get_negconruv | 0.041 | 0.008 | 0.050 | |
| get_normalized | 0.104 | 0.020 | 0.124 | |
| get_params | 0.040 | 0.008 | 0.049 | |
| get_qc | 0.054 | 0.012 | 0.066 | |
| get_scores | 0.152 | 0.028 | 0.180 | |
| impute_expectation | 0.001 | 0.000 | 0.000 | |
| impute_null | 0.001 | 0.000 | 0.000 | |
| lm_adjust | 0.004 | 0.000 | 0.005 | |
| make_design | 0.001 | 0.000 | 0.002 | |
| metric_sample_filter | 0.008 | 0.000 | 0.008 | |
| scone | 0.240 | 0.000 | 0.239 | |
| sconeReport | 0.133 | 0.000 | 0.133 | |
| scone_easybake | 0.131 | 0.000 | 0.132 | |
| score_matrix | 0.004 | 0.000 | 0.004 | |
| select_methods | 0.120 | 0.003 | 0.123 | |
| simple_FNR_params | 0.029 | 0.000 | 0.030 | |