| Back to Multiple platform build/check report for BioC 3.17 |
|
This page was generated on 2023-04-12 10:55:31 -0400 (Wed, 12 Apr 2023).
| Hostname | OS | Arch (*) | R version | Installed pkgs |
|---|---|---|---|---|
| nebbiolo1 | Linux (Ubuntu 22.04.1 LTS) | x86_64 | 4.3.0 alpha (2023-04-03 r84154) | 4547 |
| nebbiolo2 | Linux (Ubuntu 20.04.5 LTS) | x86_64 | R Under development (unstable) (2023-02-14 r83833) -- "Unsuffered Consequences" | 4333 |
| Click on any hostname to see more info about the system (e.g. compilers) (*) as reported by 'uname -p', except on Windows and Mac OS X | ||||
|
To the developers/maintainers of the scHOT package: - Allow up to 24 hours (and sometimes 48 hours) for your latest push to git@git.bioconductor.org:packages/scHOT.git to reflect on this report. See Troubleshooting Build Report for more information. - Use the following Renviron settings to reproduce errors and warnings. Note: If "R CMD check" recently failed on the Linux builder over a missing dependency, add the missing dependency to "Suggests" in your DESCRIPTION file. See the Renviron.bioc for details. |
| Package 1823/2207 | Hostname | OS / Arch | INSTALL | BUILD | CHECK | BUILD BIN | ||||||||
| scHOT 1.11.0 (landing page) Shila Ghazanfar
| nebbiolo1 | Linux (Ubuntu 22.04.1 LTS) / x86_64 | OK | OK | OK | |||||||||
| nebbiolo2 | Linux (Ubuntu 20.04.5 LTS) / x86_64 | OK | OK | OK | ||||||||||
| Package: scHOT |
| Version: 1.11.0 |
| Command: /home/biocbuild/bbs-3.17-bioc/R/bin/R CMD check --install=check:scHOT.install-out.txt --library=/home/biocbuild/bbs-3.17-bioc/R/site-library --timings scHOT_1.11.0.tar.gz |
| StartedAt: 2023-04-11 23:20:13 -0400 (Tue, 11 Apr 2023) |
| EndedAt: 2023-04-11 23:30:19 -0400 (Tue, 11 Apr 2023) |
| EllapsedTime: 605.9 seconds |
| RetCode: 0 |
| Status: OK |
| CheckDir: scHOT.Rcheck |
| Warnings: 0 |
##############################################################################
##############################################################################
###
### Running command:
###
### /home/biocbuild/bbs-3.17-bioc/R/bin/R CMD check --install=check:scHOT.install-out.txt --library=/home/biocbuild/bbs-3.17-bioc/R/site-library --timings scHOT_1.11.0.tar.gz
###
##############################################################################
##############################################################################
* using log directory ‘/home/biocbuild/bbs-3.17-bioc/meat/scHOT.Rcheck’
* using R version 4.3.0 alpha (2023-04-03 r84154)
* using platform: x86_64-pc-linux-gnu (64-bit)
* R was compiled by
gcc (Ubuntu 11.3.0-1ubuntu1~22.04) 11.3.0
GNU Fortran (Ubuntu 11.3.0-1ubuntu1~22.04) 11.3.0
* running under: Ubuntu 22.04.2 LTS
* using session charset: UTF-8
* checking for file ‘scHOT/DESCRIPTION’ ... OK
* checking extension type ... Package
* this is package ‘scHOT’ version ‘1.11.0’
* package encoding: UTF-8
* checking package namespace information ... OK
* checking package dependencies ... OK
* checking if this is a source package ... OK
* checking if there is a namespace ... OK
* checking for hidden files and directories ... OK
* checking for portable file names ... OK
* checking for sufficient/correct file permissions ... OK
* checking whether package ‘scHOT’ can be installed ... OK
* checking installed package size ... OK
* checking package directory ... OK
* checking ‘build’ directory ... OK
* checking DESCRIPTION meta-information ... OK
* checking top-level files ... OK
* checking for left-over files ... OK
* checking index information ... OK
* checking package subdirectories ... OK
* checking R files for non-ASCII characters ... OK
* checking R files for syntax errors ... OK
* checking whether the package can be loaded ... OK
* checking whether the package can be loaded with stated dependencies ... OK
* checking whether the package can be unloaded cleanly ... OK
* checking whether the namespace can be loaded with stated dependencies ... OK
* checking whether the namespace can be unloaded cleanly ... OK
* checking loading without being on the library search path ... OK
* checking dependencies in R code ... OK
* checking S3 generic/method consistency ... OK
* checking replacement functions ... OK
* checking foreign function calls ... OK
* checking R code for possible problems ... OK
* checking Rd files ... OK
* checking Rd metadata ... OK
* checking Rd cross-references ... OK
* checking for missing documentation entries ... OK
* checking for code/documentation mismatches ... OK
* checking Rd \usage sections ... OK
* checking Rd contents ... OK
* checking for unstated dependencies in examples ... OK
* checking contents of ‘data’ directory ... OK
* checking data for non-ASCII characters ... OK
* checking LazyData ... OK
* checking data for ASCII and uncompressed saves ... OK
* checking files in ‘vignettes’ ... OK
* checking examples ... OK
Examples with CPU (user + system) or elapsed time > 5s
user system elapsed
scHOT 65.213 0.535 65.750
scHOT_performPermutationTest 65.073 0.256 65.331
scHOT_estimatePvalues 64.321 0.208 64.530
* checking for unstated dependencies in vignettes ... OK
* checking package vignettes in ‘inst/doc’ ... OK
* checking running R code from vignettes ...
‘scHOT.Rmd’ using ‘UTF-8’... OK
NONE
* checking re-building of vignette outputs ... OK
* checking PDF version of manual ... OK
* DONE
Status: OK
scHOT.Rcheck/00install.out
############################################################################## ############################################################################## ### ### Running command: ### ### /home/biocbuild/bbs-3.17-bioc/R/bin/R CMD INSTALL scHOT ### ############################################################################## ############################################################################## * installing to library ‘/home/biocbuild/bbs-3.17-bioc/R/site-library’ * installing *source* package ‘scHOT’ ... ** using staged installation ** R ** data *** moving datasets to lazyload DB ** byte-compile and prepare package for lazy loading ** help *** installing help indices ** building package indices ** installing vignettes ** testing if installed package can be loaded from temporary location ** testing if installed package can be loaded from final location ** testing if installed package keeps a record of temporary installation path * DONE (scHOT)
scHOT.Rcheck/scHOT-Ex.timings
| name | user | system | elapsed | |
| params-set | 0.286 | 0.059 | 0.346 | |
| plotColouredExpression | 1.724 | 0.116 | 1.840 | |
| plotHigherOrderSequence | 1.801 | 0.087 | 1.889 | |
| positionColData-set | 0.168 | 0.001 | 0.168 | |
| positionType-set | 0.137 | 0.004 | 0.141 | |
| scHOT | 65.213 | 0.535 | 65.750 | |
| scHOT_addTestingScaffold | 0.162 | 0.004 | 0.165 | |
| scHOT_buildFromMatrix | 0.133 | 0.000 | 0.133 | |
| scHOT_buildFromSCE | 0.398 | 0.024 | 0.421 | |
| scHOT_calculateGlobalHigherOrderFunction | 0.202 | 0.028 | 0.230 | |
| scHOT_calculateHigherOrderTestStatistics | 0.891 | 0.020 | 0.910 | |
| scHOT_estimatePvalues | 64.321 | 0.208 | 64.530 | |
| scHOT_output-set | 0.153 | 0.004 | 0.158 | |
| scHOT_performPermutationTest | 65.073 | 0.256 | 65.331 | |
| scHOT_setPermutationScaffold | 0.223 | 0.008 | 0.231 | |
| scHOT_setWeightMatrix | 0.211 | 0.012 | 0.223 | |
| scHOT_stripOutput | 0.145 | 0.004 | 0.150 | |
| spatialWeightMatrix | 0.000 | 0.003 | 0.003 | |
| testingScaffold-set | 0.145 | 0.004 | 0.149 | |
| thin | 0.009 | 0.000 | 0.009 | |
| trajectoryWeightMatrix | 0.003 | 0.000 | 0.003 | |
| weightMatrix-set | 0.279 | 0.000 | 0.279 | |
| weightedPearson | 0.001 | 0.000 | 0.001 | |
| weightedSpearman | 0.001 | 0.000 | 0.001 | |
| weightedVariance | 0.001 | 0.000 | 0.000 | |
| weightedZIKendall | 0.001 | 0.000 | 0.001 | |
| weightedZISpearman | 0 | 0 | 0 | |