| Back to Multiple platform build/check report for BioC 3.17 |
|
This page was generated on 2023-04-12 10:55:31 -0400 (Wed, 12 Apr 2023).
| Hostname | OS | Arch (*) | R version | Installed pkgs |
|---|---|---|---|---|
| nebbiolo1 | Linux (Ubuntu 22.04.1 LTS) | x86_64 | 4.3.0 alpha (2023-04-03 r84154) | 4547 |
| nebbiolo2 | Linux (Ubuntu 20.04.5 LTS) | x86_64 | R Under development (unstable) (2023-02-14 r83833) -- "Unsuffered Consequences" | 4333 |
| Click on any hostname to see more info about the system (e.g. compilers) (*) as reported by 'uname -p', except on Windows and Mac OS X | ||||
|
To the developers/maintainers of the scFeatures package: - Allow up to 24 hours (and sometimes 48 hours) for your latest push to git@git.bioconductor.org:packages/scFeatures.git to reflect on this report. See Troubleshooting Build Report for more information. - Use the following Renviron settings to reproduce errors and warnings. Note: If "R CMD check" recently failed on the Linux builder over a missing dependency, add the missing dependency to "Suggests" in your DESCRIPTION file. See the Renviron.bioc for details. |
| Package 1820/2207 | Hostname | OS / Arch | INSTALL | BUILD | CHECK | BUILD BIN | ||||||||
| scFeatures 0.99.27 (landing page) Yue Cao
| nebbiolo1 | Linux (Ubuntu 22.04.1 LTS) / x86_64 | OK | OK | OK | |||||||||
| nebbiolo2 | Linux (Ubuntu 20.04.5 LTS) / x86_64 | OK | OK | OK | ||||||||||
| Package: scFeatures |
| Version: 0.99.27 |
| Command: /home/biocbuild/bbs-3.17-bioc/R/bin/R CMD check --install=check:scFeatures.install-out.txt --library=/home/biocbuild/bbs-3.17-bioc/R/site-library --timings scFeatures_0.99.27.tar.gz |
| StartedAt: 2023-04-11 23:19:32 -0400 (Tue, 11 Apr 2023) |
| EndedAt: 2023-04-11 23:29:19 -0400 (Tue, 11 Apr 2023) |
| EllapsedTime: 586.9 seconds |
| RetCode: 0 |
| Status: OK |
| CheckDir: scFeatures.Rcheck |
| Warnings: 0 |
##############################################################################
##############################################################################
###
### Running command:
###
### /home/biocbuild/bbs-3.17-bioc/R/bin/R CMD check --install=check:scFeatures.install-out.txt --library=/home/biocbuild/bbs-3.17-bioc/R/site-library --timings scFeatures_0.99.27.tar.gz
###
##############################################################################
##############################################################################
* using log directory ‘/home/biocbuild/bbs-3.17-bioc/meat/scFeatures.Rcheck’
* using R version 4.3.0 alpha (2023-04-03 r84154)
* using platform: x86_64-pc-linux-gnu (64-bit)
* R was compiled by
gcc (Ubuntu 11.3.0-1ubuntu1~22.04) 11.3.0
GNU Fortran (Ubuntu 11.3.0-1ubuntu1~22.04) 11.3.0
* running under: Ubuntu 22.04.2 LTS
* using session charset: UTF-8
* checking for file ‘scFeatures/DESCRIPTION’ ... OK
* this is package ‘scFeatures’ version ‘0.99.27’
* package encoding: UTF-8
* checking package namespace information ... OK
* checking package dependencies ... OK
* checking if this is a source package ... OK
* checking if there is a namespace ... OK
* checking for hidden files and directories ... OK
* checking for portable file names ... OK
* checking for sufficient/correct file permissions ... OK
* checking whether package ‘scFeatures’ can be installed ... OK
* checking installed package size ... OK
* checking package directory ... OK
* checking ‘build’ directory ... OK
* checking DESCRIPTION meta-information ... OK
* checking top-level files ... OK
* checking for left-over files ... OK
* checking index information ... OK
* checking package subdirectories ... OK
* checking R files for non-ASCII characters ... OK
* checking R files for syntax errors ... OK
* checking whether the package can be loaded ... OK
* checking whether the package can be loaded with stated dependencies ... OK
* checking whether the package can be unloaded cleanly ... OK
* checking whether the namespace can be loaded with stated dependencies ... OK
* checking whether the namespace can be unloaded cleanly ... OK
* checking loading without being on the library search path ... OK
* checking dependencies in R code ... NOTE
Namespace in Imports field not imported from: 'DT'
All declared Imports should be used.
* checking S3 generic/method consistency ... OK
* checking replacement functions ... OK
* checking foreign function calls ... OK
* checking R code for possible problems ... NOTE
helper_CCI: no visible binding for global variable 'LRdb'
helper_CCI: no visible global function definition for 'capture.output'
run_pathway_gsva: no visible global function definition for
'capture.output'
Undefined global functions or variables:
LRdb capture.output
Consider adding
importFrom("utils", "capture.output")
to your NAMESPACE file.
* checking Rd files ... OK
* checking Rd metadata ... OK
* checking Rd cross-references ... OK
* checking for missing documentation entries ... OK
* checking for code/documentation mismatches ... OK
* checking Rd \usage sections ... OK
* checking Rd contents ... OK
* checking for unstated dependencies in examples ... OK
* checking contents of ‘data’ directory ... OK
* checking data for non-ASCII characters ... OK
* checking data for ASCII and uncompressed saves ... OK
* checking files in ‘vignettes’ ... OK
* checking examples ... OK
Examples with CPU (user + system) or elapsed time > 5s
user system elapsed
run_pathway_prop 16.778 0.834 17.612
run_pathway_mean 9.299 0.684 9.984
run_pathway_gsva 7.684 0.919 8.608
remove_mito_ribo 1.478 3.879 0.691
* checking for unstated dependencies in vignettes ... OK
* checking package vignettes in ‘inst/doc’ ... OK
* checking running R code from vignettes ...
‘scFeatures_overview.Rmd’ using ‘UTF-8’... OK
NONE
* checking re-building of vignette outputs ... OK
* checking PDF version of manual ... OK
* DONE
Status: 2 NOTEs
See
‘/home/biocbuild/bbs-3.17-bioc/meat/scFeatures.Rcheck/00check.log’
for details.
scFeatures.Rcheck/00install.out
############################################################################## ############################################################################## ### ### Running command: ### ### /home/biocbuild/bbs-3.17-bioc/R/bin/R CMD INSTALL scFeatures ### ############################################################################## ############################################################################## * installing to library ‘/home/biocbuild/bbs-3.17-bioc/R/site-library’ * installing *source* package ‘scFeatures’ ... ** using staged installation ** R ** data ** inst ** byte-compile and prepare package for lazy loading ** help *** installing help indices ** building package indices ** installing vignettes ** testing if installed package can be loaded from temporary location ** testing if installed package can be loaded from final location ** testing if installed package keeps a record of temporary installation path * DONE (scFeatures)
scFeatures.Rcheck/scFeatures-Ex.timings
| name | user | system | elapsed | |
| get_num_cell_per_spot | 0.185 | 0.036 | 0.220 | |
| makeSeurat | 0.369 | 0.012 | 0.382 | |
| process_data | 1.754 | 0.112 | 1.866 | |
| remove_mito_ribo | 1.478 | 3.879 | 0.691 | |
| run_CCI | 2.459 | 0.320 | 2.780 | |
| run_L_function | 0.870 | 0.076 | 0.946 | |
| run_Morans_I | 1.367 | 0.096 | 1.463 | |
| run_association_study_report | 3.675 | 0.325 | 4.012 | |
| run_celltype_interaction | 0.721 | 0.036 | 0.758 | |
| run_gene_cor | 3.800 | 0.342 | 3.962 | |
| run_gene_cor_celltype | 3.241 | 0.146 | 3.332 | |
| run_gene_mean | 2.903 | 0.101 | 3.004 | |
| run_gene_mean_celltype | 3.718 | 0.169 | 3.888 | |
| run_gene_prop | 2.150 | 0.036 | 2.185 | |
| run_gene_prop_celltype | 3.839 | 0.153 | 3.993 | |
| run_nn_correlation | 0.868 | 0.032 | 0.900 | |
| run_pathway_gsva | 7.684 | 0.919 | 8.608 | |
| run_pathway_mean | 9.299 | 0.684 | 9.984 | |
| run_pathway_prop | 16.778 | 0.834 | 17.612 | |
| run_proportion_logit | 0.293 | 0.036 | 0.329 | |
| run_proportion_ratio | 0.439 | 0.035 | 0.474 | |
| run_proportion_raw | 0.302 | 0.028 | 0.330 | |
| scFeatures | 2.570 | 1.919 | 0.555 | |