| Back to Multiple platform build/check report for BioC 3.17 |
|
This page was generated on 2023-04-12 10:55:30 -0400 (Wed, 12 Apr 2023).
| Hostname | OS | Arch (*) | R version | Installed pkgs |
|---|---|---|---|---|
| nebbiolo1 | Linux (Ubuntu 22.04.1 LTS) | x86_64 | 4.3.0 alpha (2023-04-03 r84154) | 4547 |
| nebbiolo2 | Linux (Ubuntu 20.04.5 LTS) | x86_64 | R Under development (unstable) (2023-02-14 r83833) -- "Unsuffered Consequences" | 4333 |
| Click on any hostname to see more info about the system (e.g. compilers) (*) as reported by 'uname -p', except on Windows and Mac OS X | ||||
|
To the developers/maintainers of the scBubbletree package: - Allow up to 24 hours (and sometimes 48 hours) for your latest push to git@git.bioconductor.org:packages/scBubbletree.git to reflect on this report. See Troubleshooting Build Report for more information. - Use the following Renviron settings to reproduce errors and warnings. Note: If "R CMD check" recently failed on the Linux builder over a missing dependency, add the missing dependency to "Suggests" in your DESCRIPTION file. See the Renviron.bioc for details. |
| Package 1808/2207 | Hostname | OS / Arch | INSTALL | BUILD | CHECK | BUILD BIN | ||||||||
| scBubbletree 1.1.9 (landing page) Simo Kitanovski
| nebbiolo1 | Linux (Ubuntu 22.04.1 LTS) / x86_64 | OK | OK | OK | |||||||||
| nebbiolo2 | Linux (Ubuntu 20.04.5 LTS) / x86_64 | OK | OK | OK | ||||||||||
| Package: scBubbletree |
| Version: 1.1.9 |
| Command: /home/biocbuild/bbs-3.17-bioc/R/bin/R CMD check --install=check:scBubbletree.install-out.txt --library=/home/biocbuild/bbs-3.17-bioc/R/site-library --timings scBubbletree_1.1.9.tar.gz |
| StartedAt: 2023-04-11 23:18:12 -0400 (Tue, 11 Apr 2023) |
| EndedAt: 2023-04-11 23:26:53 -0400 (Tue, 11 Apr 2023) |
| EllapsedTime: 521.5 seconds |
| RetCode: 0 |
| Status: OK |
| CheckDir: scBubbletree.Rcheck |
| Warnings: 0 |
##############################################################################
##############################################################################
###
### Running command:
###
### /home/biocbuild/bbs-3.17-bioc/R/bin/R CMD check --install=check:scBubbletree.install-out.txt --library=/home/biocbuild/bbs-3.17-bioc/R/site-library --timings scBubbletree_1.1.9.tar.gz
###
##############################################################################
##############################################################################
* using log directory ‘/home/biocbuild/bbs-3.17-bioc/meat/scBubbletree.Rcheck’
* using R version 4.3.0 alpha (2023-04-03 r84154)
* using platform: x86_64-pc-linux-gnu (64-bit)
* R was compiled by
gcc (Ubuntu 11.3.0-1ubuntu1~22.04) 11.3.0
GNU Fortran (Ubuntu 11.3.0-1ubuntu1~22.04) 11.3.0
* running under: Ubuntu 22.04.2 LTS
* using session charset: UTF-8
* checking for file ‘scBubbletree/DESCRIPTION’ ... OK
* checking extension type ... Package
* this is package ‘scBubbletree’ version ‘1.1.9’
* package encoding: UTF-8
* checking package namespace information ... OK
* checking package dependencies ... OK
* checking if this is a source package ... OK
* checking if there is a namespace ... OK
* checking for hidden files and directories ... OK
* checking for portable file names ... OK
* checking for sufficient/correct file permissions ... OK
* checking whether package ‘scBubbletree’ can be installed ... OK
* checking installed package size ... OK
* checking package directory ... OK
* checking ‘build’ directory ... OK
* checking DESCRIPTION meta-information ... OK
* checking top-level files ... OK
* checking for left-over files ... OK
* checking index information ... OK
* checking package subdirectories ... OK
* checking R files for non-ASCII characters ... OK
* checking R files for syntax errors ... OK
* checking whether the package can be loaded ... OK
* checking whether the package can be loaded with stated dependencies ... OK
* checking whether the package can be unloaded cleanly ... OK
* checking whether the namespace can be loaded with stated dependencies ... OK
* checking whether the namespace can be unloaded cleanly ... OK
* checking loading without being on the library search path ... OK
* checking dependencies in R code ... OK
* checking S3 generic/method consistency ... OK
* checking replacement functions ... OK
* checking foreign function calls ... OK
* checking R code for possible problems ... OK
* checking Rd files ... OK
* checking Rd metadata ... OK
* checking Rd cross-references ... OK
* checking for missing documentation entries ... OK
* checking for code/documentation mismatches ... OK
* checking Rd \usage sections ... OK
* checking Rd contents ... OK
* checking for unstated dependencies in examples ... OK
* checking contents of ‘data’ directory ... OK
* checking data for non-ASCII characters ... OK
* checking data for ASCII and uncompressed saves ... OK
* checking files in ‘vignettes’ ... OK
* checking examples ... OK
Examples with CPU (user + system) or elapsed time > 5s
user system elapsed
get_r 9.894 0.093 9.986
get_bubbletree_kmeans 6.472 0.168 6.639
get_gini_k 6.435 0.072 6.507
get_num_tiles 6.456 0.048 6.504
get_bubbletree_graph 5.400 0.084 5.484
* checking for unstated dependencies in ‘tests’ ... OK
* checking tests ...
Running ‘testthat.R’
OK
* checking for unstated dependencies in vignettes ... OK
* checking package vignettes in ‘inst/doc’ ... OK
* checking running R code from vignettes ...
‘User_manual.Rmd’ using ‘UTF-8’... OK
NONE
* checking re-building of vignette outputs ... OK
* checking PDF version of manual ... OK
* DONE
Status: OK
scBubbletree.Rcheck/00install.out
############################################################################## ############################################################################## ### ### Running command: ### ### /home/biocbuild/bbs-3.17-bioc/R/bin/R CMD INSTALL scBubbletree ### ############################################################################## ############################################################################## * installing to library ‘/home/biocbuild/bbs-3.17-bioc/R/site-library’ * installing *source* package ‘scBubbletree’ ... ** using staged installation ** R ** data ** inst ** byte-compile and prepare package for lazy loading ** help *** installing help indices ** building package indices ** installing vignettes ** testing if installed package can be loaded from temporary location ** testing if installed package can be loaded from final location ** testing if installed package keeps a record of temporary installation path * DONE (scBubbletree)
scBubbletree.Rcheck/tests/testthat.Rout
R version 4.3.0 alpha (2023-04-03 r84154)
Copyright (C) 2023 The R Foundation for Statistical Computing
Platform: x86_64-pc-linux-gnu (64-bit)
R is free software and comes with ABSOLUTELY NO WARRANTY.
You are welcome to redistribute it under certain conditions.
Type 'license()' or 'licence()' for distribution details.
R is a collaborative project with many contributors.
Type 'contributors()' for more information and
'citation()' on how to cite R or R packages in publications.
Type 'demo()' for some demos, 'help()' for on-line help, or
'help.start()' for an HTML browser interface to help.
Type 'q()' to quit R.
> library(testthat)
> library(scBubbletree)
>
> test_check("scBubbletree")
Tests input rules of get_bubbletree_graph
Tests input rules of get_bubbletree_kmeans
Tests input rules of get_cat_tiles
Tests input rules of get_gini_k
Tests input rules of get_gini
Tests input rules of get_k
Tests input rules of get_num_tiles
Tests input rules of get_num_violins
Tests input rules of get_r
Tests input rules of util
[ FAIL 0 | WARN 1 | SKIP 0 | PASS 481 ]
[ FAIL 0 | WARN 1 | SKIP 0 | PASS 481 ]
>
> proc.time()
user system elapsed
108.793 1.038 109.820
scBubbletree.Rcheck/scBubbletree-Ex.timings
| name | user | system | elapsed | |
| d_500 | 0.003 | 0.004 | 0.007 | |
| d_ccl | 0.013 | 0.004 | 0.017 | |
| get_bubbletree_dummy | 2.672 | 0.060 | 2.733 | |
| get_bubbletree_graph | 5.400 | 0.084 | 5.484 | |
| get_bubbletree_kmeans | 6.472 | 0.168 | 6.639 | |
| get_cat_tiles | 3.294 | 0.048 | 3.343 | |
| get_gini | 0.003 | 0.000 | 0.002 | |
| get_gini_k | 6.435 | 0.072 | 6.507 | |
| get_k | 2.117 | 0.012 | 2.129 | |
| get_num_tiles | 6.456 | 0.048 | 6.504 | |
| get_num_violins | 4.912 | 0.071 | 4.984 | |
| get_r | 9.894 | 0.093 | 9.986 | |