| Back to Multiple platform build/check report for BioC 3.17 | 
 | 
This page was generated on 2023-04-12 10:55:30 -0400 (Wed, 12 Apr 2023).
| Hostname | OS | Arch (*) | R version | Installed pkgs | 
|---|---|---|---|---|
| nebbiolo1 | Linux (Ubuntu 22.04.1 LTS) | x86_64 | 4.3.0 alpha (2023-04-03 r84154) | 4547 | 
| nebbiolo2 | Linux (Ubuntu 20.04.5 LTS) | x86_64 | R Under development (unstable) (2023-02-14 r83833) -- "Unsuffered Consequences" | 4333 | 
| Click on any hostname to see more info about the system (e.g. compilers) (*) as reported by 'uname -p', except on Windows and Mac OS X | ||||
| To the developers/maintainers of the rqt package: - Allow up to 24 hours (and sometimes 48 hours) for your latest push to git@git.bioconductor.org:packages/rqt.git to reflect on this report. See Troubleshooting Build Report for more information. - Use the following Renviron settings to reproduce errors and warnings. Note: If "R CMD check" recently failed on the Linux builder over a missing dependency, add the missing dependency to "Suggests" in your DESCRIPTION file. See the Renviron.bioc for details. | 
| Package 1748/2207 | Hostname | OS / Arch | INSTALL | BUILD | CHECK | BUILD BIN | ||||||||
| rqt 1.25.0  (landing page) Ilya Y. Zhbannikov 
 | nebbiolo1 | Linux (Ubuntu 22.04.1 LTS) / x86_64 | OK | OK | OK | |||||||||
| nebbiolo2 | Linux (Ubuntu 20.04.5 LTS) / x86_64 | OK | OK | OK | ||||||||||
| Package: rqt | 
| Version: 1.25.0 | 
| Command: /home/biocbuild/bbs-3.17-bioc/R/bin/R CMD check --install=check:rqt.install-out.txt --library=/home/biocbuild/bbs-3.17-bioc/R/site-library --timings rqt_1.25.0.tar.gz | 
| StartedAt: 2023-04-11 23:09:28 -0400 (Tue, 11 Apr 2023) | 
| EndedAt: 2023-04-11 23:12:26 -0400 (Tue, 11 Apr 2023) | 
| EllapsedTime: 177.5 seconds | 
| RetCode: 0 | 
| Status: OK | 
| CheckDir: rqt.Rcheck | 
| Warnings: 0 | 
##############################################################################
##############################################################################
###
### Running command:
###
###   /home/biocbuild/bbs-3.17-bioc/R/bin/R CMD check --install=check:rqt.install-out.txt --library=/home/biocbuild/bbs-3.17-bioc/R/site-library --timings rqt_1.25.0.tar.gz
###
##############################################################################
##############################################################################
* using log directory ‘/home/biocbuild/bbs-3.17-bioc/meat/rqt.Rcheck’
* using R version 4.3.0 alpha (2023-04-03 r84154)
* using platform: x86_64-pc-linux-gnu (64-bit)
* R was compiled by
    gcc (Ubuntu 11.3.0-1ubuntu1~22.04) 11.3.0
    GNU Fortran (Ubuntu 11.3.0-1ubuntu1~22.04) 11.3.0
* running under: Ubuntu 22.04.2 LTS
* using session charset: UTF-8
* checking for file ‘rqt/DESCRIPTION’ ... OK
* checking extension type ... Package
* this is package ‘rqt’ version ‘1.25.0’
* package encoding: UTF-8
* checking package namespace information ... OK
* checking package dependencies ... OK
* checking if this is a source package ... OK
* checking if there is a namespace ... OK
* checking for hidden files and directories ... OK
* checking for portable file names ... OK
* checking for sufficient/correct file permissions ... OK
* checking whether package ‘rqt’ can be installed ... OK
* checking installed package size ... OK
* checking package directory ... OK
* checking ‘build’ directory ... OK
* checking DESCRIPTION meta-information ... OK
* checking top-level files ... OK
* checking for left-over files ... OK
* checking index information ... OK
* checking package subdirectories ... OK
* checking R files for non-ASCII characters ... OK
* checking R files for syntax errors ... OK
* checking whether the package can be loaded ... OK
* checking whether the package can be loaded with stated dependencies ... OK
* checking whether the package can be unloaded cleanly ... OK
* checking whether the namespace can be loaded with stated dependencies ... OK
* checking whether the namespace can be unloaded cleanly ... OK
* checking loading without being on the library search path ... OK
* checking dependencies in R code ... OK
* checking S3 generic/method consistency ... OK
* checking replacement functions ... OK
* checking foreign function calls ... OK
* checking R code for possible problems ... OK
* checking Rd files ... OK
* checking Rd metadata ... OK
* checking Rd cross-references ... OK
* checking for missing documentation entries ... OK
* checking for code/documentation mismatches ... OK
* checking Rd \usage sections ... OK
* checking Rd contents ... OK
* checking for unstated dependencies in examples ... OK
* checking R/sysdata.rda ... OK
* checking files in ‘vignettes’ ... OK
* checking examples ... OK
* checking for unstated dependencies in ‘tests’ ... OK
* checking tests ...
  Running ‘runTests.R’
 OK
* checking for unstated dependencies in vignettes ... OK
* checking package vignettes in ‘inst/doc’ ... OK
* checking running R code from vignettes ...
  ‘rqt-vignette.Rmd’ using ‘UTF-8’... OK
 NONE
* checking re-building of vignette outputs ... OK
* checking PDF version of manual ... OK
* DONE
Status: OK
rqt.Rcheck/00install.out
############################################################################## ############################################################################## ### ### Running command: ### ### /home/biocbuild/bbs-3.17-bioc/R/bin/R CMD INSTALL rqt ### ############################################################################## ############################################################################## * installing to library ‘/home/biocbuild/bbs-3.17-bioc/R/site-library’ * installing *source* package ‘rqt’ ... ** using staged installation ** R ** inst ** byte-compile and prepare package for lazy loading ** help *** installing help indices ** building package indices ** installing vignettes ** testing if installed package can be loaded from temporary location ** testing if installed package can be loaded from final location ** testing if installed package keeps a record of temporary installation path * DONE (rqt)
rqt.Rcheck/tests/runTests.Rout
R version 4.3.0 alpha (2023-04-03 r84154)
Copyright (C) 2023 The R Foundation for Statistical Computing
Platform: x86_64-pc-linux-gnu (64-bit)
R is free software and comes with ABSOLUTELY NO WARRANTY.
You are welcome to redistribute it under certain conditions.
Type 'license()' or 'licence()' for distribution details.
R is a collaborative project with many contributors.
Type 'contributors()' for more information and
'citation()' on how to cite R or R packages in publications.
Type 'demo()' for some demos, 'help()' for on-line help, or
'help.start()' for an HTML browser interface to help.
Type 'q()' to quit R.
> # Adapted from: http://rwiki.sciviews.org/doku.php?id=developers:runit
> 
> if( identical( .Platform$OS.type, "windows" ) && 
+     identical( .Platform$r_arch, "x64" ) ){
+   print( "unit tests not run on windows 64 (workaround alert)" )
+ } else {
+   if(require("RUnit", quietly = TRUE)) {
+     pkg <- "rqt"
+     if(Sys.getenv("RCMDCHECK") == "FALSE") {
+       path <- file.path(getwd(), "..", "inst", "unitTests")
+     } else {
+       path <- system.file(package=pkg, "unitTests")
+     }
+ 
+     cat("\nRunning unit tests:\n")
+     print(list(pkg=pkg, getwd=getwd(), pathToUnitTests=path))
+     
+     library(package=pkg, character.only=TRUE)
+     
+     # Define tests
+     testSuite <- defineTestSuite(name=paste(pkg, "unit testing"), 
+                                  dirs=path, 
+                                  testFuncRegexp = "^test_+", 
+                                  testFileRegexp = "^test_+")
+     
+     # Run
+     tests <- runTestSuite(testSuite)
+     
+     # Default report name
+     pathReport <- file.path(path, "report")
+     
+     # Report to stdout
+     printTextProtocol(tests, showDetails=FALSE)
+     
+     # Return stop() to cause R CMD check stop in case of
+     #  - failures i.e. FALSE to unit tests or
+     #  - errors i.e. R errors
+     tmp <- getErrors(tests)
+     if(tmp$nFail > 0 | tmp$nErr > 0) {
+       stop(paste("\n\nUnit testing failed (#test failures: ", tmp$nFail, ", 
+                  #R errors: ",  tmp$nErr, ")\n\n", sep=""))
+     }
+     
+   } else {
+     print( "package RUnit not available, cannot run unit tests" )
+   }       
+ }
Running unit tests:
$pkg
[1] "rqt"
$getwd
[1] "/home/biocbuild/bbs-3.17-bioc/meat/rqt.Rcheck/tests"
$pathToUnitTests
[1] "/tmp/RtmpuJUg54/RLIBS_9a350968562e/rqt/unitTests"
Loading required package: SummarizedExperiment
Loading required package: MatrixGenerics
Loading required package: matrixStats
Attaching package: 'MatrixGenerics'
The following objects are masked from 'package:matrixStats':
    colAlls, colAnyNAs, colAnys, colAvgsPerRowSet, colCollapse,
    colCounts, colCummaxs, colCummins, colCumprods, colCumsums,
    colDiffs, colIQRDiffs, colIQRs, colLogSumExps, colMadDiffs,
    colMads, colMaxs, colMeans2, colMedians, colMins, colOrderStats,
    colProds, colQuantiles, colRanges, colRanks, colSdDiffs, colSds,
    colSums2, colTabulates, colVarDiffs, colVars, colWeightedMads,
    colWeightedMeans, colWeightedMedians, colWeightedSds,
    colWeightedVars, rowAlls, rowAnyNAs, rowAnys, rowAvgsPerColSet,
    rowCollapse, rowCounts, rowCummaxs, rowCummins, rowCumprods,
    rowCumsums, rowDiffs, rowIQRDiffs, rowIQRs, rowLogSumExps,
    rowMadDiffs, rowMads, rowMaxs, rowMeans2, rowMedians, rowMins,
    rowOrderStats, rowProds, rowQuantiles, rowRanges, rowRanks,
    rowSdDiffs, rowSds, rowSums2, rowTabulates, rowVarDiffs, rowVars,
    rowWeightedMads, rowWeightedMeans, rowWeightedMedians,
    rowWeightedSds, rowWeightedVars
Loading required package: GenomicRanges
Loading required package: stats4
Loading required package: BiocGenerics
Attaching package: 'BiocGenerics'
The following objects are masked from 'package:stats':
    IQR, mad, sd, var, xtabs
The following objects are masked from 'package:base':
    Filter, Find, Map, Position, Reduce, anyDuplicated, aperm, append,
    as.data.frame, basename, cbind, colnames, dirname, do.call,
    duplicated, eval, evalq, get, grep, grepl, intersect, is.unsorted,
    lapply, mapply, match, mget, order, paste, pmax, pmax.int, pmin,
    pmin.int, rank, rbind, rownames, sapply, setdiff, sort, table,
    tapply, union, unique, unsplit, which.max, which.min
Loading required package: S4Vectors
Attaching package: 'S4Vectors'
The following objects are masked from 'package:base':
    I, expand.grid, unname
Loading required package: IRanges
Loading required package: GenomeInfoDb
Loading required package: Biobase
Welcome to Bioconductor
    Vignettes contain introductory material; view with
    'browseVignettes()'. To cite Bioconductor, see
    'citation("Biobase")', and for packages 'citation("pkgname")'.
Attaching package: 'Biobase'
The following object is masked from 'package:MatrixGenerics':
    rowMedians
The following objects are masked from 'package:matrixStats':
    anyMissing, rowMedians
Executing test function test_geneTest  ...  done successfully.
Executing test function test_geneTestMeta  ...  done successfully.
RUNIT TEST PROTOCOL -- Tue Apr 11 23:12:11 2023 
*********************************************** 
Number of test functions: 2 
Number of errors: 0 
Number of failures: 0 
 
1 Test Suite : 
rqt unit testing - 2 test functions, 0 errors, 0 failures
Warning messages:
1: In RNGkind(kind = testSuite$rngKind, normal.kind = testSuite$rngNormalKind) :
  RNGkind: Marsaglia-Multicarry has poor statistical properties
2: In RNGkind(kind = testSuite$rngKind, normal.kind = testSuite$rngNormalKind) :
  RNGkind: severe deviations from normality for Kinderman-Ramage + Marsaglia-Multicarry
3: In RNGkind(kind = testSuite$rngKind, normal.kind = testSuite$rngNormalKind) :
  RNGkind: Marsaglia-Multicarry has poor statistical properties
4: In RNGkind(kind = testSuite$rngKind, normal.kind = testSuite$rngNormalKind) :
  RNGkind: severe deviations from normality for Kinderman-Ramage + Marsaglia-Multicarry
> 
> proc.time()
   user  system elapsed 
  7.626   0.373   7.989 
rqt.Rcheck/rqt-Ex.timings
| name | user | system | elapsed | |
| rqt-covariates | 0.062 | 0.003 | 0.065 | |
| rqt-geneTest | 0.084 | 0.016 | 0.099 | |
| rqt-geneTestMeta | 0.212 | 0.008 | 0.221 | |
| rqt-genotype | 0.024 | 0.000 | 0.025 | |
| rqt-methods | 0.027 | 0.000 | 0.027 | |
| rqt-phenotype | 0.021 | 0.000 | 0.021 | |
| rqt-results | 0.068 | 0.000 | 0.068 | |