| Back to Multiple platform build/check report for BioC 3.17 |
|
This page was generated on 2023-04-12 10:55:30 -0400 (Wed, 12 Apr 2023).
| Hostname | OS | Arch (*) | R version | Installed pkgs |
|---|---|---|---|---|
| nebbiolo1 | Linux (Ubuntu 22.04.1 LTS) | x86_64 | 4.3.0 alpha (2023-04-03 r84154) | 4547 |
| nebbiolo2 | Linux (Ubuntu 20.04.5 LTS) | x86_64 | R Under development (unstable) (2023-02-14 r83833) -- "Unsuffered Consequences" | 4333 |
| Click on any hostname to see more info about the system (e.g. compilers) (*) as reported by 'uname -p', except on Windows and Mac OS X | ||||
|
To the developers/maintainers of the rfaRm package: - Allow up to 24 hours (and sometimes 48 hours) for your latest push to git@git.bioconductor.org:packages/rfaRm.git to reflect on this report. See Troubleshooting Build Report for more information. - Use the following Renviron settings to reproduce errors and warnings. Note: If "R CMD check" recently failed on the Linux builder over a missing dependency, add the missing dependency to "Suggests" in your DESCRIPTION file. See the Renviron.bioc for details. |
| Package 1678/2207 | Hostname | OS / Arch | INSTALL | BUILD | CHECK | BUILD BIN | ||||||||
| rfaRm 1.11.2 (landing page) Lara Selles Vidal
| nebbiolo1 | Linux (Ubuntu 22.04.1 LTS) / x86_64 | OK | OK | TIMEOUT | |||||||||
| nebbiolo2 | Linux (Ubuntu 20.04.5 LTS) / x86_64 | OK | OK | TIMEOUT | ||||||||||
| Package: rfaRm |
| Version: 1.11.2 |
| Command: /home/biocbuild/bbs-3.17-bioc/R/bin/R CMD check --install=check:rfaRm.install-out.txt --library=/home/biocbuild/bbs-3.17-bioc/R/site-library --timings rfaRm_1.11.2.tar.gz |
| StartedAt: 2023-04-11 22:57:38 -0400 (Tue, 11 Apr 2023) |
| EndedAt: 2023-04-11 23:37:39 -0400 (Tue, 11 Apr 2023) |
| EllapsedTime: 2401.0 seconds |
| RetCode: None |
| Status: TIMEOUT |
| CheckDir: rfaRm.Rcheck |
| Warnings: NA |
##############################################################################
##############################################################################
###
### Running command:
###
### /home/biocbuild/bbs-3.17-bioc/R/bin/R CMD check --install=check:rfaRm.install-out.txt --library=/home/biocbuild/bbs-3.17-bioc/R/site-library --timings rfaRm_1.11.2.tar.gz
###
##############################################################################
##############################################################################
* using log directory ‘/home/biocbuild/bbs-3.17-bioc/meat/rfaRm.Rcheck’
* using R version 4.3.0 alpha (2023-04-03 r84154)
* using platform: x86_64-pc-linux-gnu (64-bit)
* R was compiled by
gcc (Ubuntu 11.3.0-1ubuntu1~22.04) 11.3.0
GNU Fortran (Ubuntu 11.3.0-1ubuntu1~22.04) 11.3.0
* running under: Ubuntu 22.04.2 LTS
* using session charset: UTF-8
* checking for file ‘rfaRm/DESCRIPTION’ ... OK
* checking extension type ... Package
* this is package ‘rfaRm’ version ‘1.11.2’
* package encoding: UTF-8
* checking package namespace information ... OK
* checking package dependencies ... OK
* checking if this is a source package ... OK
* checking if there is a namespace ... OK
* checking for hidden files and directories ... OK
* checking for portable file names ... OK
* checking for sufficient/correct file permissions ... OK
* checking whether package ‘rfaRm’ can be installed ... OK
* checking installed package size ... OK
* checking package directory ... OK
* checking ‘build’ directory ... OK
* checking DESCRIPTION meta-information ... OK
* checking top-level files ... OK
* checking for left-over files ... OK
* checking index information ... OK
* checking package subdirectories ... OK
* checking R files for non-ASCII characters ... OK
* checking R files for syntax errors ... OK
* checking whether the package can be loaded ... OK
* checking whether the package can be loaded with stated dependencies ... OK
* checking whether the package can be unloaded cleanly ... OK
* checking whether the namespace can be loaded with stated dependencies ... OK
* checking whether the namespace can be unloaded cleanly ... OK
* checking loading without being on the library search path ... OK
* checking startup messages can be suppressed ... OK
* checking dependencies in R code ... OK
* checking S3 generic/method consistency ... OK
* checking replacement functions ... OK
* checking foreign function calls ... OK
* checking R code for possible problems ... NOTE
rfamSeedAlignment: no visible global function definition for ‘as’
Undefined global functions or variables:
as
Consider adding
importFrom("methods", "as")
to your NAMESPACE file (and ensure that your DESCRIPTION Imports field
contains 'methods').
* checking Rd files ... OK
* checking Rd metadata ... OK
* checking Rd cross-references ... OK
* checking for missing documentation entries ... OK
* checking for code/documentation mismatches ... OK
* checking Rd \usage sections ... OK
* checking Rd contents ... OK
* checking for unstated dependencies in examples ... OK
* checking files in ‘vignettes’ ... OK
* checking examples ...
rfaRm.Rcheck/00install.out
############################################################################## ############################################################################## ### ### Running command: ### ### /home/biocbuild/bbs-3.17-bioc/R/bin/R CMD INSTALL rfaRm ### ############################################################################## ############################################################################## * installing to library ‘/home/biocbuild/bbs-3.17-bioc/R/site-library’ * installing *source* package ‘rfaRm’ ... ** using staged installation ** R ** inst ** byte-compile and prepare package for lazy loading ** help *** installing help indices ** building package indices ** installing vignettes ** testing if installed package can be loaded from temporary location ** testing if installed package can be loaded from final location ** testing if installed package keeps a record of temporary installation path * DONE (rfaRm)
rfaRm.Rcheck/rfaRm-Ex.timings
| name | user | system | elapsed | |
| rfamConsensusSecondaryStructure | 0.466 | 0.012 | 4.380 | |
| rfamCovarianceModel | 0.167 | 0.016 | 1.553 | |
| rfamFamilyAccessionToID | 0.037 | 0.004 | 0.274 | |
| rfamFamilyIDToAccession | 0.021 | 0.000 | 0.239 | |
| rfamFamilySummary | 0.185 | 0.020 | 1.733 | |
| rfamPDBMapping | 0.162 | 0.008 | 1.067 | |
| rfamSecondaryStructurePlot | 6.297 | 0.083 | 7.315 | |
| rfamSecondaryStructureXMLSVG | 0.081 | 0.012 | 1.107 | |
| rfamSeedAlignment | 0.791 | 0.028 | 4.807 | |
| rfamSeedTree | 0.141 | 0.004 | 2.299 | |
| rfamSeedTreeImage | 0.228 | 0.028 | 1.582 | |
| rfamSequenceRegions | 0.206 | 0.004 | 8.340 | |