| Back to Multiple platform build/check report for BioC 3.17 |
|
This page was generated on 2023-04-12 10:55:29 -0400 (Wed, 12 Apr 2023).
| Hostname | OS | Arch (*) | R version | Installed pkgs |
|---|---|---|---|---|
| nebbiolo1 | Linux (Ubuntu 22.04.1 LTS) | x86_64 | 4.3.0 alpha (2023-04-03 r84154) | 4547 |
| nebbiolo2 | Linux (Ubuntu 20.04.5 LTS) | x86_64 | R Under development (unstable) (2023-02-14 r83833) -- "Unsuffered Consequences" | 4333 |
| Click on any hostname to see more info about the system (e.g. compilers) (*) as reported by 'uname -p', except on Windows and Mac OS X | ||||
|
To the developers/maintainers of the ramwas package: - Allow up to 24 hours (and sometimes 48 hours) for your latest push to git@git.bioconductor.org:packages/ramwas.git to reflect on this report. See Troubleshooting Build Report for more information. - Use the following Renviron settings to reproduce errors and warnings. Note: If "R CMD check" recently failed on the Linux builder over a missing dependency, add the missing dependency to "Suggests" in your DESCRIPTION file. See the Renviron.bioc for details. |
| Package 1609/2207 | Hostname | OS / Arch | INSTALL | BUILD | CHECK | BUILD BIN | ||||||||
| ramwas 1.23.0 (landing page) Andrey A Shabalin
| nebbiolo1 | Linux (Ubuntu 22.04.1 LTS) / x86_64 | OK | OK | OK | |||||||||
| nebbiolo2 | Linux (Ubuntu 20.04.5 LTS) / x86_64 | OK | OK | OK | ||||||||||
| Package: ramwas |
| Version: 1.23.0 |
| Command: /home/biocbuild/bbs-3.17-bioc/R/bin/R CMD check --install=check:ramwas.install-out.txt --library=/home/biocbuild/bbs-3.17-bioc/R/site-library --timings ramwas_1.23.0.tar.gz |
| StartedAt: 2023-04-11 22:48:27 -0400 (Tue, 11 Apr 2023) |
| EndedAt: 2023-04-11 22:57:09 -0400 (Tue, 11 Apr 2023) |
| EllapsedTime: 522.7 seconds |
| RetCode: 0 |
| Status: OK |
| CheckDir: ramwas.Rcheck |
| Warnings: 0 |
##############################################################################
##############################################################################
###
### Running command:
###
### /home/biocbuild/bbs-3.17-bioc/R/bin/R CMD check --install=check:ramwas.install-out.txt --library=/home/biocbuild/bbs-3.17-bioc/R/site-library --timings ramwas_1.23.0.tar.gz
###
##############################################################################
##############################################################################
* using log directory ‘/home/biocbuild/bbs-3.17-bioc/meat/ramwas.Rcheck’
* using R version 4.3.0 alpha (2023-04-03 r84154)
* using platform: x86_64-pc-linux-gnu (64-bit)
* R was compiled by
gcc (Ubuntu 11.3.0-1ubuntu1~22.04) 11.3.0
GNU Fortran (Ubuntu 11.3.0-1ubuntu1~22.04) 11.3.0
* running under: Ubuntu 22.04.2 LTS
* using session charset: UTF-8
* checking for file ‘ramwas/DESCRIPTION’ ... OK
* checking extension type ... Package
* this is package ‘ramwas’ version ‘1.23.0’
* checking package namespace information ... OK
* checking package dependencies ... OK
* checking if this is a source package ... OK
* checking if there is a namespace ... OK
* checking for hidden files and directories ... OK
* checking for portable file names ... OK
* checking for sufficient/correct file permissions ... OK
* checking whether package ‘ramwas’ can be installed ... OK
* used C compiler: ‘gcc (Ubuntu 11.3.0-1ubuntu1~22.04) 11.3.0’
* checking installed package size ... OK
* checking package directory ... OK
* checking ‘build’ directory ... OK
* checking DESCRIPTION meta-information ... OK
* checking top-level files ... OK
* checking for left-over files ... OK
* checking index information ... OK
* checking package subdirectories ... OK
* checking R files for non-ASCII characters ... OK
* checking R files for syntax errors ... OK
* checking whether the package can be loaded ... OK
* checking whether the package can be loaded with stated dependencies ... OK
* checking whether the package can be unloaded cleanly ... OK
* checking whether the namespace can be loaded with stated dependencies ... OK
* checking whether the namespace can be unloaded cleanly ... OK
* checking loading without being on the library search path ... OK
* checking dependencies in R code ... OK
* checking S3 generic/method consistency ... OK
* checking replacement functions ... OK
* checking foreign function calls ... OK
* checking R code for possible problems ... OK
* checking Rd files ... OK
* checking Rd metadata ... OK
* checking Rd cross-references ... OK
* checking for missing documentation entries ... OK
* checking for code/documentation mismatches ... OK
* checking Rd \usage sections ... OK
* checking Rd contents ... OK
* checking for unstated dependencies in examples ... OK
* checking line endings in C/C++/Fortran sources/headers ... OK
* checking compiled code ... NOTE
Note: information on .o files is not available
* checking files in ‘vignettes’ ... OK
* checking examples ... OK
Examples with CPU (user + system) or elapsed time > 5s
user system elapsed
manhattan 8.368 0.756 9.126
* checking for unstated dependencies in vignettes ... OK
* checking package vignettes in ‘inst/doc’ ... OK
* checking running R code from vignettes ...
‘RW1_intro.Rmd’... OK
‘RW2_CpG_sets.Rmd’... OK
‘RW3_BAM_QCs.Rmd’... OK
‘RW4_SNPs.Rmd’... OK
‘RW5a_matrix.Rmd’... OK
‘RW5c_matrix.Rmd’... OK
‘RW6_param.Rmd’... OK
NONE
* checking re-building of vignette outputs ... OK
* checking PDF version of manual ... OK
* DONE
Status: 1 NOTE
See
‘/home/biocbuild/bbs-3.17-bioc/meat/ramwas.Rcheck/00check.log’
for details.
ramwas.Rcheck/00install.out
############################################################################## ############################################################################## ### ### Running command: ### ### /home/biocbuild/bbs-3.17-bioc/R/bin/R CMD INSTALL ramwas ### ############################################################################## ############################################################################## * installing to library ‘/home/biocbuild/bbs-3.17-bioc/R/site-library’ * installing *source* package ‘ramwas’ ... ** using staged installation ** libs using C compiler: ‘gcc (Ubuntu 11.3.0-1ubuntu1~22.04) 11.3.0’ gcc -I"/home/biocbuild/bbs-3.17-bioc/R/include" -DNDEBUG -I/usr/local/include -fpic -g -O2 -Wall -c rw_c_code.c -o rw_c_code.o gcc -shared -L/home/biocbuild/bbs-3.17-bioc/R/lib -L/usr/local/lib -o ramwas.so rw_c_code.o -L/home/biocbuild/bbs-3.17-bioc/R/lib -lR installing to /home/biocbuild/bbs-3.17-bioc/R/site-library/00LOCK-ramwas/00new/ramwas/libs ** R ** inst ** byte-compile and prepare package for lazy loading ** help *** installing help indices *** copying figures ** building package indices ** installing vignettes ** testing if installed package can be loaded from temporary location ** checking absolute paths in shared objects and dynamic libraries ** testing if installed package can be loaded from final location ** testing if installed package keeps a record of temporary installation path * DONE (ramwas)
ramwas.Rcheck/ramwas-Ex.timings
| name | user | system | elapsed | |
| MakeBED | 0.001 | 0.000 | 0.001 | |
| QCs | 0.044 | 0.006 | 0.051 | |
| cachedRDSload | 1.608 | 0.088 | 1.696 | |
| findBestNpvs | 0.002 | 0.000 | 0.002 | |
| get | 0.001 | 0.000 | 0.001 | |
| getCpGset | 3.494 | 0.176 | 3.684 | |
| injectSNPsMAF | 0.755 | 0.005 | 0.760 | |
| insilicoFASTQ | 0.000 | 0.002 | 0.002 | |
| isAbsolutePath | 0.000 | 0.001 | 0.001 | |
| makefullpath | 0.001 | 0.000 | 0.001 | |
| manhattan | 8.368 | 0.756 | 9.126 | |
| mat2cols | 0.002 | 0.000 | 0.001 | |
| orthonormalizeCovariates | 0.01 | 0.00 | 0.01 | |
| parameterDump | 0.003 | 0.000 | 0.003 | |
| parameterPreprocess | 0.012 | 0.000 | 0.030 | |
| parametersFromFile | 0.002 | 0.000 | 0.001 | |
| pipeline | 0.001 | 0.000 | 0.001 | |
| plotCV | 1.839 | 0.052 | 1.891 | |
| plotFragmentSizeDistributionEstimate | 0.023 | 0.008 | 0.031 | |
| plotPC | 0.010 | 0.000 | 0.011 | |
| processCommandLine | 0.001 | 0.000 | 0.001 | |
| pvalue2qvalue | 0.001 | 0.000 | 0.000 | |
| qqplotFast | 1.753 | 0.380 | 2.132 | |
| ramwas0createArtificialData | 0.179 | 0.024 | 0.204 | |
| ramwasAnnotateLocations | 0.000 | 0.000 | 0.001 | |
| ramwasParameters | 0 | 0 | 0 | |
| rowcolSumSq | 0.000 | 0.001 | 0.001 | |
| rwDataClass-class | 0.012 | 0.000 | 0.012 | |
| subsetData | 0 | 0 | 0 | |
| testPhenotype | 0.007 | 0.012 | 0.019 | |