| Back to Multiple platform build/check report for BioC 3.17 |
|
This page was generated on 2023-04-12 10:55:40 -0400 (Wed, 12 Apr 2023).
| Hostname | OS | Arch (*) | R version | Installed pkgs |
|---|---|---|---|---|
| nebbiolo1 | Linux (Ubuntu 22.04.1 LTS) | x86_64 | 4.3.0 alpha (2023-04-03 r84154) | 4547 |
| nebbiolo2 | Linux (Ubuntu 20.04.5 LTS) | x86_64 | R Under development (unstable) (2023-02-14 r83833) -- "Unsuffered Consequences" | 4333 |
| Click on any hostname to see more info about the system (e.g. compilers) (*) as reported by 'uname -p', except on Windows and Mac OS X | ||||
|
To the developers/maintainers of the rBiopaxParser package: - Allow up to 24 hours (and sometimes 48 hours) for your latest push to git@git.bioconductor.org:packages/rBiopaxParser.git to reflect on this report. See Troubleshooting Build Report for more information. - Use the following Renviron settings to reproduce errors and warnings. Note: If "R CMD check" recently failed on the Linux builder over a missing dependency, add the missing dependency to "Suggests" in your DESCRIPTION file. See the Renviron.bioc for details. |
| Package 1623/2207 | Hostname | OS / Arch | INSTALL | BUILD | CHECK | BUILD BIN | ||||||||
| rBiopaxParser 2.39.0 (landing page) Frank Kramer
| nebbiolo1 | Linux (Ubuntu 22.04.1 LTS) / x86_64 | OK | OK | OK | |||||||||
| nebbiolo2 | Linux (Ubuntu 20.04.5 LTS) / x86_64 | OK | OK | OK | ||||||||||
| Package: rBiopaxParser |
| Version: 2.39.0 |
| Command: /home/biocbuild/bbs-3.17-bioc/R/bin/R CMD check --install=check:rBiopaxParser.install-out.txt --library=/home/biocbuild/bbs-3.17-bioc/R/site-library --timings rBiopaxParser_2.39.0.tar.gz |
| StartedAt: 2023-04-12 08:40:46 -0400 (Wed, 12 Apr 2023) |
| EndedAt: 2023-04-12 08:41:35 -0400 (Wed, 12 Apr 2023) |
| EllapsedTime: 49.2 seconds |
| RetCode: 0 |
| Status: OK |
| CheckDir: rBiopaxParser.Rcheck |
| Warnings: 0 |
##############################################################################
##############################################################################
###
### Running command:
###
### /home/biocbuild/bbs-3.17-bioc/R/bin/R CMD check --install=check:rBiopaxParser.install-out.txt --library=/home/biocbuild/bbs-3.17-bioc/R/site-library --timings rBiopaxParser_2.39.0.tar.gz
###
##############################################################################
##############################################################################
* using log directory ‘/home/biocbuild/bbs-3.17-bioc/meat/rBiopaxParser.Rcheck’
* using R Under development (unstable) (2023-02-14 r83833)
* using platform: x86_64-pc-linux-gnu (64-bit)
* R was compiled by
gcc (Ubuntu 9.4.0-1ubuntu1~20.04.1) 9.4.0
GNU Fortran (Ubuntu 9.4.0-1ubuntu1~20.04.1) 9.4.0
* running under: Ubuntu 20.04.6 LTS
* using session charset: UTF-8
* checking for file ‘rBiopaxParser/DESCRIPTION’ ... OK
* checking extension type ... Package
* this is package ‘rBiopaxParser’ version ‘2.39.0’
* checking package namespace information ... OK
* checking package dependencies ... OK
* checking if this is a source package ... OK
* checking if there is a namespace ... OK
* checking for hidden files and directories ... OK
* checking for portable file names ... OK
* checking for sufficient/correct file permissions ... OK
* checking whether package ‘rBiopaxParser’ can be installed ... OK
* checking installed package size ... OK
* checking package directory ... OK
* checking ‘build’ directory ... OK
* checking DESCRIPTION meta-information ... OK
* checking top-level files ... OK
* checking for left-over files ... OK
* checking index information ... OK
* checking package subdirectories ... OK
* checking R files for non-ASCII characters ... OK
* checking R files for syntax errors ... OK
* checking whether the package can be loaded ... OK
* checking whether the package can be loaded with stated dependencies ... OK
* checking whether the package can be unloaded cleanly ... OK
* checking whether the namespace can be loaded with stated dependencies ... OK
* checking whether the namespace can be unloaded cleanly ... OK
* checking loading without being on the library search path ... OK
* checking dependencies in R code ... NOTE
'library' or 'require' calls in package code:
‘RBGL’ ‘RCurl’ ‘Rgraphviz’ ‘graph’ ‘igraph’
Please use :: or requireNamespace() instead.
See section 'Suggested packages' in the 'Writing R Extensions' manual.
* checking S3 generic/method consistency ... OK
* checking replacement functions ... OK
* checking foreign function calls ... OK
* checking R code for possible problems ... NOTE
addBiopaxInstance: no visible binding for global variable ‘property’
addBiopaxInstances: no visible binding for global variable ‘id’
addBiopaxInstances: no visible binding for global variable ‘property’
addPropertiesToBiopaxInstance: no visible binding for global variable
‘property’
colorGraphNodes: no visible global function definition for ‘hcl’
createBiopax: no visible binding for global variable ‘id’
createBiopax: no visible binding for global variable ‘property’
getReferencedIDs: no visible binding for global variable
‘property_attr’
getReferencedIDs: no visible binding for global variable ‘property’
getReferencingIDs: no visible binding for global variable
‘property_attr’
getReferencingIDs: no visible binding for global variable ‘property’
internal_XMLInstance2DF: no visible binding for global variable ‘i’
internal_XMLInstance2DF: no visible binding for global variable ‘p’
internal_generateXMLfromBiopax: no visible binding for global variable
‘id’
internal_getBiopaxModelAsDataFrame: no visible binding for global
variable ‘property’
internal_propertyListToDF: no visible binding for global variable
‘property’
layoutRegulatoryGraph: no visible global function definition for
‘nodes’
listInstances: no visible binding for global variable ‘property_value’
listInstances: no visible binding for global variable ‘property’
pathway2AdjacancyMatrix: no visible global function definition for ‘as’
pathway2Graph: no visible global function definition for ‘new’
pathway2Graph: no visible global function definition for ‘getClassDef’
pathway2Graph: no visible binding for global variable ‘id’
pathway2Graph: no visible binding for global variable ‘property’
pathway2RegulatoryGraph: no visible global function definition for
‘new’
pathway2RegulatoryGraph: no visible global function definition for
‘getClassDef’
pathway2RegulatoryGraph: no visible binding for global variable ‘id’
pathway2RegulatoryGraph: no visible binding for global variable
‘property’
plotRegulatoryGraph: no visible global function definition for ‘nodes’
removeDisconnectedParts: no visible global function definition for
‘removeNode’
removeNodes: no visible global function definition for ‘edgeWeights’
removeNodes: no visible global function definition for ‘na.omit’
removeNodes: no visible global function definition for ‘removeNode’
removeNodes: no visible global function definition for ‘addEdge’
removeProperties: no visible binding for global variable ‘property’
selectInstances: no visible binding for global variable
‘property_value’
Undefined global functions or variables:
addEdge as edgeWeights getClassDef hcl i id na.omit new nodes p
property property_attr property_value removeNode
Consider adding
importFrom("grDevices", "hcl")
importFrom("methods", "as", "getClassDef", "new")
importFrom("stats", "na.omit")
to your NAMESPACE file (and ensure that your DESCRIPTION Imports field
contains 'methods').
* checking Rd files ... OK
* checking Rd metadata ... OK
* checking Rd cross-references ... OK
* checking for missing documentation entries ... OK
* checking for code/documentation mismatches ... OK
* checking Rd \usage sections ... OK
* checking Rd contents ... OK
* checking for unstated dependencies in examples ... OK
* checking contents of ‘data’ directory ... OK
* checking data for non-ASCII characters ... NOTE
Note: found 1 marked UTF-8 string
* checking data for ASCII and uncompressed saves ... OK
* checking files in ‘vignettes’ ... OK
* checking examples ... OK
* checking for unstated dependencies in ‘tests’ ... OK
* checking tests ...
Running ‘runTests.R’
OK
* checking for unstated dependencies in vignettes ... OK
* checking package vignettes in ‘inst/doc’ ... OK
* checking running R code from vignettes ...
‘rBiopaxParserVignette.Rnw’ using ‘UTF-8’... OK
OK
* checking re-building of vignette outputs ... OK
* checking PDF version of manual ... OK
* DONE
Status: 3 NOTEs
See
‘/home/biocbuild/bbs-3.17-bioc/meat/rBiopaxParser.Rcheck/00check.log’
for details.
rBiopaxParser.Rcheck/00install.out
############################################################################## ############################################################################## ### ### Running command: ### ### /home/biocbuild/bbs-3.17-bioc/R/bin/R CMD INSTALL rBiopaxParser ### ############################################################################## ############################################################################## * installing to library ‘/home/biocbuild/bbs-3.17-bioc/R/site-library’ * installing *source* package ‘rBiopaxParser’ ... ** using staged installation ** R ** data ** inst ** byte-compile and prepare package for lazy loading ** help *** installing help indices ** building package indices ** installing vignettes ** testing if installed package can be loaded from temporary location ** testing if installed package can be loaded from final location ** testing if installed package keeps a record of temporary installation path * DONE (rBiopaxParser)
rBiopaxParser.Rcheck/tests/runTests.Rout
R Under development (unstable) (2023-02-14 r83833) -- "Unsuffered Consequences"
Copyright (C) 2023 The R Foundation for Statistical Computing
Platform: x86_64-pc-linux-gnu (64-bit)
R is free software and comes with ABSOLUTELY NO WARRANTY.
You are welcome to redistribute it under certain conditions.
Type 'license()' or 'licence()' for distribution details.
R is a collaborative project with many contributors.
Type 'contributors()' for more information and
'citation()' on how to cite R or R packages in publications.
Type 'demo()' for some demos, 'help()' for on-line help, or
'help.start()' for an HTML browser interface to help.
Type 'q()' to quit R.
> BiocGenerics:::testPackage("rBiopaxParser")
RUNIT TEST PROTOCOL -- Wed Apr 12 08:41:26 2023
***********************************************
Number of test functions: 12
Number of errors: 0
Number of failures: 0
1 Test Suite :
rBiopaxParser RUnit Tests - 12 test functions, 0 errors, 0 failures
Number of test functions: 12
Number of errors: 0
Number of failures: 0
>
> proc.time()
user system elapsed
0.670 0.046 0.701
rBiopaxParser.Rcheck/rBiopaxParser-Ex.timings
| name | user | system | elapsed | |
| addBiochemicalReaction | 0.027 | 0.000 | 0.027 | |
| addBiopaxInstance | 0.004 | 0.000 | 0.004 | |
| addBiopaxInstances | 0.018 | 0.004 | 0.022 | |
| addControl | 0.016 | 0.000 | 0.016 | |
| addPathway | 0.023 | 0.000 | 0.023 | |
| addPathwayComponents | 0.024 | 0.000 | 0.024 | |
| addPhysicalEntity | 0.006 | 0.000 | 0.006 | |
| addPhysicalEntityParticipant | 0.01 | 0.00 | 0.01 | |
| addPropertiesToBiopaxInstance | 0.007 | 0.000 | 0.007 | |
| biopax | 0.015 | 0.000 | 0.016 | |
| calcGraphOverlap | 1.899 | 0.039 | 1.939 | |
| colorGraphNodes | 1.154 | 0.000 | 1.154 | |
| combineNodes | 0.000 | 0.002 | 0.003 | |
| createBiopax | 0.001 | 0.000 | 0.002 | |
| diffGraphs | 1.962 | 0.017 | 1.978 | |
| downloadBiopaxData | 0 | 0 | 0 | |
| getClassProperties | 0.002 | 0.000 | 0.001 | |
| getInstanceClass | 0.007 | 0.000 | 0.007 | |
| getInstanceProperty | 0.009 | 0.000 | 0.009 | |
| getReferencedIDs | 0.031 | 0.000 | 0.031 | |
| getReferencingIDs | 0.019 | 0.000 | 0.020 | |
| getSubClasses | 0 | 0 | 0 | |
| getSuperClasses | 0 | 0 | 0 | |
| getXrefAnnotations | 0.155 | 0.000 | 0.155 | |
| hasProperty | 0.003 | 0.000 | 0.003 | |
| intersectGraphs | 1.756 | 0.000 | 1.756 | |
| isOfClass | 0.003 | 0.000 | 0.003 | |
| layoutRegulatoryGraph | 1.161 | 0.000 | 1.161 | |
| listComplexComponents | 0.017 | 0.000 | 0.016 | |
| listInstances | 0.015 | 0.003 | 0.019 | |
| listInteractionComponents | 0.018 | 0.001 | 0.017 | |
| listPathwayComponents | 0.015 | 0.000 | 0.014 | |
| listPathways | 0.007 | 0.000 | 0.007 | |
| pathway2AdjacancyMatrix | 1.083 | 0.000 | 1.083 | |
| pathway2Geneset | 0.423 | 0.000 | 0.422 | |
| pathway2Graph | 0.938 | 0.004 | 0.915 | |
| pathway2RegulatoryGraph | 0.988 | 0.035 | 1.024 | |
| plotRegulatoryGraph | 0.989 | 0.007 | 0.997 | |
| print.biopax | 0.008 | 0.000 | 0.009 | |
| rBiopaxParser-package | 0 | 0 | 0 | |
| readBiopax | 0.000 | 0.003 | 0.003 | |
| removeInstance | 0.004 | 0.000 | 0.004 | |
| removeNodes | 0.997 | 0.036 | 1.033 | |
| removeProperties | 0.004 | 0.000 | 0.005 | |
| selectInstances | 0.012 | 0.000 | 0.013 | |
| splitComplex | 0.032 | 0.000 | 0.032 | |
| transitiveClosure | 0.885 | 0.015 | 0.902 | |
| transitiveReduction | 0.861 | 0.020 | 0.881 | |
| uniteGraphs | 1.651 | 0.000 | 1.651 | |
| writeBiopax | 0.002 | 0.000 | 0.001 | |