| Back to Multiple platform build/check report for BioC 3.17 |
|
This page was generated on 2023-04-12 10:55:29 -0400 (Wed, 12 Apr 2023).
| Hostname | OS | Arch (*) | R version | Installed pkgs |
|---|---|---|---|---|
| nebbiolo1 | Linux (Ubuntu 22.04.1 LTS) | x86_64 | 4.3.0 alpha (2023-04-03 r84154) | 4547 |
| nebbiolo2 | Linux (Ubuntu 20.04.5 LTS) | x86_64 | R Under development (unstable) (2023-02-14 r83833) -- "Unsuffered Consequences" | 4333 |
| Click on any hostname to see more info about the system (e.g. compilers) (*) as reported by 'uname -p', except on Windows and Mac OS X | ||||
|
To the developers/maintainers of the qckitfastq package: - Allow up to 24 hours (and sometimes 48 hours) for your latest push to git@git.bioconductor.org:packages/qckitfastq.git to reflect on this report. See Troubleshooting Build Report for more information. - Use the following Renviron settings to reproduce errors and warnings. Note: If "R CMD check" recently failed on the Linux builder over a missing dependency, add the missing dependency to "Suggests" in your DESCRIPTION file. See the Renviron.bioc for details. |
| Package 1578/2207 | Hostname | OS / Arch | INSTALL | BUILD | CHECK | BUILD BIN | ||||||||
| qckitfastq 1.15.0 (landing page) August Guang
| nebbiolo1 | Linux (Ubuntu 22.04.1 LTS) / x86_64 | OK | OK | OK | |||||||||
| nebbiolo2 | Linux (Ubuntu 20.04.5 LTS) / x86_64 | OK | OK | OK | ||||||||||
| Package: qckitfastq |
| Version: 1.15.0 |
| Command: /home/biocbuild/bbs-3.17-bioc/R/bin/R CMD check --install=check:qckitfastq.install-out.txt --library=/home/biocbuild/bbs-3.17-bioc/R/site-library --timings qckitfastq_1.15.0.tar.gz |
| StartedAt: 2023-04-11 22:43:25 -0400 (Tue, 11 Apr 2023) |
| EndedAt: 2023-04-11 22:44:39 -0400 (Tue, 11 Apr 2023) |
| EllapsedTime: 74.7 seconds |
| RetCode: 0 |
| Status: OK |
| CheckDir: qckitfastq.Rcheck |
| Warnings: 0 |
##############################################################################
##############################################################################
###
### Running command:
###
### /home/biocbuild/bbs-3.17-bioc/R/bin/R CMD check --install=check:qckitfastq.install-out.txt --library=/home/biocbuild/bbs-3.17-bioc/R/site-library --timings qckitfastq_1.15.0.tar.gz
###
##############################################################################
##############################################################################
* using log directory ‘/home/biocbuild/bbs-3.17-bioc/meat/qckitfastq.Rcheck’
* using R version 4.3.0 alpha (2023-04-03 r84154)
* using platform: x86_64-pc-linux-gnu (64-bit)
* R was compiled by
gcc (Ubuntu 11.3.0-1ubuntu1~22.04) 11.3.0
GNU Fortran (Ubuntu 11.3.0-1ubuntu1~22.04) 11.3.0
* running under: Ubuntu 22.04.2 LTS
* using session charset: UTF-8
* checking for file ‘qckitfastq/DESCRIPTION’ ... OK
* checking extension type ... Package
* this is package ‘qckitfastq’ version ‘1.15.0’
* package encoding: UTF-8
* checking package namespace information ... OK
* checking package dependencies ... OK
* checking if this is a source package ... OK
* checking if there is a namespace ... OK
* checking for hidden files and directories ... OK
* checking for portable file names ... OK
* checking for sufficient/correct file permissions ... OK
* checking whether package ‘qckitfastq’ can be installed ... OK
* used C++ compiler: ‘g++ (Ubuntu 11.3.0-1ubuntu1~22.04) 11.3.0’
* checking C++ specification ... NOTE
Specified C++14: please drop specification unless essential
* checking installed package size ... OK
* checking package directory ... OK
* checking ‘build’ directory ... OK
* checking DESCRIPTION meta-information ... OK
* checking top-level files ... OK
* checking for left-over files ... OK
* checking index information ... OK
* checking package subdirectories ... OK
* checking R files for non-ASCII characters ... OK
* checking R files for syntax errors ... OK
* checking whether the package can be loaded ... OK
* checking whether the package can be loaded with stated dependencies ... OK
* checking whether the package can be unloaded cleanly ... OK
* checking whether the namespace can be loaded with stated dependencies ... OK
* checking whether the namespace can be unloaded cleanly ... OK
* checking loading without being on the library search path ... OK
* checking dependencies in R code ... OK
* checking S3 generic/method consistency ... OK
* checking replacement functions ... OK
* checking foreign function calls ... OK
* checking R code for possible problems ... OK
* checking Rd files ... OK
* checking Rd metadata ... OK
* checking Rd cross-references ... OK
* checking for missing documentation entries ... OK
* checking for code/documentation mismatches ... OK
* checking Rd \usage sections ... OK
* checking Rd contents ... OK
* checking for unstated dependencies in examples ... OK
* checking line endings in C/C++/Fortran sources/headers ... OK
* checking line endings in Makefiles ... OK
* checking compilation flags in Makevars ... OK
* checking for GNU extensions in Makefiles ... OK
* checking for portable use of $(BLAS_LIBS) and $(LAPACK_LIBS) ... OK
* checking use of PKG_*FLAGS in Makefiles ... OK
* checking compiled code ... NOTE
Note: information on .o files is not available
* checking files in ‘vignettes’ ... OK
* checking examples ... OK
Examples with CPU (user + system) or elapsed time > 5s
user system elapsed
run_all 8.867 0.18 9.015
* checking for unstated dependencies in ‘tests’ ... OK
* checking tests ...
Running ‘testthat.R’
OK
* checking for unstated dependencies in vignettes ... OK
* checking package vignettes in ‘inst/doc’ ... OK
* checking running R code from vignettes ...
‘vignette-qckitfastq.Rmd’ using ‘UTF-8’... OK
NONE
* checking re-building of vignette outputs ... OK
* checking PDF version of manual ... OK
* DONE
Status: 2 NOTEs
See
‘/home/biocbuild/bbs-3.17-bioc/meat/qckitfastq.Rcheck/00check.log’
for details.
qckitfastq.Rcheck/00install.out
##############################################################################
##############################################################################
###
### Running command:
###
### /home/biocbuild/bbs-3.17-bioc/R/bin/R CMD INSTALL qckitfastq
###
##############################################################################
##############################################################################
* installing to library ‘/home/biocbuild/bbs-3.17-bioc/R/site-library’
* installing *source* package ‘qckitfastq’ ...
** using staged installation
** libs
using C++ compiler: ‘g++ (Ubuntu 11.3.0-1ubuntu1~22.04) 11.3.0’
using C++14
g++ -std=gnu++14 -I"/home/biocbuild/bbs-3.17-bioc/R/include" -DNDEBUG -I'/home/biocbuild/bbs-3.17-bioc/R/site-library/Rcpp/include' -I'/home/biocbuild/bbs-3.17-bioc/R/site-library/RSeqAn/include' -I/usr/local/include -fpic -g -O2 -Wall -c RcppExports.cpp -o RcppExports.o
g++ -std=gnu++14 -I"/home/biocbuild/bbs-3.17-bioc/R/include" -DNDEBUG -I'/home/biocbuild/bbs-3.17-bioc/R/site-library/Rcpp/include' -I'/home/biocbuild/bbs-3.17-bioc/R/site-library/RSeqAn/include' -I/usr/local/include -fpic -g -O2 -Wall -c calc_adapter_content.cpp -o calc_adapter_content.o
g++ -std=gnu++14 -I"/home/biocbuild/bbs-3.17-bioc/R/include" -DNDEBUG -I'/home/biocbuild/bbs-3.17-bioc/R/site-library/Rcpp/include' -I'/home/biocbuild/bbs-3.17-bioc/R/site-library/RSeqAn/include' -I/usr/local/include -fpic -g -O2 -Wall -c gzstream.cpp -o gzstream.o
g++ -std=gnu++14 -I"/home/biocbuild/bbs-3.17-bioc/R/include" -DNDEBUG -I'/home/biocbuild/bbs-3.17-bioc/R/site-library/Rcpp/include' -I'/home/biocbuild/bbs-3.17-bioc/R/site-library/RSeqAn/include' -I/usr/local/include -fpic -g -O2 -Wall -c read_fastq.cpp -o read_fastq.o
read_fastq.cpp: In function ‘Rcpp::List qual_score_per_read(std::string)’:
read_fastq.cpp:181:33: warning: comparison of integer expressions of different signedness: ‘int’ and ‘std::map<int, std::vector<unsigned char> >::size_type’ {aka ‘long unsigned int’} [-Wsign-compare]
181 | if (pos_counter <= qual_score_matrix.size()) {
| ~~~~~~~~~~~~^~~~~~~~~~~~~~~~~~~~~~~~~~~
g++ -std=gnu++14 -shared -L/home/biocbuild/bbs-3.17-bioc/R/lib -L/usr/local/lib -o qckitfastq.so RcppExports.o calc_adapter_content.o gzstream.o read_fastq.o -lz -L/home/biocbuild/bbs-3.17-bioc/R/lib -lR
installing to /home/biocbuild/bbs-3.17-bioc/R/site-library/00LOCK-qckitfastq/00new/qckitfastq/libs
** R
** inst
** byte-compile and prepare package for lazy loading
** help
*** installing help indices
** building package indices
** installing vignettes
** testing if installed package can be loaded from temporary location
** checking absolute paths in shared objects and dynamic libraries
** testing if installed package can be loaded from final location
** testing if installed package keeps a record of temporary installation path
* DONE (qckitfastq)
qckitfastq.Rcheck/tests/testthat.Rout
R version 4.3.0 alpha (2023-04-03 r84154)
Copyright (C) 2023 The R Foundation for Statistical Computing
Platform: x86_64-pc-linux-gnu (64-bit)
R is free software and comes with ABSOLUTELY NO WARRANTY.
You are welcome to redistribute it under certain conditions.
Type 'license()' or 'licence()' for distribution details.
R is a collaborative project with many contributors.
Type 'contributors()' for more information and
'citation()' on how to cite R or R packages in publications.
Type 'demo()' for some demos, 'help()' for on-line help, or
'help.start()' for an HTML browser interface to help.
Type 'q()' to quit R.
> library(testthat)
> library(qckitfastq)
>
> test_check("qckitfastq")
[fastqq] File ( 1/1) '/home/biocbuild/bbs-3.17-bioc/R/site-library/qckitfastq/extdata/10^5_reads_test.fq.gz' done.
[fastq_Klocs] File ( 1/1) '/home/biocbuild/bbs-3.17-bioc/R/site-library/qckitfastq/extdata/10^5_reads_test.fq.gz' done.
[fastqq] File ( 1/1) '/home/biocbuild/bbs-3.17-bioc/R/site-library/qckitfastq/extdata/10^5_reads_test.fq.gz' done.
[fastqq] File ( 1/1) '/home/biocbuild/bbs-3.17-bioc/R/site-library/qckitfastq/extdata/10^5_reads_test.fq.gz' done.
[fastq_Klocs] File ( 1/1) '/home/biocbuild/bbs-3.17-bioc/R/site-library/qckitfastq/extdata/10^5_reads_test.fq.gz' done.
[fastqq] File ( 1/1) '/home/biocbuild/bbs-3.17-bioc/R/site-library/qckitfastq/extdata/10^5_reads_test.fq.gz' done.
[fastq_Klocs] File ( 1/1) '/home/biocbuild/bbs-3.17-bioc/R/site-library/qckitfastq/extdata/10^5_reads_test.fq.gz' done.
[ FAIL 0 | WARN 4 | SKIP 0 | PASS 37 ]
[ FAIL 0 | WARN 4 | SKIP 0 | PASS 37 ]
>
> proc.time()
user system elapsed
14.415 0.401 14.777
qckitfastq.Rcheck/qckitfastq-Ex.timings
| name | user | system | elapsed | |
| GC_content | 0.123 | 0.004 | 0.128 | |
| adapter_content | 0.004 | 0.000 | 0.004 | |
| calc_adapter_content | 0.002 | 0.000 | 0.003 | |
| calc_format_score | 0 | 0 | 0 | |
| calc_over_rep_seq | 0.052 | 0.000 | 0.052 | |
| dimensions | 0.155 | 0.001 | 0.155 | |
| find_format | 0.002 | 0.000 | 0.002 | |
| gc_per_read | 0.125 | 0.000 | 0.124 | |
| kmer_count | 0.063 | 0.000 | 0.063 | |
| overrep_kmer | 0.262 | 0.007 | 0.270 | |
| overrep_reads | 0.048 | 0.004 | 0.052 | |
| per_base_quality | 0.197 | 0.008 | 0.205 | |
| per_read_quality | 0.187 | 0.007 | 0.196 | |
| plot_GC_content | 0.393 | 0.011 | 0.405 | |
| plot_adapter_content | 0.272 | 0.000 | 0.272 | |
| plot_overrep_kmer | 0.459 | 0.008 | 0.466 | |
| plot_overrep_reads | 0.177 | 0.000 | 0.177 | |
| plot_per_base_quality | 1.045 | 0.004 | 1.050 | |
| plot_per_read_quality | 0.328 | 0.008 | 0.336 | |
| plot_read_content | 0.345 | 0.001 | 0.346 | |
| plot_read_length | 0.211 | 0.000 | 0.211 | |
| qual_score_per_read | 0.185 | 0.003 | 0.189 | |
| read_base_content | 0.077 | 0.000 | 0.078 | |
| read_content | 0.082 | 0.001 | 0.083 | |
| read_length | 0.002 | 0.000 | 0.003 | |
| run_all | 8.867 | 0.180 | 9.015 | |