| Back to Multiple platform build/check report for BioC 3.17 |
|
This page was generated on 2023-04-12 10:55:29 -0400 (Wed, 12 Apr 2023).
| Hostname | OS | Arch (*) | R version | Installed pkgs |
|---|---|---|---|---|
| nebbiolo1 | Linux (Ubuntu 22.04.1 LTS) | x86_64 | 4.3.0 alpha (2023-04-03 r84154) | 4547 |
| nebbiolo2 | Linux (Ubuntu 20.04.5 LTS) | x86_64 | R Under development (unstable) (2023-02-14 r83833) -- "Unsuffered Consequences" | 4333 |
| Click on any hostname to see more info about the system (e.g. compilers) (*) as reported by 'uname -p', except on Windows and Mac OS X | ||||
|
To the developers/maintainers of the pqsfinder package: - Allow up to 24 hours (and sometimes 48 hours) for your latest push to git@git.bioconductor.org:packages/pqsfinder.git to reflect on this report. See Troubleshooting Build Report for more information. - Use the following Renviron settings to reproduce errors and warnings. Note: If "R CMD check" recently failed on the Linux builder over a missing dependency, add the missing dependency to "Suggests" in your DESCRIPTION file. See the Renviron.bioc for details. |
| Package 1532/2207 | Hostname | OS / Arch | INSTALL | BUILD | CHECK | BUILD BIN | ||||||||
| pqsfinder 2.15.1 (landing page) Jiri Hon
| nebbiolo1 | Linux (Ubuntu 22.04.1 LTS) / x86_64 | OK | OK | WARNINGS | |||||||||
| nebbiolo2 | Linux (Ubuntu 20.04.5 LTS) / x86_64 | OK | OK | WARNINGS | ||||||||||
| Package: pqsfinder |
| Version: 2.15.1 |
| Command: /home/biocbuild/bbs-3.17-bioc/R/bin/R CMD INSTALL pqsfinder |
| StartedAt: 2023-04-11 15:05:49 -0400 (Tue, 11 Apr 2023) |
| EndedAt: 2023-04-11 15:06:32 -0400 (Tue, 11 Apr 2023) |
| EllapsedTime: 43.0 seconds |
| RetCode: 0 |
| Status: OK |
##############################################################################
##############################################################################
###
### Running command:
###
### /home/biocbuild/bbs-3.17-bioc/R/bin/R CMD INSTALL pqsfinder
###
##############################################################################
##############################################################################
* installing to library ‘/home/biocbuild/bbs-3.17-bioc/R/site-library’
* installing *source* package ‘pqsfinder’ ...
** using staged installation
** libs
using C++ compiler: ‘g++ (Ubuntu 11.3.0-1ubuntu1~22.04) 11.3.0’
using C++11
g++ -std=gnu++11 -I"/home/biocbuild/bbs-3.17-bioc/R/include" -DNDEBUG -I'/home/biocbuild/bbs-3.17-bioc/R/site-library/Rcpp/include' -I'/home/biocbuild/bbs-3.17-bioc/R/site-library/BH/include' -I/usr/local/include -fpic -g -O2 -Wall -c RcppExports.cpp -o RcppExports.o
g++ -std=gnu++11 -I"/home/biocbuild/bbs-3.17-bioc/R/include" -DNDEBUG -I'/home/biocbuild/bbs-3.17-bioc/R/site-library/Rcpp/include' -I'/home/biocbuild/bbs-3.17-bioc/R/site-library/BH/include' -I/usr/local/include -fpic -g -O2 -Wall -c pqsfinder.cpp -o pqsfinder.o
pqsfinder.cpp: In function ‘void find_all_runs(SEXP, int, std::__cxx11::basic_string<char>::const_iterator, std::__cxx11::basic_string<char>::const_iterator, run_match*, const regex&, const opts_t&, const scoring&, const const_iterator&, size_t, storage&, int&, results&, bool, std::chrono::_V2::system_clock::time_point, int, int, int, int&, bool)’:
pqsfinder.cpp:584:53: warning: ‘loop_len’ may be used uninitialized in this function [-Wmaybe-uninitialized]
584 | pqs_storage, int_cnt, res, (loop_len == 0 ? true : zero_loop),
| ~~~~~~~~~~~~~~~^~~~~~~~~~~~~~~~~~~
g++ -std=gnu++11 -I"/home/biocbuild/bbs-3.17-bioc/R/include" -DNDEBUG -I'/home/biocbuild/bbs-3.17-bioc/R/site-library/Rcpp/include' -I'/home/biocbuild/bbs-3.17-bioc/R/site-library/BH/include' -I/usr/local/include -fpic -g -O2 -Wall -c boost_regex/posix_api.cpp -o boost_regex/posix_api.o
g++ -std=gnu++11 -I"/home/biocbuild/bbs-3.17-bioc/R/include" -DNDEBUG -I'/home/biocbuild/bbs-3.17-bioc/R/site-library/Rcpp/include' -I'/home/biocbuild/bbs-3.17-bioc/R/site-library/BH/include' -I/usr/local/include -fpic -g -O2 -Wall -c boost_regex/regex.cpp -o boost_regex/regex.o
g++ -std=gnu++11 -I"/home/biocbuild/bbs-3.17-bioc/R/include" -DNDEBUG -I'/home/biocbuild/bbs-3.17-bioc/R/site-library/Rcpp/include' -I'/home/biocbuild/bbs-3.17-bioc/R/site-library/BH/include' -I/usr/local/include -fpic -g -O2 -Wall -c boost_regex/regex_debug.cpp -o boost_regex/regex_debug.o
g++ -std=gnu++11 -I"/home/biocbuild/bbs-3.17-bioc/R/include" -DNDEBUG -I'/home/biocbuild/bbs-3.17-bioc/R/site-library/Rcpp/include' -I'/home/biocbuild/bbs-3.17-bioc/R/site-library/BH/include' -I/usr/local/include -fpic -g -O2 -Wall -c boost_regex/static_mutex.cpp -o boost_regex/static_mutex.o
g++ -std=gnu++11 -I"/home/biocbuild/bbs-3.17-bioc/R/include" -DNDEBUG -I'/home/biocbuild/bbs-3.17-bioc/R/site-library/Rcpp/include' -I'/home/biocbuild/bbs-3.17-bioc/R/site-library/BH/include' -I/usr/local/include -fpic -g -O2 -Wall -c boost_regex/wide_posix_api.cpp -o boost_regex/wide_posix_api.o
mkdir -p "/home/biocbuild/bbs-3.17-bioc/R/site-library/00LOCK-pqsfinder/00new/pqsfinder/lib"
ar rs "/home/biocbuild/bbs-3.17-bioc/R/site-library/00LOCK-pqsfinder/00new/pqsfinder/lib/libboost_regex.a" boost_regex/posix_api.o boost_regex/regex.o boost_regex/regex_debug.o boost_regex/static_mutex.o boost_regex/wide_posix_api.o
ar: creating /home/biocbuild/bbs-3.17-bioc/R/site-library/00LOCK-pqsfinder/00new/pqsfinder/lib/libboost_regex.a
g++ -std=gnu++11 -shared -L/home/biocbuild/bbs-3.17-bioc/R/lib -L/usr/local/lib -o pqsfinder.so RcppExports.o pqsfinder.o /home/biocbuild/bbs-3.17-bioc/R/site-library/00LOCK-pqsfinder/00new/pqsfinder/lib/libboost_regex.a -L/home/biocbuild/bbs-3.17-bioc/R/lib -lR
installing to /home/biocbuild/bbs-3.17-bioc/R/site-library/00LOCK-pqsfinder/00new/pqsfinder/libs
** R
** inst
** byte-compile and prepare package for lazy loading
** help
*** installing help indices
** building package indices
** installing vignettes
** testing if installed package can be loaded from temporary location
** checking absolute paths in shared objects and dynamic libraries
** testing if installed package can be loaded from final location
** testing if installed package keeps a record of temporary installation path
* DONE (pqsfinder)