| Back to Multiple platform build/check report for BioC 3.17 |
|
This page was generated on 2023-04-12 10:55:28 -0400 (Wed, 12 Apr 2023).
| Hostname | OS | Arch (*) | R version | Installed pkgs |
|---|---|---|---|---|
| nebbiolo1 | Linux (Ubuntu 22.04.1 LTS) | x86_64 | 4.3.0 alpha (2023-04-03 r84154) | 4547 |
| nebbiolo2 | Linux (Ubuntu 20.04.5 LTS) | x86_64 | R Under development (unstable) (2023-02-14 r83833) -- "Unsuffered Consequences" | 4333 |
| Click on any hostname to see more info about the system (e.g. compilers) (*) as reported by 'uname -p', except on Windows and Mac OS X | ||||
|
To the developers/maintainers of the pcaExplorer package: - Allow up to 24 hours (and sometimes 48 hours) for your latest push to git@git.bioconductor.org:packages/pcaExplorer.git to reflect on this report. See Troubleshooting Build Report for more information. - Use the following Renviron settings to reproduce errors and warnings. Note: If "R CMD check" recently failed on the Linux builder over a missing dependency, add the missing dependency to "Suggests" in your DESCRIPTION file. See the Renviron.bioc for details. |
| Package 1469/2207 | Hostname | OS / Arch | INSTALL | BUILD | CHECK | BUILD BIN | ||||||||
| pcaExplorer 2.25.0 (landing page) Federico Marini
| nebbiolo1 | Linux (Ubuntu 22.04.1 LTS) / x86_64 | OK | OK | ERROR | |||||||||
| nebbiolo2 | Linux (Ubuntu 20.04.5 LTS) / x86_64 | OK | OK | ERROR | ||||||||||
| Package: pcaExplorer |
| Version: 2.25.0 |
| Command: /home/biocbuild/bbs-3.17-bioc/R/bin/R CMD check --install=check:pcaExplorer.install-out.txt --library=/home/biocbuild/bbs-3.17-bioc/R/site-library --timings pcaExplorer_2.25.0.tar.gz |
| StartedAt: 2023-04-11 22:19:44 -0400 (Tue, 11 Apr 2023) |
| EndedAt: 2023-04-11 22:33:19 -0400 (Tue, 11 Apr 2023) |
| EllapsedTime: 815.3 seconds |
| RetCode: 1 |
| Status: ERROR |
| CheckDir: pcaExplorer.Rcheck |
| Warnings: NA |
##############################################################################
##############################################################################
###
### Running command:
###
### /home/biocbuild/bbs-3.17-bioc/R/bin/R CMD check --install=check:pcaExplorer.install-out.txt --library=/home/biocbuild/bbs-3.17-bioc/R/site-library --timings pcaExplorer_2.25.0.tar.gz
###
##############################################################################
##############################################################################
* using log directory ‘/home/biocbuild/bbs-3.17-bioc/meat/pcaExplorer.Rcheck’
* using R version 4.3.0 alpha (2023-04-03 r84154)
* using platform: x86_64-pc-linux-gnu (64-bit)
* R was compiled by
gcc (Ubuntu 11.3.0-1ubuntu1~22.04) 11.3.0
GNU Fortran (Ubuntu 11.3.0-1ubuntu1~22.04) 11.3.0
* running under: Ubuntu 22.04.2 LTS
* using session charset: UTF-8
* checking for file ‘pcaExplorer/DESCRIPTION’ ... OK
* checking extension type ... Package
* this is package ‘pcaExplorer’ version ‘2.25.0’
* package encoding: UTF-8
* checking package namespace information ... OK
* checking package dependencies ... OK
* checking if this is a source package ... OK
* checking if there is a namespace ... OK
* checking for hidden files and directories ... OK
* checking for portable file names ... OK
* checking for sufficient/correct file permissions ... OK
* checking whether package ‘pcaExplorer’ can be installed ... OK
* checking installed package size ... OK
* checking package directory ... OK
* checking ‘build’ directory ... OK
* checking DESCRIPTION meta-information ... OK
* checking top-level files ... OK
* checking for left-over files ... OK
* checking index information ... OK
* checking package subdirectories ... OK
* checking R files for non-ASCII characters ... OK
* checking R files for syntax errors ... OK
* checking whether the package can be loaded ... OK
* checking whether the package can be loaded with stated dependencies ... OK
* checking whether the package can be unloaded cleanly ... OK
* checking whether the namespace can be loaded with stated dependencies ... OK
* checking whether the namespace can be unloaded cleanly ... OK
* checking loading without being on the library search path ... OK
* checking startup messages can be suppressed ... OK
* checking dependencies in R code ... OK
* checking S3 generic/method consistency ... OK
* checking replacement functions ... OK
* checking foreign function calls ... OK
* checking R code for possible problems ... NOTE
pcaExplorer: no visible binding for '<<-' assignment to
‘pcaexplorer_env’
pcaExplorer : <anonymous>: no visible binding for global variable
‘airway’
pcaExplorer : <anonymous>: no visible binding for global variable
‘pcaexplorer_env’
Undefined global functions or variables:
airway pcaexplorer_env
* checking Rd files ... OK
* checking Rd metadata ... OK
* checking Rd cross-references ... OK
* checking for missing documentation entries ... OK
* checking for code/documentation mismatches ... OK
* checking Rd \usage sections ... OK
* checking Rd contents ... OK
* checking for unstated dependencies in examples ... OK
* checking files in ‘vignettes’ ... OK
* checking examples ... OK
Examples with CPU (user + system) or elapsed time > 5s
user system elapsed
pcaplot 6.224 0.335 8.977
distro_expr 5.301 0.475 8.444
get_annotation 4.812 0.352 5.196
genespca 4.568 0.160 7.507
* checking for unstated dependencies in ‘tests’ ... OK
* checking tests ...
Running ‘testthat.R’
ERROR
Running the tests in ‘tests/testthat.R’ failed.
Last 13 lines of output:
24. │ └─rlang::dots_list(...)
25. ├─shiny::fluidRow(...)
26. │ └─htmltools::div(class = "row", ...)
27. │ └─rlang::dots_list(...)
28. ├─shiny::column(...)
29. │ └─htmltools::div(class = colClass, ...)
30. │ └─rlang::dots_list(...)
31. ├─shinyBS::bsCollapse(...)
32. ├─shinyBS::bsCollapsePanel(...)
33. └─htmltools::includeMarkdown(...)
34. └─utils::packageVersion("markdown")
[ FAIL 1 | WARN 2 | SKIP 0 | PASS 13 ]
Error: Test failures
Execution halted
* checking for unstated dependencies in vignettes ... OK
* checking package vignettes in ‘inst/doc’ ... OK
* checking running R code from vignettes ...
‘pcaExplorer.Rmd’ using ‘UTF-8’... OK
‘upandrunning.Rmd’ using ‘UTF-8’... OK
NONE
* checking re-building of vignette outputs ... OK
* checking PDF version of manual ... OK
* DONE
Status: 1 ERROR, 1 NOTE
See
‘/home/biocbuild/bbs-3.17-bioc/meat/pcaExplorer.Rcheck/00check.log’
for details.
pcaExplorer.Rcheck/00install.out
############################################################################## ############################################################################## ### ### Running command: ### ### /home/biocbuild/bbs-3.17-bioc/R/bin/R CMD INSTALL pcaExplorer ### ############################################################################## ############################################################################## * installing to library ‘/home/biocbuild/bbs-3.17-bioc/R/site-library’ * installing *source* package ‘pcaExplorer’ ... ** using staged installation ** R ** inst ** byte-compile and prepare package for lazy loading ** help *** installing help indices ** building package indices ** installing vignettes ** testing if installed package can be loaded from temporary location ** testing if installed package can be loaded from final location ** testing if installed package keeps a record of temporary installation path * DONE (pcaExplorer)
pcaExplorer.Rcheck/tests/testthat.Rout.fail
R version 4.3.0 alpha (2023-04-03 r84154)
Copyright (C) 2023 The R Foundation for Statistical Computing
Platform: x86_64-pc-linux-gnu (64-bit)
R is free software and comes with ABSOLUTELY NO WARRANTY.
You are welcome to redistribute it under certain conditions.
Type 'license()' or 'licence()' for distribution details.
R is a collaborative project with many contributors.
Type 'contributors()' for more information and
'citation()' on how to cite R or R packages in publications.
Type 'demo()' for some demos, 'help()' for on-line help, or
'help.start()' for an HTML browser interface to help.
Type 'q()' to quit R.
> library(testthat)
> library(pcaExplorer)
Welcome to pcaExplorer v2.25.0
If you use pcaExplorer in your work, please cite:
Federico Marini, Harald Binder
pcaExplorer: an R/Bioconductor package for interacting with RNA-seq principal components
BMC Bioinformatics, 2019 - https://doi.org/10.1186/s12859-019-2879-1
>
> test_check("pcaExplorer")
[ FAIL 1 | WARN 2 | SKIP 0 | PASS 13 ]
══ Failed tests ════════════════════════════════════════════════════════════════
── Error ('test_shiny.R:11:3'): Shiny app is generated ─────────────────────────
<packageNotFoundError/error/condition>
Error in `packageVersion("markdown")`: there is no package called 'markdown'
Backtrace:
▆
1. ├─testthat::expect_is(pcaExplorer(), "shiny.appobj") at test_shiny.R:11:2
2. │ └─testthat::quasi_label(enquo(object), label, arg = "object")
3. │ └─rlang::eval_bare(expr, quo_get_env(quo))
4. └─pcaExplorer::pcaExplorer()
5. ├─shinydashboard::dashboardPage(...)
6. │ └─shinydashboard:::tagAssert(body, type = "div", class = "content-wrapper")
7. ├─shinydashboard::dashboardBody(...)
8. │ ├─htmltools::div(...)
9. │ │ └─rlang::dots_list(...)
10. │ └─tags$section(class = "content", ...)
11. │ └─rlang::dots_list(...)
12. ├─shinydashboard::tabBox(...)
13. │ └─shiny::tabsetPanel(..., id = id, selected = selected)
14. │ ├─shiny:::remove_first_class(...)
15. │ └─bslib (local) func(..., id = id, selected = selected, header = header, footer = footer)
16. │ └─bslib:::tabsetPanel_(...)
17. │ └─bslib:::buildTabset(...)
18. │ ├─bslib:::dropNulls(list2(...))
19. │ └─rlang::list2(...)
20. ├─shiny::tabPanel(...)
21. │ └─bslib::nav(title, ..., value = value, icon = icon)
22. │ └─bslib:::tabPanel_(title, ..., value = value, icon = icon)
23. │ └─htmltools::div(...)
24. │ └─rlang::dots_list(...)
25. ├─shiny::fluidRow(...)
26. │ └─htmltools::div(class = "row", ...)
27. │ └─rlang::dots_list(...)
28. ├─shiny::column(...)
29. │ └─htmltools::div(class = colClass, ...)
30. │ └─rlang::dots_list(...)
31. ├─shinyBS::bsCollapse(...)
32. ├─shinyBS::bsCollapsePanel(...)
33. └─htmltools::includeMarkdown(...)
34. └─utils::packageVersion("markdown")
[ FAIL 1 | WARN 2 | SKIP 0 | PASS 13 ]
Error: Test failures
Execution halted
pcaExplorer.Rcheck/pcaExplorer-Ex.timings
| name | user | system | elapsed | |
| correlatePCs | 2.728 | 0.140 | 2.903 | |
| distro_expr | 5.301 | 0.475 | 8.444 | |
| geneprofiler | 2.662 | 0.108 | 3.420 | |
| genespca | 4.568 | 0.160 | 7.507 | |
| get_annotation | 4.812 | 0.352 | 5.196 | |
| get_annotation_orgdb | 4.400 | 0.280 | 4.709 | |
| hi_loadings | 1.375 | 0.028 | 1.403 | |
| limmaquickpca2go | 1.986 | 0.132 | 2.119 | |
| makeExampleDESeqDataSet_multifac | 0.314 | 0.032 | 0.346 | |
| pair_corr | 2.391 | 0.060 | 2.451 | |
| pca2go | 3.648 | 0.292 | 3.940 | |
| pcaExplorer | 3.480 | 0.144 | 3.624 | |
| pcaplot | 6.224 | 0.335 | 8.977 | |
| pcaplot3d | 2.661 | 0.048 | 2.713 | |
| pcascree | 2.571 | 0.048 | 2.620 | |
| plotPCcorrs | 1.754 | 0.020 | 1.774 | |
| topGOtable | 3.098 | 0.104 | 3.201 | |