| Back to Multiple platform build/check report for BioC 3.17 | 
 | 
This page was generated on 2023-04-12 10:55:39 -0400 (Wed, 12 Apr 2023).
| Hostname | OS | Arch (*) | R version | Installed pkgs | 
|---|---|---|---|---|
| nebbiolo1 | Linux (Ubuntu 22.04.1 LTS) | x86_64 | 4.3.0 alpha (2023-04-03 r84154) | 4547 | 
| nebbiolo2 | Linux (Ubuntu 20.04.5 LTS) | x86_64 | R Under development (unstable) (2023-02-14 r83833) -- "Unsuffered Consequences" | 4333 | 
| Click on any hostname to see more info about the system (e.g. compilers) (*) as reported by 'uname -p', except on Windows and Mac OS X | ||||
| To the developers/maintainers of the pathRender package: - Allow up to 24 hours (and sometimes 48 hours) for your latest push to git@git.bioconductor.org:packages/pathRender.git to reflect on this report. See Troubleshooting Build Report for more information. - Use the following Renviron settings to reproduce errors and warnings. Note: If "R CMD check" recently failed on the Linux builder over a missing dependency, add the missing dependency to "Suggests" in your DESCRIPTION file. See the Renviron.bioc for details. | 
| Package 1464/2207 | Hostname | OS / Arch | INSTALL | BUILD | CHECK | BUILD BIN | ||||||||
| pathRender 1.67.0  (landing page) Vince Carey 
 | nebbiolo1 | Linux (Ubuntu 22.04.1 LTS) / x86_64 | OK | OK | OK | |||||||||
| nebbiolo2 | Linux (Ubuntu 20.04.5 LTS) / x86_64 | OK | OK | OK | ||||||||||
| Package: pathRender | 
| Version: 1.67.0 | 
| Command: /home/biocbuild/bbs-3.17-bioc/R/bin/R CMD check --install=check:pathRender.install-out.txt --library=/home/biocbuild/bbs-3.17-bioc/R/site-library --timings pathRender_1.67.0.tar.gz | 
| StartedAt: 2023-04-12 08:13:50 -0400 (Wed, 12 Apr 2023) | 
| EndedAt: 2023-04-12 08:17:53 -0400 (Wed, 12 Apr 2023) | 
| EllapsedTime: 243.0 seconds | 
| RetCode: 0 | 
| Status: OK | 
| CheckDir: pathRender.Rcheck | 
| Warnings: 0 | 
##############################################################################
##############################################################################
###
### Running command:
###
###   /home/biocbuild/bbs-3.17-bioc/R/bin/R CMD check --install=check:pathRender.install-out.txt --library=/home/biocbuild/bbs-3.17-bioc/R/site-library --timings pathRender_1.67.0.tar.gz
###
##############################################################################
##############################################################################
* using log directory ‘/home/biocbuild/bbs-3.17-bioc/meat/pathRender.Rcheck’
* using R Under development (unstable) (2023-02-14 r83833)
* using platform: x86_64-pc-linux-gnu (64-bit)
* R was compiled by
    gcc (Ubuntu 9.4.0-1ubuntu1~20.04.1) 9.4.0
    GNU Fortran (Ubuntu 9.4.0-1ubuntu1~20.04.1) 9.4.0
* running under: Ubuntu 20.04.6 LTS
* using session charset: UTF-8
* checking for file ‘pathRender/DESCRIPTION’ ... OK
* this is package ‘pathRender’ version ‘1.67.0’
* checking package namespace information ... OK
* checking package dependencies ... NOTE
Depends: includes the non-default packages:
  'graph', 'Rgraphviz', 'RColorBrewer', 'cMAP', 'AnnotationDbi',
  'stats4'
Adding so many packages to the search path is excessive and importing
selectively is preferable.
* checking if this is a source package ... OK
* checking if there is a namespace ... OK
* checking for hidden files and directories ... OK
* checking for portable file names ... OK
* checking for sufficient/correct file permissions ... OK
* checking whether package ‘pathRender’ can be installed ... OK
* checking installed package size ... OK
* checking package directory ... OK
* checking ‘build’ directory ... OK
* checking DESCRIPTION meta-information ... OK
* checking top-level files ... OK
* checking for left-over files ... OK
* checking index information ... OK
* checking package subdirectories ... OK
* checking R files for non-ASCII characters ... OK
* checking R files for syntax errors ... OK
* checking whether the package can be loaded ... OK
* checking whether the package can be loaded with stated dependencies ... OK
* checking whether the package can be unloaded cleanly ... OK
* checking whether the namespace can be loaded with stated dependencies ... OK
* checking whether the namespace can be unloaded cleanly ... OK
* checking loading without being on the library search path ... OK
* checking dependencies in R code ... OK
* checking S3 generic/method consistency ... OK
* checking replacement functions ... OK
* checking foreign function calls ... OK
* checking R code for possible problems ... NOTE
graphcMAP: no visible binding for global variable ‘cMAPKEGGPATHWAY’
graphcMAP: no visible binding for global variable ‘cMAPCARTAPATHWAY’
graphcMAP: no visible binding for global variable ‘cMAPKEGGINTERACTION’
graphcMAP: no visible binding for global variable ‘cMAPKEGGMOLECULE’
graphcMAP: no visible binding for global variable
  ‘cMAPCARTAINTERACTION’
graphcMAP: no visible binding for global variable ‘cMAPCARTAMOLECULE’
plotExGraph: no visible global function definition for
  ‘colorRampPalette’
plotExGraph: no visible global function definition for ‘exprs’
quantizeByRow : <anonymous>: no visible global function definition for
  ‘quantile’
quantizeByRow: no visible global function definition for ‘featureNames’
quantizeByRow: no visible global function definition for ‘exprs<-’
quantizeByRow: no visible global function definition for ‘exprs’
quantizeByRow: no visible global function definition for
  ‘featureNames<-’
reduceES: no visible global function definition for ‘na.omit’
reduceES: no visible global function definition for ‘featureData<-’
reduceES: no visible global function definition for ‘exprs’
reduceES: no visible global function definition for ‘phenoData’
rendercMAPPathway: no visible binding for global variable
  ‘cMAPKEGGPATHWAY’
rendercMAPPathway: no visible binding for global variable
  ‘cMAPCARTAPATHWAY’
rendercMAPPathway: no visible binding for global variable
  ‘cMAPKEGGINTERACTION’
rendercMAPPathway: no visible binding for global variable
  ‘cMAPKEGGMOLECULE’
rendercMAPPathway: no visible binding for global variable
  ‘cMAPCARTAINTERACTION’
rendercMAPPathway: no visible binding for global variable
  ‘cMAPCARTAMOLECULE’
plot,coloredGraph-ANY: no visible global function definition for
  ‘palette’
Undefined global functions or variables:
  cMAPCARTAINTERACTION cMAPCARTAMOLECULE cMAPCARTAPATHWAY
  cMAPKEGGINTERACTION cMAPKEGGMOLECULE cMAPKEGGPATHWAY colorRampPalette
  exprs exprs<- featureData<- featureNames featureNames<- na.omit
  palette phenoData quantile
Consider adding
  importFrom("grDevices", "colorRampPalette", "palette")
  importFrom("stats", "na.omit", "quantile")
to your NAMESPACE file.
* checking Rd files ... OK
* checking Rd metadata ... OK
* checking Rd cross-references ... OK
* checking for missing documentation entries ... OK
* checking for code/documentation mismatches ... OK
* checking Rd \usage sections ... OK
* checking Rd contents ... OK
* checking for unstated dependencies in examples ... OK
* checking files in ‘vignettes’ ... OK
* checking examples ... OK
* checking for unstated dependencies in vignettes ... OK
* checking package vignettes in ‘inst/doc’ ... OK
* checking running R code from vignettes ...
  ‘pathRender.Rnw’... OK
  ‘plotExG.Rnw’... OK
 OK
* checking re-building of vignette outputs ... OK
* checking PDF version of manual ... OK
* DONE
Status: 2 NOTEs
See
  ‘/home/biocbuild/bbs-3.17-bioc/meat/pathRender.Rcheck/00check.log’
for details.
pathRender.Rcheck/00install.out
############################################################################## ############################################################################## ### ### Running command: ### ### /home/biocbuild/bbs-3.17-bioc/R/bin/R CMD INSTALL pathRender ### ############################################################################## ############################################################################## * installing to library ‘/home/biocbuild/bbs-3.17-bioc/R/site-library’ * installing *source* package ‘pathRender’ ... ** using staged installation ** R ** inst ** byte-compile and prepare package for lazy loading ** help *** installing help indices ** building package indices ** installing vignettes ** testing if installed package can be loaded from temporary location ** testing if installed package can be loaded from final location ** testing if installed package keeps a record of temporary installation path * DONE (pathRender)
pathRender.Rcheck/pathRender-Ex.timings
| name | user | system | elapsed | |
| colorNodes | 0.212 | 0.005 | 0.220 | |
| coloredGraph-class | 0.086 | 0.004 | 0.089 | |
| graphcMAP | 0.641 | 0.024 | 0.667 | |
| plotExGraph | 2.362 | 0.099 | 2.466 | |
| pwayGraph-class | 0.05 | 0.00 | 0.05 | |
| reduceES | 2.566 | 0.176 | 4.645 | |
| rendercMAP | 0.609 | 0.004 | 1.265 | |