| Back to Multiple platform build/check report for BioC 3.17 |
|
This page was generated on 2023-03-17 10:55:35 -0400 (Fri, 17 Mar 2023).
| Hostname | OS | Arch (*) | R version | Installed pkgs |
|---|---|---|---|---|
| nebbiolo1 | Linux (Ubuntu 22.04.1 LTS) | x86_64 | R Under development (unstable) (2023-03-15 r83984) -- "Unsuffered Consequences" | 3730 |
| nebbiolo2 | Linux (Ubuntu 20.04.5 LTS) | x86_64 | R Under development (unstable) (2023-02-14 r83833) -- "Unsuffered Consequences" | 4290 |
| Click on any hostname to see more info about the system (e.g. compilers) (*) as reported by 'uname -p', except on Windows and Mac OS X | ||||
|
To the developers/maintainers of the ontoProc package: - Please allow up to 24 hours (and sometimes 48 hours) for your latest push to git@git.bioconductor.org:packages/ontoProc.git to reflect on this report. See How and When does the builder pull? When will my changes propagate? for more information. - Make sure to use the following settings in order to reproduce any error or warning you see on this page. |
| Package 1410/2189 | Hostname | OS / Arch | INSTALL | BUILD | CHECK | BUILD BIN | ||||||||
| ontoProc 1.21.0 (landing page) Vincent Carey
| nebbiolo1 | Linux (Ubuntu 22.04.1 LTS) / x86_64 | OK | ERROR | skipped | |||||||||
| nebbiolo2 | Linux (Ubuntu 20.04.5 LTS) / x86_64 | OK | OK | OK | ||||||||||
| Package: ontoProc |
| Version: 1.21.0 |
| Command: /home/biocbuild/bbs-3.17-bioc/R/bin/R CMD check --install=check:ontoProc.install-out.txt --library=/home/biocbuild/bbs-3.17-bioc/R/site-library --timings ontoProc_1.21.0.tar.gz |
| StartedAt: 2023-03-17 08:00:05 -0400 (Fri, 17 Mar 2023) |
| EndedAt: 2023-03-17 08:21:39 -0400 (Fri, 17 Mar 2023) |
| EllapsedTime: 1293.9 seconds |
| RetCode: 0 |
| Status: OK |
| CheckDir: ontoProc.Rcheck |
| Warnings: 0 |
##############################################################################
##############################################################################
###
### Running command:
###
### /home/biocbuild/bbs-3.17-bioc/R/bin/R CMD check --install=check:ontoProc.install-out.txt --library=/home/biocbuild/bbs-3.17-bioc/R/site-library --timings ontoProc_1.21.0.tar.gz
###
##############################################################################
##############################################################################
* using log directory ‘/home/biocbuild/bbs-3.17-bioc/meat/ontoProc.Rcheck’
* using R Under development (unstable) (2023-02-14 r83833)
* using platform: x86_64-pc-linux-gnu (64-bit)
* R was compiled by
gcc (Ubuntu 9.4.0-1ubuntu1~20.04.1) 9.4.0
GNU Fortran (Ubuntu 9.4.0-1ubuntu1~20.04.1) 9.4.0
* running under: Ubuntu 20.04.5 LTS
* using session charset: UTF-8
* checking for file ‘ontoProc/DESCRIPTION’ ... OK
* this is package ‘ontoProc’ version ‘1.21.0’
* package encoding: UTF-8
* checking package namespace information ... OK
* checking package dependencies ... OK
* checking if this is a source package ... OK
* checking if there is a namespace ... OK
* checking for hidden files and directories ... OK
* checking for portable file names ... OK
* checking for sufficient/correct file permissions ... OK
* checking whether package ‘ontoProc’ can be installed ... OK
* checking installed package size ... NOTE
installed size is 7.1Mb
sub-directories of 1Mb or more:
app 1.9Mb
data 1.8Mb
ontoRda 2.8Mb
* checking package directory ... OK
* checking ‘build’ directory ... OK
* checking DESCRIPTION meta-information ... OK
* checking top-level files ... OK
* checking for left-over files ... OK
* checking index information ... OK
* checking package subdirectories ... OK
* checking R files for non-ASCII characters ... OK
* checking R files for syntax errors ... OK
* checking whether the package can be loaded ... OK
* checking whether the package can be loaded with stated dependencies ... OK
* checking whether the package can be unloaded cleanly ... OK
* checking whether the namespace can be loaded with stated dependencies ... OK
* checking whether the namespace can be unloaded cleanly ... OK
* checking loading without being on the library search path ... OK
* checking dependencies in R code ... OK
* checking S3 generic/method consistency ... OK
* checking replacement functions ... OK
* checking foreign function calls ... OK
* checking R code for possible problems ... NOTE
CLfeat : prupdate: no visible binding for global variable ‘PROSYM’
CLfeat : prupdate: no visible binding for global variable ‘PRID’
CLfeat : prupdate: no visible binding for global variable ‘SYMBOL’
ctmarks : server: no visible binding for global variable ‘text’
ctmarks : server: no visible binding for global variable ‘packDesc2022’
ctmarks : server: no visible binding for global variable ‘packDesc2021’
ctmarks: no visible binding for global variable ‘cumu’
dropStop: no visible binding for global variable ‘stopWords’
getOnto: no visible binding for global variable ‘rdatadateadded’
getOnto: no visible binding for global variable ‘title’
getOnto: no visible binding for global variable ‘description’
ldfToTerm: no visible binding for global variable ‘PROSYM’
sym2CellOnto: no visible binding for global variable ‘PROSYM’
sym2CellOnto: no visible binding for global variable ‘SYMBOL’
Undefined global functions or variables:
PRID PROSYM SYMBOL cumu description packDesc2021 packDesc2022
rdatadateadded stopWords text title
Consider adding
importFrom("graphics", "text", "title")
to your NAMESPACE file.
* checking Rd files ... OK
* checking Rd metadata ... OK
* checking Rd cross-references ... OK
* checking for missing documentation entries ... OK
* checking for code/documentation mismatches ... OK
* checking Rd \usage sections ... OK
* checking Rd contents ... OK
* checking for unstated dependencies in examples ... OK
* checking contents of ‘data’ directory ... OK
* checking data for non-ASCII characters ... NOTE
Note: found 162 marked UTF-8 strings
* checking data for ASCII and uncompressed saves ... OK
* checking files in ‘vignettes’ ... OK
* checking examples ... OK
Examples with CPU (user + system) or elapsed time > 5s
user system elapsed
CLfeats 47.644 3.854 53.151
getLeavesFromTerm 32.357 1.760 36.404
getCellOnto 30.380 2.738 35.840
siblings_TAG 28.605 1.843 53.665
liberalMap 10.769 12.529 150.248
getOnto 14.879 1.413 42.215
fastGrep 14.997 1.100 16.481
sym2CellOnto 13.083 0.666 15.814
common_classes 12.345 1.250 14.501
selectFromMap 11.616 0.661 20.955
TermSet-class 8.901 0.915 10.164
ldfToTerms 8.045 0.598 12.968
mapOneNaive 6.063 2.028 23.581
cleanCLOnames 7.005 0.829 8.283
secLevGen 5.471 0.392 6.727
make_graphNEL_from_ontology_plot 3.697 0.293 7.982
* checking for unstated dependencies in ‘tests’ ... OK
* checking tests ...
Running ‘test.R’
OK
* checking for unstated dependencies in vignettes ... OK
* checking package vignettes in ‘inst/doc’ ... OK
* checking running R code from vignettes ...
‘ontoProc.Rmd’ using ‘UTF-8’... OK
NONE
* checking re-building of vignette outputs ... OK
* checking PDF version of manual ... OK
* DONE
Status: 3 NOTEs
See
‘/home/biocbuild/bbs-3.17-bioc/meat/ontoProc.Rcheck/00check.log’
for details.
ontoProc.Rcheck/00install.out
############################################################################## ############################################################################## ### ### Running command: ### ### /home/biocbuild/bbs-3.17-bioc/R/bin/R CMD INSTALL ontoProc ### ############################################################################## ############################################################################## * installing to library ‘/home/biocbuild/bbs-3.17-bioc/R/site-library’ * installing *source* package ‘ontoProc’ ... ** using staged installation ** R ** data ** inst ** byte-compile and prepare package for lazy loading ** help *** installing help indices ** building package indices ** installing vignettes ** testing if installed package can be loaded from temporary location ** testing if installed package can be loaded from final location ** testing if installed package keeps a record of temporary installation path * DONE (ontoProc)
ontoProc.Rcheck/tests/test.Rout
R Under development (unstable) (2023-02-14 r83833) -- "Unsuffered Consequences"
Copyright (C) 2023 The R Foundation for Statistical Computing
Platform: x86_64-pc-linux-gnu (64-bit)
R is free software and comes with ABSOLUTELY NO WARRANTY.
You are welcome to redistribute it under certain conditions.
Type 'license()' or 'licence()' for distribution details.
R is a collaborative project with many contributors.
Type 'contributors()' for more information and
'citation()' on how to cite R or R packages in publications.
Type 'demo()' for some demos, 'help()' for on-line help, or
'help.start()' for an HTML browser interface to help.
Type 'q()' to quit R.
>
> library(ontoProc)
Loading required package: ontologyIndex
> library(testthat)
>
> test_check("ontoProc")
[ FAIL 0 | WARN 9 | SKIP 0 | PASS 8 ]
[ FAIL 0 | WARN 9 | SKIP 0 | PASS 8 ]
>
>
> proc.time()
user system elapsed
78.359 13.545 249.275
ontoProc.Rcheck/ontoProc-Ex.timings
| name | user | system | elapsed | |
| CLfeats | 47.644 | 3.854 | 53.151 | |
| PROSYM | 0.252 | 0.008 | 0.261 | |
| TermSet-class | 8.901 | 0.915 | 10.164 | |
| allGOterms | 0.180 | 0.008 | 0.188 | |
| cellTypeToGO | 2.312 | 0.160 | 2.472 | |
| cleanCLOnames | 7.005 | 0.829 | 8.283 | |
| common_classes | 12.345 | 1.250 | 14.501 | |
| ctmarks | 0 | 0 | 0 | |
| cyclicSigset | 0.007 | 0.000 | 0.008 | |
| demoApp | 0 | 0 | 0 | |
| dropStop | 0.004 | 0.000 | 0.003 | |
| fastGrep | 14.997 | 1.100 | 16.481 | |
| findCommonAncestors | 2.625 | 0.160 | 2.786 | |
| getCellOnto | 30.380 | 2.738 | 35.840 | |
| getLeavesFromTerm | 32.357 | 1.760 | 36.404 | |
| getOnto | 14.879 | 1.413 | 42.215 | |
| humrna | 0.006 | 0.011 | 0.019 | |
| ldfToTerms | 8.045 | 0.598 | 12.968 | |
| liberalMap | 10.769 | 12.529 | 150.248 | |
| makeSelectInput | 0.002 | 0.000 | 0.003 | |
| make_graphNEL_from_ontology_plot | 3.697 | 0.293 | 7.982 | |
| mapOneNaive | 6.063 | 2.028 | 23.581 | |
| minicorpus | 0.000 | 0.001 | 0.002 | |
| nomenCheckup | 3.122 | 0.286 | 4.286 | |
| onto_plot2 | 1.595 | 0.061 | 1.659 | |
| onto_roots | 0 | 0 | 0 | |
| packDesc2019 | 0.002 | 0.000 | 0.006 | |
| packDesc2021 | 0.002 | 0.000 | 0.002 | |
| packDesc2022 | 0.002 | 0.000 | 0.002 | |
| recognizedPredicates | 0 | 0 | 0 | |
| secLevGen | 5.471 | 0.392 | 6.727 | |
| selectFromMap | 11.616 | 0.661 | 20.955 | |
| seur3kTab | 0.004 | 0.004 | 0.009 | |
| siblings_TAG | 28.605 | 1.843 | 53.665 | |
| stopWords | 0.003 | 0.000 | 0.017 | |
| sym2CellOnto | 13.083 | 0.666 | 15.814 | |
| valid_ontonames | 0 | 0 | 0 | |