| Back to Multiple platform build/check report for BioC 3.17 |
|
This page was generated on 2023-03-30 10:55:28 -0400 (Thu, 30 Mar 2023).
| Hostname | OS | Arch (*) | R version | Installed pkgs |
|---|---|---|---|---|
| nebbiolo1 | Linux (Ubuntu 22.04.1 LTS) | x86_64 | R Under development (unstable) (2023-03-16 r83996) -- "Unsuffered Consequences" | 4547 |
| nebbiolo2 | Linux (Ubuntu 20.04.5 LTS) | x86_64 | R Under development (unstable) (2023-02-14 r83833) -- "Unsuffered Consequences" | 4308 |
| Click on any hostname to see more info about the system (e.g. compilers) (*) as reported by 'uname -p', except on Windows and Mac OS X | ||||
|
To the developers/maintainers of the nullranges package: - Allow up to 24 hours (and sometimes 48 hours) for your latest push to git@git.bioconductor.org:packages/nullranges.git to reflect on this report. See Troubleshooting Build Report for more information. - Use the following Renviron settings to reproduce errors and warnings. Note: If "R CMD check" recently failed on the Linux builder over a missing dependency, add the missing dependency to "Suggests" in your DESCRIPTION file. See the Renviron.bioc for details. |
| Package 1383/2195 | Hostname | OS / Arch | INSTALL | BUILD | CHECK | BUILD BIN | ||||||||
| nullranges 1.5.18 (landing page) Michael Love
| nebbiolo1 | Linux (Ubuntu 22.04.1 LTS) / x86_64 | OK | OK | OK | |||||||||
| nebbiolo2 | Linux (Ubuntu 20.04.5 LTS) / x86_64 | OK | OK | OK | ||||||||||
| Package: nullranges |
| Version: 1.5.18 |
| Command: /home/biocbuild/bbs-3.17-bioc/R/bin/R CMD check --install=check:nullranges.install-out.txt --library=/home/biocbuild/bbs-3.17-bioc/R/site-library --timings nullranges_1.5.18.tar.gz |
| StartedAt: 2023-03-29 22:00:16 -0400 (Wed, 29 Mar 2023) |
| EndedAt: 2023-03-29 22:17:45 -0400 (Wed, 29 Mar 2023) |
| EllapsedTime: 1048.7 seconds |
| RetCode: 0 |
| Status: OK |
| CheckDir: nullranges.Rcheck |
| Warnings: 0 |
##############################################################################
##############################################################################
###
### Running command:
###
### /home/biocbuild/bbs-3.17-bioc/R/bin/R CMD check --install=check:nullranges.install-out.txt --library=/home/biocbuild/bbs-3.17-bioc/R/site-library --timings nullranges_1.5.18.tar.gz
###
##############################################################################
##############################################################################
* using log directory ‘/home/biocbuild/bbs-3.17-bioc/meat/nullranges.Rcheck’
* using R Under development (unstable) (2023-03-16 r83996)
* using platform: x86_64-pc-linux-gnu (64-bit)
* R was compiled by
gcc (Ubuntu 11.3.0-1ubuntu1~22.04) 11.3.0
GNU Fortran (Ubuntu 11.3.0-1ubuntu1~22.04) 11.3.0
* running under: Ubuntu 22.04.2 LTS
* using session charset: UTF-8
* checking for file ‘nullranges/DESCRIPTION’ ... OK
* this is package ‘nullranges’ version ‘1.5.18’
* package encoding: UTF-8
* checking package namespace information ... OK
* checking package dependencies ... OK
* checking if this is a source package ... OK
* checking if there is a namespace ... OK
* checking for hidden files and directories ... OK
* checking for portable file names ... OK
* checking for sufficient/correct file permissions ... OK
* checking whether package ‘nullranges’ can be installed ... OK
* checking installed package size ... OK
* checking package directory ... OK
* checking ‘build’ directory ... OK
* checking DESCRIPTION meta-information ... OK
* checking top-level files ... OK
* checking for left-over files ... OK
* checking index information ... OK
* checking package subdirectories ... OK
* checking R files for non-ASCII characters ... OK
* checking R files for syntax errors ... OK
* checking whether the package can be loaded ... OK
* checking whether the package can be loaded with stated dependencies ... OK
* checking whether the package can be unloaded cleanly ... OK
* checking whether the namespace can be loaded with stated dependencies ... OK
* checking whether the namespace can be unloaded cleanly ... OK
* checking loading without being on the library search path ... OK
* checking dependencies in R code ... NOTE
Namespace in Imports field not imported from: ‘tidySummarizedExperiment’
All declared Imports should be used.
* checking S3 generic/method consistency ... OK
* checking replacement functions ... OK
* checking foreign function calls ... OK
* checking R code for possible problems ... OK
* checking Rd files ... OK
* checking Rd metadata ... OK
* checking Rd cross-references ... OK
* checking for missing documentation entries ... OK
* checking for code/documentation mismatches ... OK
* checking Rd \usage sections ... OK
* checking Rd contents ... OK
* checking for unstated dependencies in examples ... OK
* checking files in ‘vignettes’ ... OK
* checking examples ... OK
* checking for unstated dependencies in ‘tests’ ... OK
* checking tests ...
Running ‘testthat.R’
OK
* checking for unstated dependencies in vignettes ... OK
* checking package vignettes in ‘inst/doc’ ... OK
* checking running R code from vignettes ...
‘bootRanges.Rmd’ using ‘UTF-8’... OK
‘matchRanges.Rmd’ using ‘UTF-8’... OK
‘matching_ginteractions.Rmd’ using ‘UTF-8’... OK
‘matching_granges.Rmd’ using ‘UTF-8’... OK
‘matching_pool_set.Rmd’ using ‘UTF-8’... OK
‘nullranges.Rmd’ using ‘UTF-8’... OK
NONE
* checking re-building of vignette outputs ... OK
* checking PDF version of manual ... OK
* DONE
Status: 1 NOTE
See
‘/home/biocbuild/bbs-3.17-bioc/meat/nullranges.Rcheck/00check.log’
for details.
nullranges.Rcheck/00install.out
############################################################################## ############################################################################## ### ### Running command: ### ### /home/biocbuild/bbs-3.17-bioc/R/bin/R CMD INSTALL nullranges ### ############################################################################## ############################################################################## * installing to library ‘/home/biocbuild/bbs-3.17-bioc/R/site-library’ * installing *source* package ‘nullranges’ ... ** using staged installation ** R ** inst ** byte-compile and prepare package for lazy loading ** help *** installing help indices *** copying figures ** building package indices ** installing vignettes ** testing if installed package can be loaded from temporary location ** testing if installed package can be loaded from final location ** testing if installed package keeps a record of temporary installation path * DONE (nullranges)
nullranges.Rcheck/tests/testthat.Rout
R Under development (unstable) (2023-03-16 r83996) -- "Unsuffered Consequences"
Copyright (C) 2023 The R Foundation for Statistical Computing
Platform: x86_64-pc-linux-gnu (64-bit)
R is free software and comes with ABSOLUTELY NO WARRANTY.
You are welcome to redistribute it under certain conditions.
Type 'license()' or 'licence()' for distribution details.
R is a collaborative project with many contributors.
Type 'contributors()' for more information and
'citation()' on how to cite R or R packages in publications.
Type 'demo()' for some demos, 'help()' for on-line help, or
'help.start()' for an HTML browser interface to help.
Type 'q()' to quit R.
> library(testthat)
> library(nullranges)
>
> test_check("nullranges")
[ FAIL 0 | WARN 0 | SKIP 0 | PASS 9 ]
>
> proc.time()
user system elapsed
16.174 0.859 16.928
nullranges.Rcheck/nullranges-Ex.timings
| name | user | system | elapsed | |
| MatchedDataFrame | 2.411 | 0.416 | 2.695 | |
| MatchedGInteractions | 0.655 | 0.008 | 0.594 | |
| MatchedGRanges | 0.694 | 0.007 | 0.634 | |
| bootRanges | 0.332 | 0.004 | 0.337 | |
| combnCov | 0.004 | 0.000 | 0.004 | |
| covariates | 0.173 | 0.000 | 0.144 | |
| focal | 0.205 | 0.000 | 0.169 | |
| indices | 0.161 | 0.000 | 0.122 | |
| makeExampleMatchedDataSet | 2.131 | 0.057 | 2.065 | |
| matchRanges | 1.438 | 0.072 | 1.135 | |
| matched | 0.169 | 0.023 | 0.164 | |
| matchedClass | 0.142 | 0.005 | 0.118 | |
| matchedData | 0.154 | 0.003 | 0.128 | |
| method | 0.125 | 0.000 | 0.102 | |
| oneRegionSegment | 0.396 | 0.024 | 0.605 | |
| overview | 0.199 | 0.011 | 0.178 | |
| plotCovariate | 4.153 | 0.332 | 4.422 | |
| plotPropensity | 1.408 | 0.081 | 1.433 | |
| plotSegment | 1.571 | 0.168 | 1.739 | |
| pool | 0.128 | 0.008 | 0.109 | |
| reduceSegment | 0.207 | 0.016 | 0.224 | |
| segmentDensity | 0.474 | 0.008 | 0.482 | |
| unmatched | 0.188 | 0.024 | 0.176 | |
| withReplacement | 0.132 | 0.004 | 0.111 | |