| Back to Multiple platform build/check report for BioC 3.17 | 
 | 
This page was generated on 2023-04-12 10:55:28 -0400 (Wed, 12 Apr 2023).
| Hostname | OS | Arch (*) | R version | Installed pkgs | 
|---|---|---|---|---|
| nebbiolo1 | Linux (Ubuntu 22.04.1 LTS) | x86_64 | 4.3.0 alpha (2023-04-03 r84154) | 4547 | 
| nebbiolo2 | Linux (Ubuntu 20.04.5 LTS) | x86_64 | R Under development (unstable) (2023-02-14 r83833) -- "Unsuffered Consequences" | 4333 | 
| Click on any hostname to see more info about the system (e.g. compilers) (*) as reported by 'uname -p', except on Windows and Mac OS X | ||||
| To the developers/maintainers of the ngsReports package: - Allow up to 24 hours (and sometimes 48 hours) for your latest push to git@git.bioconductor.org:packages/ngsReports.git to reflect on this report. See Troubleshooting Build Report for more information. - Use the following Renviron settings to reproduce errors and warnings. Note: If "R CMD check" recently failed on the Linux builder over a missing dependency, add the missing dependency to "Suggests" in your DESCRIPTION file. See the Renviron.bioc for details. | 
| Package 1373/2207 | Hostname | OS / Arch | INSTALL | BUILD | CHECK | BUILD BIN | ||||||||
| ngsReports 2.1.3  (landing page) Stephen Pederson 
 | nebbiolo1 | Linux (Ubuntu 22.04.1 LTS) / x86_64 | OK | OK | OK | |||||||||
| nebbiolo2 | Linux (Ubuntu 20.04.5 LTS) / x86_64 | OK | OK | OK | ||||||||||
| Package: ngsReports | 
| Version: 2.1.3 | 
| Command: /home/biocbuild/bbs-3.17-bioc/R/bin/R CMD check --install=check:ngsReports.install-out.txt --library=/home/biocbuild/bbs-3.17-bioc/R/site-library --timings ngsReports_2.1.3.tar.gz | 
| StartedAt: 2023-04-11 21:59:29 -0400 (Tue, 11 Apr 2023) | 
| EndedAt: 2023-04-11 22:02:44 -0400 (Tue, 11 Apr 2023) | 
| EllapsedTime: 195.3 seconds | 
| RetCode: 0 | 
| Status: OK | 
| CheckDir: ngsReports.Rcheck | 
| Warnings: 0 | 
##############################################################################
##############################################################################
###
### Running command:
###
###   /home/biocbuild/bbs-3.17-bioc/R/bin/R CMD check --install=check:ngsReports.install-out.txt --library=/home/biocbuild/bbs-3.17-bioc/R/site-library --timings ngsReports_2.1.3.tar.gz
###
##############################################################################
##############################################################################
* using log directory ‘/home/biocbuild/bbs-3.17-bioc/meat/ngsReports.Rcheck’
* using R version 4.3.0 alpha (2023-04-03 r84154)
* using platform: x86_64-pc-linux-gnu (64-bit)
* R was compiled by
    gcc (Ubuntu 11.3.0-1ubuntu1~22.04) 11.3.0
    GNU Fortran (Ubuntu 11.3.0-1ubuntu1~22.04) 11.3.0
* running under: Ubuntu 22.04.2 LTS
* using session charset: UTF-8
* checking for file ‘ngsReports/DESCRIPTION’ ... OK
* this is package ‘ngsReports’ version ‘2.1.3’
* package encoding: UTF-8
* checking package namespace information ... OK
* checking package dependencies ... OK
* checking if this is a source package ... OK
* checking if there is a namespace ... OK
* checking for hidden files and directories ... OK
* checking for portable file names ... OK
* checking for sufficient/correct file permissions ... OK
* checking whether package ‘ngsReports’ can be installed ... OK
* checking installed package size ... OK
* checking package directory ... OK
* checking ‘build’ directory ... OK
* checking DESCRIPTION meta-information ... OK
* checking top-level files ... OK
* checking for left-over files ... OK
* checking index information ... OK
* checking package subdirectories ... OK
* checking R files for non-ASCII characters ... OK
* checking R files for syntax errors ... OK
* checking whether the package can be loaded ... OK
* checking whether the package can be loaded with stated dependencies ... OK
* checking whether the package can be unloaded cleanly ... OK
* checking whether the namespace can be loaded with stated dependencies ... OK
* checking whether the namespace can be unloaded cleanly ... OK
* checking loading without being on the library search path ... OK
* checking dependencies in R code ... OK
* checking S3 generic/method consistency ... OK
* checking replacement functions ... OK
* checking foreign function calls ... OK
* checking R code for possible problems ... OK
* checking Rd files ... OK
* checking Rd metadata ... OK
* checking Rd cross-references ... OK
* checking for missing documentation entries ... OK
* checking for code/documentation mismatches ... OK
* checking Rd \usage sections ... OK
* checking Rd contents ... OK
* checking for unstated dependencies in examples ... OK
* checking contents of ‘data’ directory ... OK
* checking data for non-ASCII characters ... OK
* checking LazyData ... OK
* checking data for ASCII and uncompressed saves ... OK
* checking files in ‘vignettes’ ... OK
* checking examples ... OK
* checking for unstated dependencies in ‘tests’ ... OK
* checking tests ...
  Running ‘testthat.R’
 OK
* checking for unstated dependencies in vignettes ... OK
* checking package vignettes in ‘inst/doc’ ... OK
* checking running R code from vignettes ...
  ‘ngsReportsIntroduction.Rmd’ using ‘UTF-8’... OK
 NONE
* checking re-building of vignette outputs ... OK
* checking PDF version of manual ... OK
* DONE
Status: OK
ngsReports.Rcheck/00install.out
############################################################################## ############################################################################## ### ### Running command: ### ### /home/biocbuild/bbs-3.17-bioc/R/bin/R CMD INSTALL ngsReports ### ############################################################################## ############################################################################## * installing to library ‘/home/biocbuild/bbs-3.17-bioc/R/site-library’ * installing *source* package ‘ngsReports’ ... ** using staged installation ** R ** data *** moving datasets to lazyload DB ** inst ** byte-compile and prepare package for lazy loading ** help *** installing help indices *** copying figures ** building package indices ** installing vignettes ** testing if installed package can be loaded from temporary location ** testing if installed package can be loaded from final location ** testing if installed package keeps a record of temporary installation path * DONE (ngsReports)
ngsReports.Rcheck/tests/testthat.Rout
R version 4.3.0 alpha (2023-04-03 r84154)
Copyright (C) 2023 The R Foundation for Statistical Computing
Platform: x86_64-pc-linux-gnu (64-bit)
R is free software and comes with ABSOLUTELY NO WARRANTY.
You are welcome to redistribute it under certain conditions.
Type 'license()' or 'licence()' for distribution details.
R is a collaborative project with many contributors.
Type 'contributors()' for more information and
'citation()' on how to cite R or R packages in publications.
Type 'demo()' for some demos, 'help()' for on-line help, or
'help.start()' for an HTML browser interface to help.
Type 'q()' to quit R.
> library(testthat)
> library(ngsReports)
Loading required package: BiocGenerics
Attaching package: 'BiocGenerics'
The following objects are masked from 'package:stats':
    IQR, mad, sd, var, xtabs
The following objects are masked from 'package:base':
    Filter, Find, Map, Position, Reduce, anyDuplicated, aperm, append,
    as.data.frame, basename, cbind, colnames, dirname, do.call,
    duplicated, eval, evalq, get, grep, grepl, intersect, is.unsorted,
    lapply, mapply, match, mget, order, paste, pmax, pmax.int, pmin,
    pmin.int, rank, rbind, rownames, sapply, setdiff, sort, table,
    tapply, union, unique, unsplit, which.max, which.min
Loading required package: ggplot2
Loading required package: patchwork
Loading required package: tibble
> 
> test_check("ngsReports")
[ FAIL 0 | WARN 1 | SKIP 0 | PASS 261 ]
[ FAIL 0 | WARN 1 | SKIP 0 | PASS 261 ]
> 
> proc.time()
   user  system elapsed 
 33.892   1.084  34.965 
ngsReports.Rcheck/ngsReports-Ex.timings
| name | user | system | elapsed | |
| FastqcData | 0.080 | 0.004 | 0.085 | |
| FastqcDataList | 0.372 | 0.008 | 0.381 | |
| TheoreticalGC-class | 0.081 | 0.004 | 0.085 | |
| dot-FastqcFile-class | 0.003 | 0.000 | 0.003 | |
| dot-addPercent | 0.001 | 0.000 | 0.001 | |
| dot-emptyPlot | 0.139 | 0.000 | 0.139 | |
| dot-makeDendro | 0.407 | 0.003 | 0.411 | |
| dot-makeLabels | 0.001 | 0.000 | 0.001 | |
| dot-splitByTab | 0.004 | 0.000 | 0.004 | |
| estGcDistn | 0.022 | 0.000 | 0.021 | |
| extract-methods | 0.379 | 0.052 | 0.431 | |
| fqName-methods | 0.409 | 0.120 | 0.529 | |
| fqcVersion | 0.422 | 0.028 | 0.450 | |
| gcAvail | 0.025 | 0.000 | 0.026 | |
| gcTheoretical | 0.044 | 0.000 | 0.044 | |
| getColours-methods | 0.003 | 0.000 | 0.002 | |
| getGC | 0.02 | 0.00 | 0.02 | |
| getModule | 0.393 | 0.139 | 0.533 | |
| getSummary | 0.348 | 0.012 | 0.360 | |
| importNgsLogs | 0.025 | 0.000 | 0.025 | |
| importSJ | 0.042 | 0.004 | 0.045 | |
| isCompressed | 0.001 | 0.001 | 0.002 | |
| mData | 0.021 | 0.003 | 0.023 | |
| maxAdapterContent | 0.435 | 0.004 | 0.439 | |
| overRep2Fasta-methods | 0.541 | 0.028 | 0.569 | |
| path | 0.327 | 0.016 | 0.342 | |
| plotAdapterContent-methods | 2.240 | 0.072 | 2.312 | |
| plotAlignmentSummary | 0.273 | 0.004 | 0.278 | |
| plotAssemblyStats | 0.559 | 0.004 | 0.563 | |
| plotBaseQuals-methods | 0.957 | 0.024 | 0.981 | |
| plotDupLevels-methods | 1.140 | 0.036 | 1.177 | |
| plotFastqcPCA-methods | 0.721 | 0.024 | 0.745 | |
| plotGcContent-methods | 0.859 | 0.004 | 0.862 | |
| plotKmers-methods | 0.656 | 0.000 | 0.656 | |
| plotNContent-methods | 0.406 | 0.012 | 0.418 | |
| plotOverrep-methods | 0.778 | 0.004 | 0.781 | |
| plotReadTotals-methods | 0.730 | 0.004 | 0.734 | |
| plotSeqContent-methods | 0.722 | 0.012 | 0.733 | |
| plotSeqLengthDistn-methods | 1.174 | 0.032 | 1.207 | |
| plotSeqQuals-methods | 1.195 | 0.004 | 1.199 | |
| plotSummary-methods | 0.558 | 0.004 | 0.561 | |
| pwf | 0.002 | 0.004 | 0.005 | |
| readTotals | 0.358 | 0.012 | 0.369 | |
| writeHtmlReport | 0.001 | 0.000 | 0.000 | |