| Back to Multiple platform build/check report for BioC 3.17 |
|
This page was generated on 2023-04-12 10:55:28 -0400 (Wed, 12 Apr 2023).
| Hostname | OS | Arch (*) | R version | Installed pkgs |
|---|---|---|---|---|
| nebbiolo1 | Linux (Ubuntu 22.04.1 LTS) | x86_64 | 4.3.0 alpha (2023-04-03 r84154) | 4547 |
| nebbiolo2 | Linux (Ubuntu 20.04.5 LTS) | x86_64 | R Under development (unstable) (2023-02-14 r83833) -- "Unsuffered Consequences" | 4333 |
| Click on any hostname to see more info about the system (e.g. compilers) (*) as reported by 'uname -p', except on Windows and Mac OS X | ||||
|
To the developers/maintainers of the nanotatoR package: - Allow up to 24 hours (and sometimes 48 hours) for your latest push to git@git.bioconductor.org:packages/nanotatoR.git to reflect on this report. See Troubleshooting Build Report for more information. - Use the following Renviron settings to reproduce errors and warnings. Note: If "R CMD check" recently failed on the Linux builder over a missing dependency, add the missing dependency to "Suggests" in your DESCRIPTION file. See the Renviron.bioc for details. |
| Package 1345/2207 | Hostname | OS / Arch | INSTALL | BUILD | CHECK | BUILD BIN | ||||||||
| nanotatoR 1.15.0 (landing page) Surajit Bhattacharya
| nebbiolo1 | Linux (Ubuntu 22.04.1 LTS) / x86_64 | OK | OK | OK | |||||||||
| nebbiolo2 | Linux (Ubuntu 20.04.5 LTS) / x86_64 | OK | OK | OK | ||||||||||
| Package: nanotatoR |
| Version: 1.15.0 |
| Command: /home/biocbuild/bbs-3.17-bioc/R/bin/R CMD check --install=check:nanotatoR.install-out.txt --library=/home/biocbuild/bbs-3.17-bioc/R/site-library --timings nanotatoR_1.15.0.tar.gz |
| StartedAt: 2023-04-11 21:55:53 -0400 (Tue, 11 Apr 2023) |
| EndedAt: 2023-04-11 21:58:26 -0400 (Tue, 11 Apr 2023) |
| EllapsedTime: 153.1 seconds |
| RetCode: 0 |
| Status: OK |
| CheckDir: nanotatoR.Rcheck |
| Warnings: 0 |
##############################################################################
##############################################################################
###
### Running command:
###
### /home/biocbuild/bbs-3.17-bioc/R/bin/R CMD check --install=check:nanotatoR.install-out.txt --library=/home/biocbuild/bbs-3.17-bioc/R/site-library --timings nanotatoR_1.15.0.tar.gz
###
##############################################################################
##############################################################################
* using log directory ‘/home/biocbuild/bbs-3.17-bioc/meat/nanotatoR.Rcheck’
* using R version 4.3.0 alpha (2023-04-03 r84154)
* using platform: x86_64-pc-linux-gnu (64-bit)
* R was compiled by
gcc (Ubuntu 11.3.0-1ubuntu1~22.04) 11.3.0
GNU Fortran (Ubuntu 11.3.0-1ubuntu1~22.04) 11.3.0
* running under: Ubuntu 22.04.2 LTS
* using session charset: UTF-8
* checking for file ‘nanotatoR/DESCRIPTION’ ... OK
* this is package ‘nanotatoR’ version ‘1.15.0’
* package encoding: UTF-8
* checking package namespace information ... OK
* checking package dependencies ... OK
* checking if this is a source package ... OK
* checking if there is a namespace ... OK
* checking for hidden files and directories ... NOTE
Found the following hidden files and directories:
.travis.yml
These were most likely included in error. See section ‘Package
structure’ in the ‘Writing R Extensions’ manual.
* checking for portable file names ... OK
* checking for sufficient/correct file permissions ... OK
* checking whether package ‘nanotatoR’ can be installed ... OK
* checking installed package size ... OK
* checking package directory ... OK
* checking ‘build’ directory ... OK
* checking DESCRIPTION meta-information ... OK
* checking top-level files ... OK
* checking for left-over files ... OK
* checking index information ... OK
* checking package subdirectories ... OK
* checking R files for non-ASCII characters ... OK
* checking R files for syntax errors ... OK
* checking whether the package can be loaded ... OK
* checking whether the package can be loaded with stated dependencies ... OK
* checking whether the package can be unloaded cleanly ... OK
* checking whether the namespace can be loaded with stated dependencies ... OK
* checking whether the namespace can be unloaded cleanly ... OK
* checking loading without being on the library search path ... OK
* checking dependencies in R code ... NOTE
Namespace in Imports field not imported from: ‘GenomicRanges’
All declared Imports should be used.
* checking S3 generic/method consistency ... OK
* checking replacement functions ... OK
* checking foreign function calls ... OK
* checking R code for possible problems ... OK
* checking Rd files ... OK
* checking Rd metadata ... OK
* checking Rd cross-references ... OK
* checking for missing documentation entries ... OK
* checking for code/documentation mismatches ... OK
* checking Rd \usage sections ... OK
* checking Rd contents ... OK
* checking for unstated dependencies in examples ... OK
* checking files in ‘vignettes’ ... OK
* checking examples ... OK
* checking for unstated dependencies in ‘tests’ ... OK
* checking tests ...
Running ‘testthat.R’
OK
* checking for unstated dependencies in vignettes ... OK
* checking package vignettes in ‘inst/doc’ ... OK
* checking running R code from vignettes ...
‘nanotatoR.Rmd’ using ‘UTF-8’... OK
NONE
* checking re-building of vignette outputs ... OK
* checking PDF version of manual ... OK
* DONE
Status: 2 NOTEs
See
‘/home/biocbuild/bbs-3.17-bioc/meat/nanotatoR.Rcheck/00check.log’
for details.
nanotatoR.Rcheck/00install.out
############################################################################## ############################################################################## ### ### Running command: ### ### /home/biocbuild/bbs-3.17-bioc/R/bin/R CMD INSTALL nanotatoR ### ############################################################################## ############################################################################## * installing to library ‘/home/biocbuild/bbs-3.17-bioc/R/site-library’ * installing *source* package ‘nanotatoR’ ... ** using staged installation ** R ** inst ** byte-compile and prepare package for lazy loading ** help *** installing help indices ** building package indices ** installing vignettes ** testing if installed package can be loaded from temporary location ** testing if installed package can be loaded from final location ** testing if installed package keeps a record of temporary installation path * DONE (nanotatoR)
nanotatoR.Rcheck/tests/testthat.Rout
R version 4.3.0 alpha (2023-04-03 r84154)
Copyright (C) 2023 The R Foundation for Statistical Computing
Platform: x86_64-pc-linux-gnu (64-bit)
R is free software and comes with ABSOLUTELY NO WARRANTY.
You are welcome to redistribute it under certain conditions.
Type 'license()' or 'licence()' for distribution details.
R is a collaborative project with many contributors.
Type 'contributors()' for more information and
'citation()' on how to cite R or R packages in publications.
Type 'demo()' for some demos, 'help()' for on-line help, or
'help.start()' for an HTML browser interface to help.
Type 'q()' to quit R.
> library(testthat)
> library(nanotatoR)
>
> test_check("nanotatoR")
[ FAIL 0 | WARN 0 | SKIP 0 | PASS 0 ]
>
> proc.time()
user system elapsed
4.996 0.301 5.285
nanotatoR.Rcheck/nanotatoR-Ex.timings
| name | user | system | elapsed | |
| BNDBfrequency | 0.043 | 0.015 | 0.061 | |
| DGVfrequency | 0.010 | 0.011 | 0.022 | |
| Decipherfrequency | 0.027 | 0.000 | 0.028 | |
| FamilyInfoPrep | 0.011 | 0.003 | 0.016 | |
| OverlapRNAseq | 0.142 | 0.012 | 0.155 | |
| OverlapRNAseq_solo | 0.088 | 0.019 | 0.108 | |
| RNAseqcombine | 0 | 0 | 0 | |
| RNAseqcombine_solo | 0.094 | 0.020 | 0.114 | |
| SVexpression_duo_trio | 0.001 | 0.000 | 0.001 | |
| SVexpression_solo | 0.187 | 0.020 | 0.207 | |
| buildrunBNBedFiles | 0.004 | 0.001 | 0.004 | |
| clinvar_gene | 0.014 | 0.003 | 0.018 | |
| extract_clinvar_mod | 0.019 | 0.000 | 0.019 | |
| gene_extraction | 0.655 | 0.033 | 1.348 | |
| gene_list_generation | 1.070 | 0.156 | 2.179 | |
| gtr_gene | 0.003 | 0.000 | 0.003 | |
| internalFrequencyTrio_Duo | 0.094 | 0.000 | 0.095 | |
| internalFrequency_solo | 0.210 | 0.024 | 0.235 | |
| makeInternalBNDatabase | 0.000 | 0.001 | 0.001 | |
| mergingSMAP_SE | 0.019 | 0.001 | 0.021 | |
| mergingSMAP_SVMerge | 0.005 | 0.004 | 0.008 | |
| merging_SE_SVMerge | 0.032 | 0.004 | 0.035 | |
| nanotatoR | 0.001 | 0.000 | 0.001 | |
| nanotatoR_Duo_SVmerge | 0.001 | 0.000 | 0.001 | |
| nanotatoR_SVmerge_Trio | 0.001 | 0.000 | 0.000 | |
| nanotatoR_main_Duo_SE | 0.001 | 0.000 | 0.000 | |
| nanotatoR_main_Solo_SE | 0.425 | 0.092 | 0.516 | |
| nanotatoR_main_Solo_SVmerge | 0.114 | 0.028 | 0.142 | |
| nanotatoR_main_Trio_SE | 0.052 | 0.020 | 0.072 | |
| nonOverlapGenes | 0.018 | 0.000 | 0.018 | |
| nonOverlapRNAseq | 0.117 | 0.024 | 0.141 | |
| nonOverlapRNAseq_solo | 0.096 | 0.012 | 0.108 | |
| nonOverlappingDNGenes | 0.023 | 0.000 | 0.023 | |
| nonOverlappingUPGenes | 0.016 | 0.008 | 0.024 | |
| omim_gene | 0.013 | 0.004 | 0.451 | |
| overlapGenes | 0.013 | 0.004 | 0.016 | |
| overlapnearestgeneSearch | 0.035 | 0.000 | 0.035 | |
| overlappingGenes | 0.024 | 0.000 | 0.023 | |
| phenoextractHPO_mod | 0.002 | 0.003 | 0.005 | |
| readBNBedFiles | 0.002 | 0.000 | 0.003 | |
| readSMap | 0.013 | 0.004 | 0.017 | |
| readSMap_DLE | 0.008 | 0.004 | 0.012 | |
| reading_GTR | 0.002 | 0.000 | 0.003 | |
| reading_mim2gene | 0.002 | 0.000 | 0.003 | |
| run_bionano_filter_SE_Trio | 0.218 | 0.016 | 0.234 | |
| run_bionano_filter_SE_duo | 0.001 | 0.000 | 0.000 | |
| run_bionano_filter_SE_solo | 0.351 | 0.020 | 0.371 | |
| run_bionano_filter_SVMerge_Trio | 0.001 | 0.000 | 0.000 | |
| run_bionano_filter_SVMerge_duo | 0 | 0 | 0 | |
| run_bionano_filter_SVMerge_solo | 0.238 | 0.011 | 0.250 | |