| Back to Multiple platform build/check report for BioC 3.17 |
|
This page was generated on 2023-04-12 10:55:39 -0400 (Wed, 12 Apr 2023).
| Hostname | OS | Arch (*) | R version | Installed pkgs |
|---|---|---|---|---|
| nebbiolo1 | Linux (Ubuntu 22.04.1 LTS) | x86_64 | 4.3.0 alpha (2023-04-03 r84154) | 4547 |
| nebbiolo2 | Linux (Ubuntu 20.04.5 LTS) | x86_64 | R Under development (unstable) (2023-02-14 r83833) -- "Unsuffered Consequences" | 4333 |
| Click on any hostname to see more info about the system (e.g. compilers) (*) as reported by 'uname -p', except on Windows and Mac OS X | ||||
|
To the developers/maintainers of the musicatk package: - Allow up to 24 hours (and sometimes 48 hours) for your latest push to git@git.bioconductor.org:packages/musicatk.git to reflect on this report. See Troubleshooting Build Report for more information. - Use the following Renviron settings to reproduce errors and warnings. Note: If "R CMD check" recently failed on the Linux builder over a missing dependency, add the missing dependency to "Suggests" in your DESCRIPTION file. See the Renviron.bioc for details. |
| Package 1332/2207 | Hostname | OS / Arch | INSTALL | BUILD | CHECK | BUILD BIN | ||||||||
| musicatk 1.9.0 (landing page) Aaron Chevalier
| nebbiolo1 | Linux (Ubuntu 22.04.1 LTS) / x86_64 | OK | OK | OK | |||||||||
| nebbiolo2 | Linux (Ubuntu 20.04.5 LTS) / x86_64 | OK | OK | OK | ||||||||||
| Package: musicatk |
| Version: 1.9.0 |
| Command: /home/biocbuild/bbs-3.17-bioc/R/bin/R CMD check --install=check:musicatk.install-out.txt --library=/home/biocbuild/bbs-3.17-bioc/R/site-library --timings musicatk_1.9.0.tar.gz |
| StartedAt: 2023-04-12 07:48:05 -0400 (Wed, 12 Apr 2023) |
| EndedAt: 2023-04-12 07:56:39 -0400 (Wed, 12 Apr 2023) |
| EllapsedTime: 513.5 seconds |
| RetCode: 0 |
| Status: OK |
| CheckDir: musicatk.Rcheck |
| Warnings: 0 |
##############################################################################
##############################################################################
###
### Running command:
###
### /home/biocbuild/bbs-3.17-bioc/R/bin/R CMD check --install=check:musicatk.install-out.txt --library=/home/biocbuild/bbs-3.17-bioc/R/site-library --timings musicatk_1.9.0.tar.gz
###
##############################################################################
##############################################################################
* using log directory ‘/home/biocbuild/bbs-3.17-bioc/meat/musicatk.Rcheck’
* using R Under development (unstable) (2023-02-14 r83833)
* using platform: x86_64-pc-linux-gnu (64-bit)
* R was compiled by
gcc (Ubuntu 9.4.0-1ubuntu1~20.04.1) 9.4.0
GNU Fortran (Ubuntu 9.4.0-1ubuntu1~20.04.1) 9.4.0
* running under: Ubuntu 20.04.6 LTS
* using session charset: UTF-8
* checking for file ‘musicatk/DESCRIPTION’ ... OK
* checking extension type ... Package
* this is package ‘musicatk’ version ‘1.9.0’
* package encoding: UTF-8
* checking package namespace information ... OK
* checking package dependencies ... OK
* checking if this is a source package ... OK
* checking if there is a namespace ... OK
* checking for hidden files and directories ... OK
* checking for portable file names ... OK
* checking for sufficient/correct file permissions ... OK
* checking whether package ‘musicatk’ can be installed ... OK
* checking installed package size ... OK
* checking package directory ... OK
* checking ‘build’ directory ... OK
* checking DESCRIPTION meta-information ... OK
* checking top-level files ... OK
* checking for left-over files ... OK
* checking index information ... OK
* checking package subdirectories ... OK
* checking R files for non-ASCII characters ... OK
* checking R files for syntax errors ... OK
* checking whether the package can be loaded ... OK
* checking whether the package can be loaded with stated dependencies ... OK
* checking whether the package can be unloaded cleanly ... OK
* checking whether the namespace can be loaded with stated dependencies ... OK
* checking whether the namespace can be unloaded cleanly ... OK
* checking loading without being on the library search path ... OK
* checking dependencies in R code ... NOTE
Namespaces in Imports field not imported from:
‘TCGAbiolinks’ ‘shinyBS’ ‘shinyalert’ ‘shinybusy’ ‘shinydashboard’
‘shinyjqui’ ‘shinyjs’ ‘sortable’
All declared Imports should be used.
* checking S3 generic/method consistency ... OK
* checking replacement functions ... OK
* checking foreign function calls ... OK
* checking R code for possible problems ... OK
* checking Rd files ... OK
* checking Rd metadata ... OK
* checking Rd cross-references ... OK
* checking for missing documentation entries ... OK
* checking for code/documentation mismatches ... OK
* checking Rd \usage sections ... OK
* checking Rd contents ... OK
* checking for unstated dependencies in examples ... OK
* checking contents of ‘data’ directory ... OK
* checking data for non-ASCII characters ... OK
* checking LazyData ... OK
* checking data for ASCII and uncompressed saves ... OK
* checking files in ‘vignettes’ ... OK
* checking examples ... OK
Examples with CPU (user + system) or elapsed time > 5s
user system elapsed
build_standard_table 7.403 0.475 7.879
plot_cluster 6.115 0.081 6.223
create_umap 5.828 0.184 6.027
plot_umap 5.587 0.056 5.664
* checking for unstated dependencies in ‘tests’ ... OK
* checking tests ...
Running ‘testthat.R’
OK
* checking for unstated dependencies in vignettes ... OK
* checking package vignettes in ‘inst/doc’ ... OK
* checking running R code from vignettes ...
‘musicatk.Rmd’ using ‘UTF-8’... OK
NONE
* checking re-building of vignette outputs ... OK
* checking PDF version of manual ... OK
* DONE
Status: 1 NOTE
See
‘/home/biocbuild/bbs-3.17-bioc/meat/musicatk.Rcheck/00check.log’
for details.
musicatk.Rcheck/00install.out
############################################################################## ############################################################################## ### ### Running command: ### ### /home/biocbuild/bbs-3.17-bioc/R/bin/R CMD INSTALL musicatk ### ############################################################################## ############################################################################## * installing to library ‘/home/biocbuild/bbs-3.17-bioc/R/site-library’ * installing *source* package ‘musicatk’ ... ** using staged installation ** R ** data *** moving datasets to lazyload DB ** inst ** byte-compile and prepare package for lazy loading ** help *** installing help indices ** building package indices ** installing vignettes ** testing if installed package can be loaded from temporary location ** testing if installed package can be loaded from final location ** testing if installed package keeps a record of temporary installation path * DONE (musicatk)
musicatk.Rcheck/tests/testthat.Rout
R Under development (unstable) (2023-02-14 r83833) -- "Unsuffered Consequences"
Copyright (C) 2023 The R Foundation for Statistical Computing
Platform: x86_64-pc-linux-gnu (64-bit)
R is free software and comes with ABSOLUTELY NO WARRANTY.
You are welcome to redistribute it under certain conditions.
Type 'license()' or 'licence()' for distribution details.
R is a collaborative project with many contributors.
Type 'contributors()' for more information and
'citation()' on how to cite R or R packages in publications.
Type 'demo()' for some demos, 'help()' for on-line help, or
'help.start()' for an HTML browser interface to help.
Type 'q()' to quit R.
> library("testthat")
> library("musicatk")
Loading required package: NMF
Loading required package: registry
Loading required package: rngtools
Loading required package: cluster
NMF - BioConductor layer [OK] | Shared memory capabilities [NO: bigmemory] | Cores 2/2
To enable shared memory capabilities, try: install.extras('
NMF
')
Attaching package: 'NMF'
The following object is masked from 'package:testthat':
compare
>
> test_check("musicatk")
[ FAIL 0 | WARN 5 | SKIP 0 | PASS 42 ]
[ FAIL 0 | WARN 5 | SKIP 0 | PASS 42 ]
>
> proc.time()
user system elapsed
25.557 1.820 27.386
musicatk.Rcheck/musicatk-Ex.timings
| name | user | system | elapsed | |
| add_flank_to_variants | 3.386 | 0.349 | 3.734 | |
| add_variant_type | 0.016 | 0.004 | 0.020 | |
| annotate_replication_strand | 0.124 | 0.008 | 0.132 | |
| annotate_transcript_strand | 1.225 | 0.055 | 1.281 | |
| annotate_variant_length | 0.042 | 0.005 | 0.046 | |
| annotate_variant_type | 0.003 | 0.000 | 0.002 | |
| auto_predict_grid | 2.808 | 0.068 | 2.877 | |
| build_custom_table | 0.985 | 0.000 | 0.985 | |
| build_standard_table | 7.403 | 0.475 | 7.879 | |
| built_tables | 0.002 | 0.001 | 0.002 | |
| cluster_exposure | 0.015 | 0.000 | 0.015 | |
| combine_count_tables | 2.427 | 0.143 | 2.570 | |
| combine_predict_grid | 1.892 | 0.012 | 1.903 | |
| compare_cosmic_v2 | 2.267 | 0.019 | 2.287 | |
| compare_cosmic_v3 | 1.078 | 0.011 | 1.090 | |
| compare_results | 1.334 | 0.001 | 1.334 | |
| cosmic_v2_subtype_map | 0.001 | 0.000 | 0.001 | |
| create_musica | 0.776 | 0.088 | 0.844 | |
| create_umap | 5.828 | 0.184 | 6.027 | |
| discover_signatures | 0.694 | 0.052 | 0.747 | |
| drop_annotation | 0.002 | 0.000 | 0.002 | |
| exposure_differential_analysis | 0.015 | 0.004 | 0.019 | |
| exposures | 0.004 | 0.000 | 0.004 | |
| extract_count_tables | 0.004 | 0.000 | 0.004 | |
| extract_variants | 4.877 | 0.028 | 4.852 | |
| extract_variants_from_maf | 0.139 | 0.008 | 0.119 | |
| extract_variants_from_maf_file | 0.136 | 0.000 | 0.109 | |
| extract_variants_from_matrix | 0.140 | 0.000 | 0.113 | |
| extract_variants_from_vcf | 0.773 | 0.004 | 0.777 | |
| extract_variants_from_vcf_file | 0.476 | 0.004 | 0.480 | |
| generate_result_grid | 0.157 | 0.000 | 0.157 | |
| get_musica | 0.007 | 0.000 | 0.007 | |
| k_select | 0.900 | 0.008 | 0.908 | |
| musicatk | 0 | 0 | 0 | |
| name_signatures | 0.003 | 0.000 | 0.003 | |
| pipe | 0.003 | 0.000 | 0.003 | |
| plot_cluster | 6.115 | 0.081 | 6.223 | |
| plot_differential_analysis | 0.231 | 0.007 | 0.238 | |
| plot_exposures | 0.197 | 0.001 | 0.197 | |
| plot_heatmap | 0.683 | 0.007 | 0.691 | |
| plot_sample_counts | 0.376 | 0.000 | 0.376 | |
| plot_sample_reconstruction_error | 0.577 | 0.000 | 0.578 | |
| plot_signatures | 0.539 | 0.000 | 0.539 | |
| plot_umap | 5.587 | 0.056 | 5.664 | |
| predict_exposure | 1.477 | 0.052 | 1.528 | |
| rc | 0.002 | 0.000 | 0.002 | |
| samp_annot | 0.007 | 0.000 | 0.007 | |
| sample_names | 0.002 | 0.000 | 0.003 | |
| select_genome | 0 | 0 | 0 | |
| signatures | 0.005 | 0.000 | 0.004 | |
| subset_musica_by_annotation | 0.005 | 0.000 | 0.005 | |
| subset_musica_by_counts | 0.006 | 0.000 | 0.007 | |
| subset_variant_by_type | 0.005 | 0.000 | 0.004 | |
| subset_variants_by_samples | 0.004 | 0.000 | 0.004 | |
| table_selected | 0.002 | 0.000 | 0.001 | |
| tables | 0.007 | 0.000 | 0.007 | |
| umap | 0.000 | 0.003 | 0.003 | |
| variants | 0.006 | 0.000 | 0.007 | |