| Back to Multiple platform build/check report for BioC 3.17 |
|
This page was generated on 2023-04-12 10:55:27 -0400 (Wed, 12 Apr 2023).
| Hostname | OS | Arch (*) | R version | Installed pkgs |
|---|---|---|---|---|
| nebbiolo1 | Linux (Ubuntu 22.04.1 LTS) | x86_64 | 4.3.0 alpha (2023-04-03 r84154) | 4547 |
| nebbiolo2 | Linux (Ubuntu 20.04.5 LTS) | x86_64 | R Under development (unstable) (2023-02-14 r83833) -- "Unsuffered Consequences" | 4333 |
| Click on any hostname to see more info about the system (e.g. compilers) (*) as reported by 'uname -p', except on Windows and Mac OS X | ||||
|
To the developers/maintainers of the microbiome package: - Allow up to 24 hours (and sometimes 48 hours) for your latest push to git@git.bioconductor.org:packages/microbiome.git to reflect on this report. See Troubleshooting Build Report for more information. - Use the following Renviron settings to reproduce errors and warnings. Note: If "R CMD check" recently failed on the Linux builder over a missing dependency, add the missing dependency to "Suggests" in your DESCRIPTION file. See the Renviron.bioc for details. |
| Package 1209/2207 | Hostname | OS / Arch | INSTALL | BUILD | CHECK | BUILD BIN | ||||||||
| microbiome 1.21.0 (landing page) Leo Lahti
| nebbiolo1 | Linux (Ubuntu 22.04.1 LTS) / x86_64 | OK | OK | OK | |||||||||
| nebbiolo2 | Linux (Ubuntu 20.04.5 LTS) / x86_64 | OK | OK | OK | ||||||||||
| Package: microbiome |
| Version: 1.21.0 |
| Command: /home/biocbuild/bbs-3.17-bioc/R/bin/R CMD check --install=check:microbiome.install-out.txt --library=/home/biocbuild/bbs-3.17-bioc/R/site-library --timings microbiome_1.21.0.tar.gz |
| StartedAt: 2023-04-11 21:33:12 -0400 (Tue, 11 Apr 2023) |
| EndedAt: 2023-04-11 21:36:38 -0400 (Tue, 11 Apr 2023) |
| EllapsedTime: 206.3 seconds |
| RetCode: 0 |
| Status: OK |
| CheckDir: microbiome.Rcheck |
| Warnings: 0 |
##############################################################################
##############################################################################
###
### Running command:
###
### /home/biocbuild/bbs-3.17-bioc/R/bin/R CMD check --install=check:microbiome.install-out.txt --library=/home/biocbuild/bbs-3.17-bioc/R/site-library --timings microbiome_1.21.0.tar.gz
###
##############################################################################
##############################################################################
* using log directory ‘/home/biocbuild/bbs-3.17-bioc/meat/microbiome.Rcheck’
* using R version 4.3.0 alpha (2023-04-03 r84154)
* using platform: x86_64-pc-linux-gnu (64-bit)
* R was compiled by
gcc (Ubuntu 11.3.0-1ubuntu1~22.04) 11.3.0
GNU Fortran (Ubuntu 11.3.0-1ubuntu1~22.04) 11.3.0
* running under: Ubuntu 22.04.2 LTS
* using session charset: UTF-8
* checking for file ‘microbiome/DESCRIPTION’ ... OK
* checking extension type ... Package
* this is package ‘microbiome’ version ‘1.21.0’
* package encoding: UTF-8
* checking package namespace information ... OK
* checking package dependencies ... OK
* checking if this is a source package ... OK
* checking if there is a namespace ... OK
* checking for hidden files and directories ... OK
* checking for portable file names ... OK
* checking for sufficient/correct file permissions ... OK
* checking whether package ‘microbiome’ can be installed ... OK
* checking installed package size ... OK
* checking package directory ... OK
* checking ‘build’ directory ... OK
* checking DESCRIPTION meta-information ... OK
* checking top-level files ... OK
* checking for left-over files ... OK
* checking index information ... OK
* checking package subdirectories ... NOTE
Problems with news in ‘NEWS’:
Cannot process chunk/lines:
CHANGES IN VERSION 0.1.2
# New features
o Added plot_abundances function
o Added Chao1 index in richness function
o In atlas1006 data set, pseudocount of +1 in otu table has been
removed to facilitate comparison with sequencing data sets and to
avoid confusion
o In atlas1006 data set, only a single replicate per subject-time
combination is chosen (at random)
o New function collapse_replicates has been added
# Major changes
o Abundance matrices (otu tables) for all example data sets now
starting from 0 without pseudocount
# Minor changes
o Changed the default for the detection argument in the richness function to
detection=0
o Color order in plot_landscape legend now follows the factor levels
of the col argument
o Various minor fixes; see github commits for many more details
* checking R files for non-ASCII characters ... OK
* checking R files for syntax errors ... OK
* checking whether the package can be loaded ... OK
* checking whether the package can be loaded with stated dependencies ... OK
* checking whether the package can be unloaded cleanly ... OK
* checking whether the namespace can be loaded with stated dependencies ... OK
* checking whether the namespace can be unloaded cleanly ... OK
* checking loading without being on the library search path ... OK
* checking startup messages can be suppressed ... OK
* checking dependencies in R code ... OK
* checking S3 generic/method consistency ... OK
* checking replacement functions ... OK
* checking foreign function calls ... OK
* checking R code for possible problems ... OK
* checking Rd files ... OK
* checking Rd metadata ... OK
* checking Rd cross-references ... OK
* checking for missing documentation entries ... OK
* checking for code/documentation mismatches ... OK
* checking Rd \usage sections ... OK
* checking Rd contents ... OK
* checking for unstated dependencies in examples ... OK
* checking contents of ‘data’ directory ... OK
* checking data for non-ASCII characters ... OK
* checking data for ASCII and uncompressed saves ... OK
* checking files in ‘vignettes’ ... OK
* checking examples ... OK
Examples with CPU (user + system) or elapsed time > 5s
user system elapsed
overlap 14.708 0.176 14.884
* checking for unstated dependencies in ‘tests’ ... OK
* checking tests ...
Running ‘testthat.R’
OK
* checking for unstated dependencies in vignettes ... OK
* checking package vignettes in ‘inst/doc’ ... OK
* checking running R code from vignettes ...
‘vignette.Rmd’ using ‘UTF-8’... OK
NONE
* checking re-building of vignette outputs ... OK
* checking PDF version of manual ... OK
* DONE
Status: 1 NOTE
See
‘/home/biocbuild/bbs-3.17-bioc/meat/microbiome.Rcheck/00check.log’
for details.
microbiome.Rcheck/00install.out
############################################################################## ############################################################################## ### ### Running command: ### ### /home/biocbuild/bbs-3.17-bioc/R/bin/R CMD INSTALL microbiome ### ############################################################################## ############################################################################## * installing to library ‘/home/biocbuild/bbs-3.17-bioc/R/site-library’ * installing *source* package ‘microbiome’ ... ** using staged installation ** R ** data ** inst ** byte-compile and prepare package for lazy loading ** help *** installing help indices ** building package indices ** installing vignettes ** testing if installed package can be loaded from temporary location ** testing if installed package can be loaded from final location ** testing if installed package keeps a record of temporary installation path * DONE (microbiome)
microbiome.Rcheck/tests/testthat.Rout
R version 4.3.0 alpha (2023-04-03 r84154)
Copyright (C) 2023 The R Foundation for Statistical Computing
Platform: x86_64-pc-linux-gnu (64-bit)
R is free software and comes with ABSOLUTELY NO WARRANTY.
You are welcome to redistribute it under certain conditions.
Type 'license()' or 'licence()' for distribution details.
R is a collaborative project with many contributors.
Type 'contributors()' for more information and
'citation()' on how to cite R or R packages in publications.
Type 'demo()' for some demos, 'help()' for on-line help, or
'help.start()' for an HTML browser interface to help.
Type 'q()' to quit R.
> library(testthat)
> test_check("microbiome")
Loading required package: microbiome
Loading required package: phyloseq
Loading required package: ggplot2
microbiome R package (microbiome.github.com)
Copyright (C) 2011-2022 Leo Lahti,
Sudarshan Shetty et al. <microbiome.github.io>
Attaching package: 'microbiome'
The following object is masked from 'package:ggplot2':
alpha
The following object is masked from 'package:base':
transform
[ FAIL 0 | WARN 3 | SKIP 1 | PASS 83 ]
══ Skipped tests ═══════════════════════════════════════════════════════════════
• On Bioconductor (1)
[ FAIL 0 | WARN 3 | SKIP 1 | PASS 83 ]
>
> proc.time()
user system elapsed
11.861 0.482 12.332
microbiome.Rcheck/microbiome-Ex.timings
| name | user | system | elapsed | |
| TibbleUtilites | 0.186 | 0.004 | 0.190 | |
| abundances | 0.005 | 0.002 | 0.007 | |
| add_besthit | 0 | 0 | 0 | |
| add_refseq | 0.001 | 0.000 | 0.001 | |
| aggregate_rare | 0.844 | 0.036 | 0.881 | |
| aggregate_taxa | 0.079 | 0.003 | 0.083 | |
| alpha | 0.008 | 0.004 | 0.012 | |
| associate | 0.034 | 0.000 | 0.034 | |
| baseline | 0.028 | 0.008 | 0.037 | |
| bimodality | 0.001 | 0.000 | 0.001 | |
| bimodality_sarle | 0 | 0 | 0 | |
| boxplot_abundance | 0.097 | 0.003 | 0.101 | |
| boxplot_alpha | 0.313 | 0.004 | 0.316 | |
| chunk_reorder | 0.001 | 0.000 | 0.001 | |
| cmat2table | 0.069 | 0.000 | 0.069 | |
| collapse_replicates | 0.036 | 0.015 | 0.052 | |
| core | 0.057 | 0.019 | 0.077 | |
| core_abundance | 0.029 | 0.004 | 0.033 | |
| core_matrix | 0.001 | 0.000 | 0.000 | |
| core_members | 0.006 | 0.004 | 0.009 | |
| coverage | 0.023 | 0.004 | 0.027 | |
| default_colors | 0 | 0 | 0 | |
| densityplot | 0 | 0 | 0 | |
| divergence | 0.485 | 0.004 | 0.489 | |
| diversity | 0.009 | 0.004 | 0.013 | |
| dominance | 0.006 | 0.004 | 0.010 | |
| dominant | 0.025 | 0.003 | 0.029 | |
| estimate_stability | 0.000 | 0.000 | 0.001 | |
| evenness | 0.007 | 0.000 | 0.008 | |
| find_optima | 0 | 0 | 0 | |
| gktau | 0.012 | 0.000 | 0.012 | |
| group_age | 0.023 | 0.000 | 0.024 | |
| group_bmi | 0.001 | 0.000 | 0.001 | |
| heat | 0.049 | 0.004 | 0.053 | |
| hotplot | 0.234 | 0.000 | 0.234 | |
| inequality | 0.038 | 0.000 | 0.039 | |
| intermediate_stability | 0.409 | 0.000 | 0.409 | |
| is_compositional | 0.113 | 0.007 | 0.121 | |
| log_modulo_skewness | 0.097 | 0.000 | 0.096 | |
| low_abundance | 0.012 | 0.000 | 0.012 | |
| map_levels | 0.04 | 0.00 | 0.04 | |
| merge_taxa2 | 0.022 | 0.000 | 0.023 | |
| meta | 0.006 | 0.000 | 0.007 | |
| microbiome-package | 0.01 | 0.00 | 0.01 | |
| multimodality | 0 | 0 | 0 | |
| neat | 0.068 | 0.000 | 0.068 | |
| neatsort | 0.146 | 0.000 | 0.146 | |
| overlap | 14.708 | 0.176 | 14.884 | |
| plot_atlas | 0.046 | 0.004 | 0.050 | |
| plot_composition | 0.203 | 0.040 | 0.244 | |
| plot_core | 0.058 | 0.008 | 0.066 | |
| plot_density | 0.037 | 0.004 | 0.042 | |
| plot_frequencies | 0.020 | 0.008 | 0.029 | |
| plot_landscape | 0.790 | 0.019 | 0.809 | |
| plot_regression | 0.150 | 0.008 | 0.158 | |
| plot_taxa_prevalence | 0.266 | 0.000 | 0.266 | |
| plot_tipping | 0.096 | 0.008 | 0.104 | |
| potential_analysis | 0.030 | 0.004 | 0.034 | |
| potential_univariate | 0 | 0 | 0 | |
| prevalence | 0.013 | 0.000 | 0.012 | |
| psmelt2 | 0.067 | 0.024 | 0.090 | |
| quiet | 0.000 | 0.000 | 0.001 | |
| rare | 0.013 | 0.007 | 0.021 | |
| rare_abundance | 0.035 | 0.000 | 0.034 | |
| rare_members | 0.010 | 0.000 | 0.009 | |
| rarity | 0.098 | 0.004 | 0.101 | |
| read_biom2phyloseq | 0.000 | 0.000 | 0.001 | |
| read_csv2phyloseq | 0 | 0 | 0 | |
| read_mothur2phyloseq | 0.001 | 0.000 | 0.000 | |
| read_phyloseq | 0 | 0 | 0 | |
| readcount | 0.006 | 0.000 | 0.007 | |
| remove_samples | 0.010 | 0.004 | 0.014 | |
| remove_taxa | 0.017 | 0.000 | 0.017 | |
| richness | 0.009 | 0.000 | 0.009 | |
| spreadplot | 0.055 | 0.000 | 0.054 | |
| summarize_phyloseq | 0.015 | 0.000 | 0.015 | |
| taxa | 0.006 | 0.000 | 0.006 | |
| time_normalize | 0.025 | 0.003 | 0.030 | |
| time_sort | 0.107 | 0.000 | 0.107 | |
| timesplit | 0.099 | 0.000 | 0.099 | |
| top | 0.007 | 0.000 | 0.008 | |
| top_taxa | 0.007 | 0.000 | 0.008 | |
| transform | 0.286 | 0.008 | 0.294 | |
| ztransform | 0 | 0 | 0 | |