| Back to Multiple platform build/check report for BioC 3.17 |
|
This page was generated on 2023-04-12 10:55:38 -0400 (Wed, 12 Apr 2023).
| Hostname | OS | Arch (*) | R version | Installed pkgs |
|---|---|---|---|---|
| nebbiolo1 | Linux (Ubuntu 22.04.1 LTS) | x86_64 | 4.3.0 alpha (2023-04-03 r84154) | 4547 |
| nebbiolo2 | Linux (Ubuntu 20.04.5 LTS) | x86_64 | R Under development (unstable) (2023-02-14 r83833) -- "Unsuffered Consequences" | 4333 |
| Click on any hostname to see more info about the system (e.g. compilers) (*) as reported by 'uname -p', except on Windows and Mac OS X | ||||
|
To the developers/maintainers of the metaseqR2 package: - Allow up to 24 hours (and sometimes 48 hours) for your latest push to git@git.bioconductor.org:packages/metaseqR2.git to reflect on this report. See Troubleshooting Build Report for more information. - Use the following Renviron settings to reproduce errors and warnings. Note: If "R CMD check" recently failed on the Linux builder over a missing dependency, add the missing dependency to "Suggests" in your DESCRIPTION file. See the Renviron.bioc for details. |
| Package 1174/2207 | Hostname | OS / Arch | INSTALL | BUILD | CHECK | BUILD BIN | ||||||||
| metaseqR2 1.11.1 (landing page) Panagiotis Moulos
| nebbiolo1 | Linux (Ubuntu 22.04.1 LTS) / x86_64 | OK | OK | OK | |||||||||
| nebbiolo2 | Linux (Ubuntu 20.04.5 LTS) / x86_64 | OK | OK | OK | ||||||||||
| Package: metaseqR2 |
| Version: 1.11.1 |
| Command: /home/biocbuild/bbs-3.17-bioc/R/bin/R CMD check --install=check:metaseqR2.install-out.txt --library=/home/biocbuild/bbs-3.17-bioc/R/site-library --timings metaseqR2_1.11.1.tar.gz |
| StartedAt: 2023-04-12 07:20:59 -0400 (Wed, 12 Apr 2023) |
| EndedAt: 2023-04-12 07:39:28 -0400 (Wed, 12 Apr 2023) |
| EllapsedTime: 1108.8 seconds |
| RetCode: 0 |
| Status: OK |
| CheckDir: metaseqR2.Rcheck |
| Warnings: 0 |
##############################################################################
##############################################################################
###
### Running command:
###
### /home/biocbuild/bbs-3.17-bioc/R/bin/R CMD check --install=check:metaseqR2.install-out.txt --library=/home/biocbuild/bbs-3.17-bioc/R/site-library --timings metaseqR2_1.11.1.tar.gz
###
##############################################################################
##############################################################################
* using log directory ‘/home/biocbuild/bbs-3.17-bioc/meat/metaseqR2.Rcheck’
* using R Under development (unstable) (2023-02-14 r83833)
* using platform: x86_64-pc-linux-gnu (64-bit)
* R was compiled by
gcc (Ubuntu 9.4.0-1ubuntu1~20.04.1) 9.4.0
GNU Fortran (Ubuntu 9.4.0-1ubuntu1~20.04.1) 9.4.0
* running under: Ubuntu 20.04.6 LTS
* using session charset: UTF-8
* checking for file ‘metaseqR2/DESCRIPTION’ ... OK
* checking extension type ... Package
* this is package ‘metaseqR2’ version ‘1.11.1’
* package encoding: UTF-8
* checking package namespace information ... OK
* checking package dependencies ... OK
* checking if this is a source package ... OK
* checking if there is a namespace ... OK
* checking for hidden files and directories ... OK
* checking for portable file names ... OK
* checking for sufficient/correct file permissions ... OK
* checking whether package ‘metaseqR2’ can be installed ... OK
* used C compiler: ‘gcc (Ubuntu 9.4.0-1ubuntu1~20.04.1) 9.4.0’
* checking installed package size ... OK
* checking package directory ... OK
* checking ‘build’ directory ... OK
* checking DESCRIPTION meta-information ... OK
* checking top-level files ... OK
* checking for left-over files ... OK
* checking index information ... OK
* checking package subdirectories ... OK
* checking R files for non-ASCII characters ... OK
* checking R files for syntax errors ... OK
* checking whether the package can be loaded ... OK
* checking whether the package can be loaded with stated dependencies ... OK
* checking whether the package can be unloaded cleanly ... OK
* checking whether the namespace can be loaded with stated dependencies ... OK
* checking whether the namespace can be unloaded cleanly ... OK
* checking loading without being on the library search path ... OK
* checking dependencies in R code ... OK
* checking S3 generic/method consistency ... OK
* checking replacement functions ... OK
* checking foreign function calls ... OK
* checking R code for possible problems ... OK
* checking Rd files ... OK
* checking Rd metadata ... OK
* checking Rd cross-references ... OK
* checking for missing documentation entries ... OK
* checking for code/documentation mismatches ... OK
* checking Rd \usage sections ... OK
* checking Rd contents ... OK
* checking for unstated dependencies in examples ... OK
* checking contents of ‘data’ directory ... OK
* checking data for non-ASCII characters ... OK
* checking data for ASCII and uncompressed saves ... OK
* checking line endings in C/C++/Fortran sources/headers ... OK
* checking compiled code ... NOTE
Note: information on .o files is not available
* checking files in ‘vignettes’ ... OK
* checking examples ... OK
Examples with CPU (user + system) or elapsed time > 5s
user system elapsed
read2count 13.665 2.035 19.756
statNoiseq 7.377 0.168 7.545
metaseqr2 5.986 0.875 9.687
getAnnotation 1.397 0.400 6.566
* checking for unstated dependencies in ‘tests’ ... OK
* checking tests ...
Running ‘runTests.R’
OK
* checking for unstated dependencies in vignettes ... OK
* checking package vignettes in ‘inst/doc’ ... OK
* checking running R code from vignettes ...
‘metaseqr2-annotation.Rmd’ using ‘UTF-8’... OK
‘metaseqr2-statistics.Rmd’ using ‘UTF-8’... OK
NONE
* checking re-building of vignette outputs ... OK
* checking PDF version of manual ... OK
* DONE
Status: 1 NOTE
See
‘/home/biocbuild/bbs-3.17-bioc/meat/metaseqR2.Rcheck/00check.log’
for details.
metaseqR2.Rcheck/00install.out
##############################################################################
##############################################################################
###
### Running command:
###
### /home/biocbuild/bbs-3.17-bioc/R/bin/R CMD INSTALL metaseqR2
###
##############################################################################
##############################################################################
* installing to library ‘/home/biocbuild/bbs-3.17-bioc/R/site-library’
* installing *source* package ‘metaseqR2’ ...
** using staged installation
** libs
using C compiler: ‘gcc (Ubuntu 9.4.0-1ubuntu1~20.04.1) 9.4.0’
gcc -I"/home/biocbuild/bbs-3.17-bioc/R/include" -DNDEBUG -I/usr/local/include -fpic -g -O2 -Wall -c pval.c -o pval.o
pval.c: In function ‘add_from_both_sides’:
pval.c:26:11: warning: unused variable ‘esttotalperlength’ [-Wunused-variable]
26 | double esttotalperlength = total/2;
| ^~~~~~~~~~~~~~~~~
gcc -shared -L/home/biocbuild/bbs-3.17-bioc/R/lib -L/usr/local/lib -o metaseqR2.so pval.o -L/home/biocbuild/bbs-3.17-bioc/R/lib -lR
installing to /home/biocbuild/bbs-3.17-bioc/R/site-library/00LOCK-metaseqR2/00new/metaseqR2/libs
** R
** data
** inst
** byte-compile and prepare package for lazy loading
** help
*** installing help indices
** building package indices
** installing vignettes
** testing if installed package can be loaded from temporary location
** checking absolute paths in shared objects and dynamic libraries
** testing if installed package can be loaded from final location
** testing if installed package keeps a record of temporary installation path
* DONE (metaseqR2)
metaseqR2.Rcheck/tests/runTests.Rout
R Under development (unstable) (2023-02-14 r83833) -- "Unsuffered Consequences"
Copyright (C) 2023 The R Foundation for Statistical Computing
Platform: x86_64-pc-linux-gnu (64-bit)
R is free software and comes with ABSOLUTELY NO WARRANTY.
You are welcome to redistribute it under certain conditions.
Type 'license()' or 'licence()' for distribution details.
R is a collaborative project with many contributors.
Type 'contributors()' for more information and
'citation()' on how to cite R or R packages in publications.
Type 'demo()' for some demos, 'help()' for on-line help, or
'help.start()' for an HTML browser interface to help.
Type 'q()' to quit R.
> BiocGenerics:::testPackage("metaseqR2")
Attaching package: 'BiocGenerics'
The following objects are masked from 'package:stats':
IQR, mad, sd, var, xtabs
The following objects are masked from 'package:base':
Filter, Find, Map, Position, Reduce, anyDuplicated, aperm, append,
as.data.frame, basename, cbind, colnames, dirname, do.call,
duplicated, eval, evalq, get, grep, grepl, intersect, is.unsorted,
lapply, mapply, match, mget, order, paste, pmax, pmax.int, pmin,
pmin.int, rank, rbind, rownames, sapply, setdiff, sort, table,
tapply, union, unique, unsplit, which.max, which.min
Attaching package: 'S4Vectors'
The following objects are masked from 'package:base':
I, expand.grid, unname
Attaching package: 'MatrixGenerics'
The following objects are masked from 'package:matrixStats':
colAlls, colAnyNAs, colAnys, colAvgsPerRowSet, colCollapse,
colCounts, colCummaxs, colCummins, colCumprods, colCumsums,
colDiffs, colIQRDiffs, colIQRs, colLogSumExps, colMadDiffs,
colMads, colMaxs, colMeans2, colMedians, colMins, colOrderStats,
colProds, colQuantiles, colRanges, colRanks, colSdDiffs, colSds,
colSums2, colTabulates, colVarDiffs, colVars, colWeightedMads,
colWeightedMeans, colWeightedMedians, colWeightedSds,
colWeightedVars, rowAlls, rowAnyNAs, rowAnys, rowAvgsPerColSet,
rowCollapse, rowCounts, rowCummaxs, rowCummins, rowCumprods,
rowCumsums, rowDiffs, rowIQRDiffs, rowIQRs, rowLogSumExps,
rowMadDiffs, rowMads, rowMaxs, rowMeans2, rowMedians, rowMins,
rowOrderStats, rowProds, rowQuantiles, rowRanges, rowRanks,
rowSdDiffs, rowSds, rowSums2, rowTabulates, rowVarDiffs, rowVars,
rowWeightedMads, rowWeightedMeans, rowWeightedMedians,
rowWeightedSds, rowWeightedVars
Welcome to Bioconductor
Vignettes contain introductory material; view with
'browseVignettes()'. To cite Bioconductor, see
'citation("Biobase")', and for packages 'citation("pkgname")'.
Attaching package: 'Biobase'
The following object is masked from 'package:MatrixGenerics':
rowMedians
The following objects are masked from 'package:matrixStats':
anyMissing, rowMedians
Attaching package: 'limma'
The following object is masked from 'package:DESeq2':
plotMA
The following object is masked from 'package:BiocGenerics':
plotMA
locfit 1.5-9.7 2023-01-02
Attaching package: 'metaseqR2'
The following object is masked from 'package:limma':
readTargets
Downsampling counts...
Estimating initial dispersion population...
Estimating dispersions using log-likelihood...
Running simulations... This procedure requires time... Please wait...Using Ensembl host https://nov2020.archive.ensembl.org
2023-04-12 07:30:21: Data processing started...
Read counts file: imported custom data frame
Conditions: G1, G2
Samples to include: G1_rep1, G1_rep2, G1_rep3, G2_rep1, G2_rep2, G2_rep3
Samples to exclude: none
Requested contrasts: G1_vs_G2
Annotation: embedded
Organism: mm10
Reference source: ensembl
Count type: gene
Analysis preset: all_basic
Transcriptional level: gene
Exon filters: none applied
Gene filters: none applied
Filter application: postnorm
Normalization algorithm: edaseq
Normalization arguments:
within.which: loess
between.which: full
Statistical algorithm(s): edger, limma
Statistical arguments:
edger: classic, 5, 10, movingave, NULL, grid, 11, c(-6, 6), NULL, CoxReid, 10000, NULL, auto, NULL, NULL, NULL, NULL, 0.125, NULL, auto, chisq, TRUE, FALSE, c(0.05, 0.1)
limma: none
Meta-analysis method: simes
Multiple testing correction: BH
Logarithmic transformation offset: 1
Analysis preset: all_basic
Quality control plots:
Figure format: png
Output directory: /tmp/RtmpWsx2rK
Output data: annotation, p_value, adj_p_value, meta_p_value, adj_meta_p_value, fold_change
Output scale(s): natural, log2
Output values: normalized
Loading gene annotation...
Saving gene model to /tmp/RtmpWsx2rK/data/gene_model.RData
Removing genes with zero counts in all samples...
Normalizing with: edaseq
Running statistical tests with: edger
Contrast: G1_vs_G2
Running statistical tests with: limma
Contrast: G1_vs_G2
Performing meta-analysis with simes
Building output files...
Contrast: G1_vs_G2
Adding non-filtered data...
binding annotation...
binding p-values...
binding FDRs...
binding meta p-values...
binding adjusted meta p-values...
binding natural normalized fold changes...
binding log2 normalized fold changes...
Writing output...
2023-04-12 07:30:22: Data processing finished!
Total processing time: 00 seconds
Estimating AUFC weights... Please wait...
Processing edger
Processing limma
Retrieving edger
Retrieving limma
2023-04-12 07:30:25: Data processing started...
Read counts file: imported custom data frame
Conditions: e14.5, adult_8_weeks
Samples to include: e14.5_1, e14.5_2, a8w_1, a8w_2
Samples to exclude: none
Requested contrasts: adult_8_weeks_vs_e14.5
Library sizes:
e14.5_1: 3102907
e14.5_2: 2067905
a8w_1: 3742059
a8w_2: 4403954
Annotation: embedded
Organism: mm9
Reference source: ensembl
Count type: gene
Analysis preset: medium_basic
Transcriptional level: gene
Exon filters: minActiveExons
minActiveExons:
exonsPerGene: 5
minExons: 2
frac: 0.2
Gene filters: length, avgReads, expression, biotype
length:
length: 500
avgReads:
averagePerBp: 100
quantile: 0.25
expression:
median: TRUE
mean: FALSE
quantile: NA
known: NA
custom: NA
biotype:
pseudogene: FALSE
snRNA: FALSE
protein_coding: FALSE
antisense: FALSE
miRNA: FALSE
lincRNA: FALSE
snoRNA: FALSE
processed_transcript: FALSE
misc_RNA: FALSE
rRNA: TRUE
sense_overlapping: FALSE
sense_intronic: FALSE
polymorphic_pseudogene: FALSE
non_coding: FALSE
three_prime_overlapping_ncrna: FALSE
IG_C_gene: FALSE
IG_J_gene: FALSE
IG_D_gene: FALSE
IG_V_gene: FALSE
ncrna_host: FALSE
Filter application: postnorm
Normalization algorithm: edger
Normalization arguments:
method: TMM
logratioTrim: 0.3
sumTrim: 0.05
doWeighting: TRUE
Acutoff: -1e+10
p: 0.75
Statistical algorithm(s): edger, limma
Statistical arguments:
edger: classic, 5, 10, movingave, NULL, grid, 11, c(-6, 6), NULL, CoxReid, 10000, NULL, auto, NULL, NULL, NULL, NULL, 0.125, NULL, auto, chisq, TRUE, FALSE, c(0.05, 0.1)
limma: none
Meta-analysis method: simes
Multiple testing correction: BH
p-value threshold: 0.05
Logarithmic transformation offset: 1
Analysis preset: medium_basic
Quality control plots: mds
Figure format: png
Output directory: /tmp/RtmpWsx2rK
Output data: annotation, p_value, adj_p_value, meta_p_value, adj_meta_p_value, fold_change
Output scale(s): natural, log2
Output values: normalized
Loading gene annotation...
Saving gene model to /tmp/RtmpWsx2rK/data/gene_model.RData
Removing genes with zero counts in all samples...
Normalizing with: edger
Applying gene filter length...
Threshold below which ignored: 500
Applying gene filter avgReads...
Threshold below which ignored: 0.0659629215631332
Applying gene filter expression...
Threshold below which ignored: 68
Applying gene filter biotype...
Biotypes ignored: rRNA
2106 genes filtered out
1681 genes remain after filtering
Running statistical tests with: edger
Contrast: adult_8_weeks_vs_e14.5
Contrast adult_8_weeks_vs_e14.5: found 906 genes
Running statistical tests with: limma
Contrast: adult_8_weeks_vs_e14.5
Contrast adult_8_weeks_vs_e14.5: found 911 genes
Performing meta-analysis with simes
Building output files...
Contrast: adult_8_weeks_vs_e14.5
Adding non-filtered data...
binding annotation...
binding p-values...
binding FDRs...
binding meta p-values...
binding adjusted meta p-values...
binding natural normalized fold changes...
binding log2 normalized fold changes...
Writing output...
Adding filtered data...
binding annotation...
binding p-values...
binding FDRs...
binding meta p-values...
binding adjusted meta p-values...
binding natural normalized fold changes...
binding log2 normalized fold changes...
Writing output...
Adding report data...
binding annotation...
binding meta p-values...
binding adjusted meta p-values...
binding log2 normalized fold changes...
binding normalized mean counts...
binding normalized mean counts...
Creating quality control graphs...
Plotting in png format...
Plotting mds...
Importing mds...
Writing plot database in /tmp/RtmpWsx2rK/data/reportdb.js
Creating HTML report...
Compressing figures... adding: tmp/RtmpWsx2rK/plots/qc/mds.png (deflated 52%)
Downloading required JavaScript libraries...trying URL 'https://raw.github.com/HubSpot/pace/v1.0.0/pace.min.js'
Content type 'text/plain; charset=utf-8' length 12363 bytes (12 KB)
==================================================
downloaded 12 KB
trying URL 'https://code.highcharts.com/highcharts.js'
downloaded 296 KB
trying URL 'https://code.highcharts.com/highcharts-more.js'
downloaded 103 KB
trying URL 'https://code.highcharts.com/modules/exporting.js'
downloaded 19 KB
trying URL 'https://code.highcharts.com/modules/offline-exporting.js'
downloaded 9627 bytes
trying URL 'https://code.highcharts.com/modules/export-data.js'
downloaded 12 KB
trying URL 'http://jvenn.toulouse.inra.fr/app/js/canvas2svg.js'
Content type 'text/javascript' length 35122 bytes (34 KB)
==================================================
downloaded 34 KB
trying URL 'http://jvenn.toulouse.inra.fr/app/js/jvenn.min.js'
Content type 'text/javascript' length 100524 bytes (98 KB)
==================================================
downloaded 98 KB
trying URL 'https://unpkg.com/dexie@2.0.4/dist/dexie.min.js'
downloaded 55 KB
processing file: metaseqr2_report.Rmd
output file: metaseqr2_report.knit.md
/usr/bin/pandoc +RTS -K512m -RTS metaseqr2_report.knit.md --to html4 --from markdown+autolink_bare_uris+tex_math_single_backslash --output /tmp/RtmpWsx2rK/index.html --lua-filter /home/biocbuild/bbs-3.17-bioc/R/site-library/rmarkdown/rmarkdown/lua/pagebreak.lua --lua-filter /home/biocbuild/bbs-3.17-bioc/R/site-library/rmarkdown/rmarkdown/lua/latex-div.lua +RTS -K2048m -RTS --variable 'material:true' --variable 'lightbox:true' --variable 'thumbnails:true' --variable 'gallery:true' --variable 'cards:true' --variable bs3=TRUE --standalone --section-divs --table-of-contents --toc-depth 1 --template /home/biocbuild/bbs-3.17-bioc/R/site-library/rmdformats/templates/material/material.html --highlight-style kate --variable theme=bootstrap --include-in-header /tmp/RtmpWsx2rK/rmarkdown-str294e6c3be52ca8.html
Output created: /tmp/RtmpWsx2rK/index.html
2023-04-12 07:30:33: Data processing finished!
Total processing time: 08 seconds
RUNIT TEST PROTOCOL -- Wed Apr 12 07:30:33 2023
***********************************************
Number of test functions: 2
Number of errors: 0
Number of failures: 0
1 Test Suite :
metaseqR2 RUnit Tests - 2 test functions, 0 errors, 0 failures
Number of test functions: 2
Number of errors: 0
Number of failures: 0
There were 50 or more warnings (use warnings() to see the first 50)
>
> proc.time()
user system elapsed
32.099 3.004 42.470
metaseqR2.Rcheck/metaseqR2-Ex.timings
| name | user | system | elapsed | |
| buildAnnotationDatabase | 0 | 0 | 0 | |
| buildCustomAnnotation | 3.592 | 0.296 | 3.888 | |
| combineBonferroni | 0.001 | 0.000 | 0.000 | |
| combineHarmonic | 0.002 | 0.000 | 0.003 | |
| combineMaxp | 0 | 0 | 0 | |
| combineMinp | 0.000 | 0.000 | 0.001 | |
| combineSimes | 0.002 | 0.000 | 0.001 | |
| combineWeight | 0 | 0 | 0 | |
| createSignalTracks | 2.647 | 0.228 | 2.906 | |
| diagplotAvgFtd | 0.046 | 0.004 | 0.050 | |
| diagplotBoxplot | 0.648 | 0.020 | 0.669 | |
| diagplotCor | 0.152 | 0.032 | 0.185 | |
| diagplotDeHeatmap | 0.744 | 0.024 | 0.768 | |
| diagplotEdaseq | 0.392 | 0.024 | 0.416 | |
| diagplotFiltered | 0.025 | 0.000 | 0.025 | |
| diagplotFtd | 0.012 | 0.004 | 0.016 | |
| diagplotMds | 0.226 | 0.004 | 0.230 | |
| diagplotNoiseq | 0.422 | 0.028 | 0.449 | |
| diagplotPairs | 0.856 | 0.016 | 0.872 | |
| diagplotRoc | 0.020 | 0.000 | 0.021 | |
| diagplotVenn | 0.176 | 0.004 | 0.180 | |
| diagplotVolcano | 2.765 | 0.064 | 2.829 | |
| downsampleCounts | 0.184 | 0.024 | 0.207 | |
| estimateAufcWeights | 1.047 | 0.080 | 1.135 | |
| estimateSimParams | 0.733 | 0.024 | 0.754 | |
| getAnnotation | 1.397 | 0.400 | 6.566 | |
| getDefaults | 0.001 | 0.000 | 0.000 | |
| getInstalledAnnotations | 0.002 | 0.000 | 0.001 | |
| getWeights | 0.000 | 0.000 | 0.001 | |
| importCustomAnnotation | 0.930 | 0.092 | 1.022 | |
| loadAnnotation | 0.001 | 0.000 | 0.001 | |
| makeSimDataSd | 0.866 | 0.207 | 1.090 | |
| makeSimDataTcc | 0.002 | 0.000 | 0.001 | |
| metaTest | 0.005 | 0.008 | 0.011 | |
| metaseqr2 | 5.986 | 0.875 | 9.687 | |
| metaseqrPlot | 0.595 | 0.032 | 0.626 | |
| normalizeAbsseq | 0.666 | 0.063 | 0.730 | |
| normalizeDeseq | 0.149 | 0.008 | 0.158 | |
| normalizeDeseq2 | 0.672 | 0.056 | 0.727 | |
| normalizeDss | 0.256 | 0.024 | 0.279 | |
| normalizeEdaseq | 0.399 | 0.028 | 0.427 | |
| normalizeEdger | 0.142 | 0.012 | 0.155 | |
| normalizeNbpseq | 0.105 | 0.004 | 0.110 | |
| normalizeNoiseq | 0.154 | 0.000 | 0.155 | |
| read2count | 13.665 | 2.035 | 19.756 | |
| readTargets | 0.028 | 0.000 | 0.028 | |
| statAbsseq | 1.342 | 0.104 | 1.446 | |
| statBayseq | 0.691 | 0.060 | 0.751 | |
| statDeseq | 1.024 | 0.024 | 1.047 | |
| statDeseq2 | 4.046 | 0.064 | 4.109 | |
| statDss | 0.732 | 0.008 | 0.741 | |
| statEdger | 0.533 | 0.008 | 0.540 | |
| statLimma | 0.255 | 0.000 | 0.255 | |
| statNbpseq | 1.088 | 0.000 | 1.088 | |
| statNoiseq | 7.377 | 0.168 | 7.545 | |