| Back to Multiple platform build/check report for BioC 3.17 |
|
This page was generated on 2023-04-12 10:55:27 -0400 (Wed, 12 Apr 2023).
| Hostname | OS | Arch (*) | R version | Installed pkgs |
|---|---|---|---|---|
| nebbiolo1 | Linux (Ubuntu 22.04.1 LTS) | x86_64 | 4.3.0 alpha (2023-04-03 r84154) | 4547 |
| nebbiolo2 | Linux (Ubuntu 20.04.5 LTS) | x86_64 | R Under development (unstable) (2023-02-14 r83833) -- "Unsuffered Consequences" | 4333 |
| Click on any hostname to see more info about the system (e.g. compilers) (*) as reported by 'uname -p', except on Windows and Mac OS X | ||||
|
To the developers/maintainers of the metabolomicsWorkbenchR package: - Allow up to 24 hours (and sometimes 48 hours) for your latest push to git@git.bioconductor.org:packages/metabolomicsWorkbenchR.git to reflect on this report. See Troubleshooting Build Report for more information. - Use the following Renviron settings to reproduce errors and warnings. Note: If "R CMD check" recently failed on the Linux builder over a missing dependency, add the missing dependency to "Suggests" in your DESCRIPTION file. See the Renviron.bioc for details. |
| Package 1159/2207 | Hostname | OS / Arch | INSTALL | BUILD | CHECK | BUILD BIN | ||||||||
| metabolomicsWorkbenchR 1.9.0 (landing page) Gavin Rhys Lloyd
| nebbiolo1 | Linux (Ubuntu 22.04.1 LTS) / x86_64 | OK | OK | OK | |||||||||
| nebbiolo2 | Linux (Ubuntu 20.04.5 LTS) / x86_64 | OK | OK | OK | ||||||||||
| Package: metabolomicsWorkbenchR |
| Version: 1.9.0 |
| Command: /home/biocbuild/bbs-3.17-bioc/R/bin/R CMD check --install=check:metabolomicsWorkbenchR.install-out.txt --library=/home/biocbuild/bbs-3.17-bioc/R/site-library --timings metabolomicsWorkbenchR_1.9.0.tar.gz |
| StartedAt: 2023-04-11 21:24:46 -0400 (Tue, 11 Apr 2023) |
| EndedAt: 2023-04-11 21:29:08 -0400 (Tue, 11 Apr 2023) |
| EllapsedTime: 261.8 seconds |
| RetCode: 0 |
| Status: OK |
| CheckDir: metabolomicsWorkbenchR.Rcheck |
| Warnings: 0 |
##############################################################################
##############################################################################
###
### Running command:
###
### /home/biocbuild/bbs-3.17-bioc/R/bin/R CMD check --install=check:metabolomicsWorkbenchR.install-out.txt --library=/home/biocbuild/bbs-3.17-bioc/R/site-library --timings metabolomicsWorkbenchR_1.9.0.tar.gz
###
##############################################################################
##############################################################################
* using log directory ‘/home/biocbuild/bbs-3.17-bioc/meat/metabolomicsWorkbenchR.Rcheck’
* using R version 4.3.0 alpha (2023-04-03 r84154)
* using platform: x86_64-pc-linux-gnu (64-bit)
* R was compiled by
gcc (Ubuntu 11.3.0-1ubuntu1~22.04) 11.3.0
GNU Fortran (Ubuntu 11.3.0-1ubuntu1~22.04) 11.3.0
* running under: Ubuntu 22.04.2 LTS
* using session charset: UTF-8
* checking for file ‘metabolomicsWorkbenchR/DESCRIPTION’ ... OK
* checking extension type ... Package
* this is package ‘metabolomicsWorkbenchR’ version ‘1.9.0’
* package encoding: UTF-8
* checking package namespace information ... OK
* checking package dependencies ... OK
* checking if this is a source package ... OK
* checking if there is a namespace ... OK
* checking for hidden files and directories ... OK
* checking for portable file names ... OK
* checking for sufficient/correct file permissions ... OK
* checking whether package ‘metabolomicsWorkbenchR’ can be installed ... OK
* checking installed package size ... OK
* checking package directory ... OK
* checking ‘build’ directory ... OK
* checking DESCRIPTION meta-information ... OK
* checking top-level files ... OK
* checking for left-over files ... OK
* checking index information ... OK
* checking package subdirectories ... OK
* checking R files for non-ASCII characters ... OK
* checking R files for syntax errors ... OK
* checking whether the package can be loaded ... OK
* checking whether the package can be loaded with stated dependencies ... OK
* checking whether the package can be unloaded cleanly ... OK
* checking whether the namespace can be loaded with stated dependencies ... OK
* checking whether the namespace can be unloaded cleanly ... OK
* checking loading without being on the library search path ... OK
* checking dependencies in R code ... OK
* checking S3 generic/method consistency ... OK
* checking replacement functions ... OK
* checking foreign function calls ... OK
* checking R code for possible problems ... OK
* checking Rd files ... OK
* checking Rd metadata ... OK
* checking Rd cross-references ... OK
* checking for missing documentation entries ... OK
* checking for code/documentation mismatches ... OK
* checking Rd \usage sections ... OK
* checking Rd contents ... OK
* checking for unstated dependencies in examples ... OK
* checking R/sysdata.rda ... OK
* checking files in ‘vignettes’ ... OK
* checking examples ... OK
* checking for unstated dependencies in ‘tests’ ... OK
* checking tests ...
Running ‘testthat.R’
OK
* checking for unstated dependencies in vignettes ... OK
* checking package vignettes in ‘inst/doc’ ... OK
* checking running R code from vignettes ...
‘Introduction_to_metabolomicsWorkbenchR.Rmd’ using ‘UTF-8’... OK
‘example_using_structToolbox.Rmd’ using ‘UTF-8’... OK
NONE
* checking re-building of vignette outputs ... OK
* checking PDF version of manual ... OK
* DONE
Status: OK
metabolomicsWorkbenchR.Rcheck/00install.out
############################################################################## ############################################################################## ### ### Running command: ### ### /home/biocbuild/bbs-3.17-bioc/R/bin/R CMD INSTALL metabolomicsWorkbenchR ### ############################################################################## ############################################################################## * installing to library ‘/home/biocbuild/bbs-3.17-bioc/R/site-library’ * installing *source* package ‘metabolomicsWorkbenchR’ ... ** using staged installation ** R ** byte-compile and prepare package for lazy loading ** help *** installing help indices ** building package indices ** installing vignettes ** testing if installed package can be loaded from temporary location ** testing if installed package can be loaded from final location ** testing if installed package keeps a record of temporary installation path * DONE (metabolomicsWorkbenchR)
metabolomicsWorkbenchR.Rcheck/tests/testthat.Rout
R version 4.3.0 alpha (2023-04-03 r84154)
Copyright (C) 2023 The R Foundation for Statistical Computing
Platform: x86_64-pc-linux-gnu (64-bit)
R is free software and comes with ABSOLUTELY NO WARRANTY.
You are welcome to redistribute it under certain conditions.
Type 'license()' or 'licence()' for distribution details.
R is a collaborative project with many contributors.
Type 'contributors()' for more information and
'citation()' on how to cite R or R packages in publications.
Type 'demo()' for some demos, 'help()' for on-line help, or
'help.start()' for an HTML browser interface to help.
Type 'q()' to quit R.
> library(testthat)
> library(metabolomicsWorkbenchR)
>
> test_check("metabolomicsWorkbenchR")
[1] "https://www.metabolomicsworkbench.org/rest/study/study_id/ST000001/summary"
[1] "TEST mode"
[1] "https://www.metabolomicsworkbench.org/rest/moverz/MB/635.52/M+H/0.5"
[1] "TEST mode"
[1] "https://www.metabolomicsworkbench.org/rest/exactmass/PC(34:1)/M+H"
[1] "TEST mode"
[1] "https://www.metabolomicsworkbench.org/rest/study/study_id/ST000001/data"
[1] "TEST mode"
[1] "https://www.metabolomicsworkbench.org/rest/study/study_id/ST000001/summary"
[1] "TEST mode"
[1] "https://www.metabolomicsworkbench.org/rest/study/study_id/ST000001/factors"
[1] "TEST mode"
[1] "https://www.metabolomicsworkbench.org/rest/study/analysis_id/AN000023/datatable"
[1] "TEST mode"
[1] "https://www.metabolomicsworkbench.org/rest/study/analysis_id/AN000023/datatable"
[1] "TEST mode"
[1] "https://www.metabolomicsworkbench.org/rest/study/study_id/ST000001/data"
[1] "TEST mode"
[1] "https://www.metabolomicsworkbench.org/rest/study/study_id/ST000001/summary"
[1] "TEST mode"
[1] "https://www.metabolomicsworkbench.org/rest/study/study_id/ST000001/factors"
[1] "TEST mode"
[1] "https://www.metabolomicsworkbench.org/rest/study/study_id/ST000001/summary"
[1] "TEST mode"
[1] "https://www.metabolomicsworkbench.org/rest/study/analysis_id/AN000023/datatable"
[1] "TEST mode"
[1] "https://www.metabolomicsworkbench.org/rest/study/analysis_id/AN000023/untarg_data"
[1] "TEST mode"
[1] "https://www.metabolomicsworkbench.org/rest/study/analysis_id/AN000023/untarg_factors"
[1] "TEST mode"
[1] "https://www.metabolomicsworkbench.org/rest/study/study_id/ST000001/data"
[1] "TEST mode"
[1] "https://www.metabolomicsworkbench.org/rest/study/study_id/ST000001/summary"
[1] "TEST mode"
[1] "https://www.metabolomicsworkbench.org/rest/study/study_id/ST000001/factors"
[1] "TEST mode"
A Metabolomics Workbench "input_item"
Name: "study_id"
Exact pattern matching:
"^ST[0-9]{6}$"
Partial pattern matching:
"^S(T[0-9]{0,6})?$"
Examples:
"ST000001"
"ST"
[ FAIL 0 | WARN 0 | SKIP 0 | PASS 119 ]
>
> proc.time()
user system elapsed
15.533 0.998 16.518
metabolomicsWorkbenchR.Rcheck/metabolomicsWorkbenchR-Ex.timings
| name | user | system | elapsed | |
| check_pattern | 0.001 | 0.000 | 0.001 | |
| check_puts | 0.004 | 0.000 | 0.003 | |
| context | 0.001 | 0.000 | 0.000 | |
| context_inputs | 0.001 | 0.000 | 0.001 | |
| context_outputs | 0.001 | 0.000 | 0.000 | |
| do_query | 0.001 | 0.000 | 0.000 | |
| input_example | 0.001 | 0.000 | 0.001 | |
| input_item | 0.001 | 0.000 | 0.000 | |
| is_valid | 0 | 0 | 0 | |
| mw_base | 0.000 | 0.001 | 0.000 | |
| output_item | 0.000 | 0.001 | 0.000 | |