| Back to Multiple platform build/check report for BioC 3.17 |
|
This page was generated on 2023-04-12 10:55:38 -0400 (Wed, 12 Apr 2023).
| Hostname | OS | Arch (*) | R version | Installed pkgs |
|---|---|---|---|---|
| nebbiolo1 | Linux (Ubuntu 22.04.1 LTS) | x86_64 | 4.3.0 alpha (2023-04-03 r84154) | 4547 |
| nebbiolo2 | Linux (Ubuntu 20.04.5 LTS) | x86_64 | R Under development (unstable) (2023-02-14 r83833) -- "Unsuffered Consequences" | 4333 |
| Click on any hostname to see more info about the system (e.g. compilers) (*) as reported by 'uname -p', except on Windows and Mac OS X | ||||
|
To the developers/maintainers of the metabinR package: - Allow up to 24 hours (and sometimes 48 hours) for your latest push to git@git.bioconductor.org:packages/metabinR.git to reflect on this report. See Troubleshooting Build Report for more information. - Use the following Renviron settings to reproduce errors and warnings. Note: If "R CMD check" recently failed on the Linux builder over a missing dependency, add the missing dependency to "Suggests" in your DESCRIPTION file. See the Renviron.bioc for details. |
| Package 1156/2207 | Hostname | OS / Arch | INSTALL | BUILD | CHECK | BUILD BIN | ||||||||
| metabinR 1.1.2 (landing page) Anestis Gkanogiannis
| nebbiolo1 | Linux (Ubuntu 22.04.1 LTS) / x86_64 | OK | OK | OK | |||||||||
| nebbiolo2 | Linux (Ubuntu 20.04.5 LTS) / x86_64 | OK | OK | OK | ||||||||||
| Package: metabinR |
| Version: 1.1.2 |
| Command: /home/biocbuild/bbs-3.17-bioc/R/bin/R CMD check --install=check:metabinR.install-out.txt --library=/home/biocbuild/bbs-3.17-bioc/R/site-library --timings metabinR_1.1.2.tar.gz |
| StartedAt: 2023-04-12 07:18:25 -0400 (Wed, 12 Apr 2023) |
| EndedAt: 2023-04-12 07:20:33 -0400 (Wed, 12 Apr 2023) |
| EllapsedTime: 128.3 seconds |
| RetCode: 0 |
| Status: OK |
| CheckDir: metabinR.Rcheck |
| Warnings: 0 |
##############################################################################
##############################################################################
###
### Running command:
###
### /home/biocbuild/bbs-3.17-bioc/R/bin/R CMD check --install=check:metabinR.install-out.txt --library=/home/biocbuild/bbs-3.17-bioc/R/site-library --timings metabinR_1.1.2.tar.gz
###
##############################################################################
##############################################################################
* using log directory ‘/home/biocbuild/bbs-3.17-bioc/meat/metabinR.Rcheck’
* using R Under development (unstable) (2023-02-14 r83833)
* using platform: x86_64-pc-linux-gnu (64-bit)
* R was compiled by
gcc (Ubuntu 9.4.0-1ubuntu1~20.04.1) 9.4.0
GNU Fortran (Ubuntu 9.4.0-1ubuntu1~20.04.1) 9.4.0
* running under: Ubuntu 20.04.6 LTS
* using session charset: UTF-8
* checking for file ‘metabinR/DESCRIPTION’ ... OK
* checking extension type ... Package
* this is package ‘metabinR’ version ‘1.1.2’
* package encoding: UTF-8
* checking package namespace information ... OK
* checking package dependencies ... OK
* checking if this is a source package ... OK
* checking if there is a namespace ... OK
* checking for hidden files and directories ... OK
* checking for portable file names ... OK
* checking for sufficient/correct file permissions ... OK
* checking whether package ‘metabinR’ can be installed ... OK
* checking installed package size ... OK
* checking package directory ... OK
* checking ‘build’ directory ... OK
* checking DESCRIPTION meta-information ... OK
* checking top-level files ... OK
* checking for left-over files ... OK
* checking index information ... OK
* checking package subdirectories ... OK
* checking R files for non-ASCII characters ... OK
* checking R files for syntax errors ... OK
* checking whether the package can be loaded ... OK
* checking whether the package can be loaded with stated dependencies ... OK
* checking whether the package can be unloaded cleanly ... OK
* checking whether the namespace can be loaded with stated dependencies ... OK
* checking whether the namespace can be unloaded cleanly ... OK
* checking loading without being on the library search path ... OK
* checking dependencies in R code ... OK
* checking S3 generic/method consistency ... OK
* checking replacement functions ... OK
* checking foreign function calls ... OK
* checking R code for possible problems ... OK
* checking Rd files ... OK
* checking Rd metadata ... OK
* checking Rd cross-references ... OK
* checking for missing documentation entries ... OK
* checking for code/documentation mismatches ... OK
* checking Rd \usage sections ... OK
* checking Rd contents ... OK
* checking for unstated dependencies in examples ... OK
* checking files in ‘vignettes’ ... OK
* checking examples ... OK
Examples with CPU (user + system) or elapsed time > 5s
user system elapsed
abundance_based_binning 15.585 1.140 10.561
hierarchical_binning 5.851 0.229 3.452
composition_based_binning 4.939 0.388 2.166
* checking for unstated dependencies in ‘tests’ ... OK
* checking tests ...
Running ‘spelling.R’
Running ‘testthat.R’
OK
* checking for unstated dependencies in vignettes ... OK
* checking package vignettes in ‘inst/doc’ ... OK
* checking running R code from vignettes ...
‘metabinR_vignette.Rmd’ using ‘UTF-8’... OK
NONE
* checking re-building of vignette outputs ... OK
* checking PDF version of manual ... OK
* DONE
Status: OK
metabinR.Rcheck/00install.out
############################################################################## ############################################################################## ### ### Running command: ### ### /home/biocbuild/bbs-3.17-bioc/R/bin/R CMD INSTALL metabinR ### ############################################################################## ############################################################################## * installing to library ‘/home/biocbuild/bbs-3.17-bioc/R/site-library’ * installing *source* package ‘metabinR’ ... ** using staged installation ** R ** inst ** byte-compile and prepare package for lazy loading ** help *** installing help indices ** building package indices ** installing vignettes ** testing if installed package can be loaded from temporary location ** testing if installed package can be loaded from final location ** testing if installed package keeps a record of temporary installation path * DONE (metabinR)
metabinR.Rcheck/tests/spelling.Rout
R Under development (unstable) (2023-02-14 r83833) -- "Unsuffered Consequences"
Copyright (C) 2023 The R Foundation for Statistical Computing
Platform: x86_64-pc-linux-gnu (64-bit)
R is free software and comes with ABSOLUTELY NO WARRANTY.
You are welcome to redistribute it under certain conditions.
Type 'license()' or 'licence()' for distribution details.
R is a collaborative project with many contributors.
Type 'contributors()' for more information and
'citation()' on how to cite R or R packages in publications.
Type 'demo()' for some demos, 'help()' for on-line help, or
'help.start()' for an HTML browser interface to help.
Type 'q()' to quit R.
> if(requireNamespace('spelling', quietly = TRUE))
+ spelling::spell_check_test(vignettes = TRUE, error = FALSE,
+ skip_on_cran = TRUE)
NULL
>
> proc.time()
user system elapsed
0.267 0.030 0.281
metabinR.Rcheck/tests/testthat.Rout
R Under development (unstable) (2023-02-14 r83833) -- "Unsuffered Consequences"
Copyright (C) 2023 The R Foundation for Statistical Computing
Platform: x86_64-pc-linux-gnu (64-bit)
R is free software and comes with ABSOLUTELY NO WARRANTY.
You are welcome to redistribute it under certain conditions.
Type 'license()' or 'licence()' for distribution details.
R is a collaborative project with many contributors.
Type 'contributors()' for more information and
'citation()' on how to cite R or R packages in publications.
Type 'demo()' for some demos, 'help()' for on-line help, or
'help.start()' for an HTML browser interface to help.
Type 'q()' to quit R.
> library(testthat)
> library(metabinR)
>
> test_check("metabinR")
version MTxAB =Wed Apr 12 01:34:26 EDT 2023
cpus=72
using=1
2023/04/12 07:19:11 Using Dictionary ORIGINAL
2023/04/12 07:19:11 START of AB Counting
2023/04/12 07:19:11 FastaManager: START READ
2023/04/12 07:19:11 SequenceProcessor: 0 AB_KMERCOUNT START
CHUNK_SIZE=67108864
2023/04/12 07:19:11 FastaManager: lines read 53328
2023/04/12 07:19:11 FastaManager: END READ
2023/04/12 07:19:11 FastaManager: FASTA
2023/04/12 07:19:14 SequenceProcessor: 0 AB_KMERCOUNT EXIT
2023/04/12 07:19:14 END of AB Counting
2023/04/12 07:19:14 Loaded sequences: 26664
2023/04/12 07:19:14 Total kmers(before remove): 65536
##### Heap utilization statistics [GB] #####
Max Memory=0.5
Current Total Memory=0.5
Current Used Memory=0.239
Current Free Memory=0.261
############################################
2023/04/12 07:19:14
Unique: 0
Distinct: 65536
Total: 7625904
MaxCount: 1574
2023/04/12 07:19:14 START of EMsync
Run=1
Run=2
Run=3
Run=4
Run=5
Run=6
Run=7
Run=8
Run=9
Run=10
Run=11
Run=12
Run=13
Run=14
Run=15
Run=16
Run=17
Run=18
Run=19
Run=20
Run=21
Run=22
Run=23
Run=24
Run=25
2023/04/12 07:19:14 Runs=25
2023/04/12 07:19:14 END of EMsync
2023/04/12 07:19:14 START of Creating AB Cluster Vectors
Cluster 1 Abundance=241.01134335779187 Length=16168.173737759438 LowLimit=163 HighLimit=318
Cluster 2 Abundance=75.53888858729701 Length=49367.826262240575 LowLimit=32 HighLimit=118
2023/04/12 07:19:14 Trove size/4=18022
2023/04/12 07:19:14 Trove size/4=18022
2023/04/12 07:19:14 Cluster 1 size in kmers=65536 norm=126.5058948513796
2023/04/12 07:19:14 Cluster 2 size in kmers=65536 norm=221.81983091435748
2023/04/12 07:19:14 END of Creating AB Cluster Vectors
cpus=72
using=1
2023/04/12 07:19:14 START of AB Binning
2023/04/12 07:19:14 FastaManager: START READ
2023/04/12 07:19:14 SequenceProcessor: 0 AB_BINNING START
2023/04/12 07:19:14 FastaManager: lines read 53328
2023/04/12 07:19:14 FastaManager: END READ
2023/04/12 07:19:14 FastaManager: FASTA
2023/04/12 07:19:17 SequenceProcessor: 0 AB_BINNING EXIT
2023/04/12 07:19:17 END of AB Binning
Clustered reads:
AB Cluster 1: 19871
AB Cluster 2: 6793
##### Heap utilization statistics [GB] #####
Max Memory=0.5
Current Total Memory=0.5
Current Used Memory=0.216
Current Free Memory=0.284
############################################
version MTxCB =Wed Apr 12 01:34:26 EDT 2023
cpus=72
using=1
2023/04/12 07:19:18 START of CB Counting
2023/04/12 07:19:18 FastaManager: START READ
2023/04/12 07:19:18 SequenceProcessor: 0 CB_SEQUENCEVECTORBUILD START
2023/04/12 07:19:18 FastaManager: lines read 53328
2023/04/12 07:19:18 FastaManager: END READ
2023/04/12 07:19:18 FastaManager: FASTA
2023/04/12 07:19:19 SequenceProcessor: 0 CB_SEQUENCEVECTORBUILD EXIT
2023/04/12 07:19:19 END of CB Counting
2023/04/12 07:19:19 Loaded sequences: 26664
##### Heap utilization statistics [GB] #####
Max Memory=0.5
Current Total Memory=0.5
Current Used Memory=0.4
Current Free Memory=0.1
############################################
cpus=72
using=1
2023/04/12 07:19:19 START of Creating CB Clusters Size=26664
K-Means clustering started
... centers initialized
... concurrent processing mode with 1 subtask threads
... iteration 1 moves = 6514
... iteration 2 moves = 3035
... iteration 3 moves = 1553
... iteration 4 moves = 851
... iteration 5 moves = 386
... iteration 6 moves = 175
... iteration 7 moves = 118
... iteration 8 moves = 94
... iteration 9 moves = 57
... iteration 10 moves = 52
... iteration 11 moves = 58
... iteration 12 moves = 52
... iteration 13 moves = 83
... iteration 14 moves = 55
... iteration 15 moves = 42
... iteration 16 moves = 48
... iteration 17 moves = 87
... iteration 18 moves = 76
... iteration 19 moves = 76
... iteration 20 moves = 81
... iteration 21 moves = 67
... iteration 22 moves = 62
... iteration 23 moves = 42
... iteration 24 moves = 36
... iteration 25 moves = 9
...end. 8.299 seconds.
2023/04/12 07:19:27 : kMeans cleanup.
2023/04/12 07:19:27 END of Creating CB Clusters.
cpus=72
using=1
2023/04/12 07:19:27 START of CB Binning
2023/04/12 07:19:27 FastaManager: START READ
2023/04/12 07:19:27 SequenceProcessor: 0 CB_BINNING START
2023/04/12 07:19:27 FastaManager: lines read 53328
2023/04/12 07:19:27 FastaManager: END READ
2023/04/12 07:19:27 FastaManager: FASTA
2023/04/12 07:19:27 SequenceProcessor: 0 CB_BINNING EXIT
Clustered reads:
CB Cluster 1: 9350
CB Cluster 2: 17314
##### Heap utilization statistics [GB] #####
Max Memory=0.5
Current Total Memory=0.5
Current Used Memory=0.317
Current Free Memory=0.183
############################################
version MTxABxCB =Wed Apr 12 01:34:26 EDT 2023
cpus=72
using=1
2023/04/12 07:19:28 Using Dictionary ORIGINAL
2023/04/12 07:19:28 START of AB Counting
2023/04/12 07:19:28 FastaManager: START READ
2023/04/12 07:19:28 SequenceProcessor: 0 AB_KMERCOUNT START
2023/04/12 07:19:28 FastaManager: lines read 53328
2023/04/12 07:19:28 FastaManager: END READ
2023/04/12 07:19:28 FastaManager: FASTA
2023/04/12 07:19:31 SequenceProcessor: 0 AB_KMERCOUNT EXIT
2023/04/12 07:19:31 END of AB Counting
2023/04/12 07:19:31 Loaded sequences: 26664
2023/04/12 07:19:31 Distinct kmers(before remove): 65536
##### Heap utilization statistics [GB] #####
Max Memory=0.5
Current Total Memory=0.5
Current Used Memory=0.219
Current Free Memory=0.281
############################################
2023/04/12 07:19:31
Unique: 0
Distinct: 65536
Total: 7625904
MaxCount: 1574
2023/04/12 07:19:31 START of EMsync
Run=1
Run=2
Run=3
Run=4
Run=5
Run=6
Run=7
Run=8
Run=9
Run=10
Run=11
Run=12
Run=13
Run=14
Run=15
Run=16
Run=17
Run=18
Run=19
Run=20
Run=21
Run=22
Run=23
Run=24
Run=25
2023/04/12 07:19:31 Runs=25
2023/04/12 07:19:31 END of EMsync
2023/04/12 07:19:31 Filter before=2
2023/04/12 07:19:31 Filter after=2
2023/04/12 07:19:31 START of Creating AB Cluster Vectors
Cluster 1 Abundance=241.01134335779187 Length=16168.173737759438 LowLimit=163 HighLimit=318
Cluster 2 Abundance=75.53888858729701 Length=49367.826262240575 LowLimit=32 HighLimit=118
2023/04/12 07:19:31 Trove size/4=18022
2023/04/12 07:19:31 Trove size/4=18022
2023/04/12 07:19:31 Cluster 1 size in kmers=65536 norm=126.5058948513796
2023/04/12 07:19:31 Cluster 2 size in kmers=65536 norm=221.81983091435748
2023/04/12 07:19:31 END of Creating AB Cluster Vectors
cpus=72
using=1
2023/04/12 07:19:31 START of AB Binning
2023/04/12 07:19:31 FastaManager: START READ
2023/04/12 07:19:31 SequenceProcessor: 0 AB_BINNING START
2023/04/12 07:19:31 FastaManager: lines read 53328
2023/04/12 07:19:31 FastaManager: END READ
2023/04/12 07:19:31 FastaManager: FASTA
2023/04/12 07:19:34 SequenceProcessor: 0 AB_BINNING EXIT
2023/04/12 07:19:34 END of AB Binning
cpus=72
using=1
2023/04/12 07:19:34 START of CB Counting
2023/04/12 07:19:34 FastaManager: START READ
2023/04/12 07:19:34 SequenceProcessor: 0 CB_SEQUENCEVECTORBUILD START
2023/04/12 07:19:34 FastaManager: lines read 53328
2023/04/12 07:19:34 FastaManager: END READ
2023/04/12 07:19:34 FastaManager: FASTA
2023/04/12 07:19:35 SequenceProcessor: 0 CB_SEQUENCEVECTORBUILD EXIT
2023/04/12 07:19:35 END of CB Counting
2023/04/12 07:19:35 Loaded sequences: 26664
##### Heap utilization statistics [GB] #####
Max Memory=0.5
Current Total Memory=0.5
Current Used Memory=0.262
Current Free Memory=0.238
############################################
2023/04/12 07:19:35 AB Cluster=1 Size=19871
2023/04/12 07:19:35 AB Cluster=2 Size=6793
cpus=72
using=1
ABid size abundance EMLength newLength EMspecies newspecies
----- ---- --------- -------- --------- --------- ----------
1 19,871 241.01134 16,168 12,367 1 1
2023/04/12 07:19:35 START of Creating CB Clusters for AB Cluster=1 Size=19871
K-Means clustering started
... centers initialized
... concurrent processing mode with 1 subtask threads
... iteration 1 moves = 0
...end. 2.811 seconds.
2023/04/12 07:19:38 : kMeans cleanup.
2023/04/12 07:19:38 END of Creating CB Clusters for AB Cluster=1
cpus=72
using=1
ABid size abundance EMLength newLength EMspecies newspecies
----- ---- --------- -------- --------- --------- ----------
2 6,793 75.53889 49,367 13,489 1 1
2023/04/12 07:19:38 START of Creating CB Clusters for AB Cluster=2 Size=6793
K-Means clustering started
... centers initialized
... concurrent processing mode with 1 subtask threads
... iteration 1 moves = 0
...end. 1.127 seconds.
2023/04/12 07:19:39 : kMeans cleanup.
2023/04/12 07:19:39 END of Creating CB Clusters for AB Cluster=2
##### Heap utilization statistics [GB] #####
Max Memory=0.5
Current Total Memory=0.5
Current Used Memory=0.275
Current Free Memory=0.225
############################################
cpus=72
using=1
2023/04/12 07:19:39 START of CB Binning
2023/04/12 07:19:39 FastaManager: START READ
2023/04/12 07:19:39 SequenceProcessor: 0 CB_BINNING START
2023/04/12 07:19:40 FastaManager: lines read 53328
2023/04/12 07:19:40 FastaManager: END READ
2023/04/12 07:19:40 FastaManager: FASTA
2023/04/12 07:19:40 SequenceProcessor: 0 CB_BINNING EXIT
Clustered reads:
ABxCB Cluster 1: 19871
ABxCB Cluster 2: 6793
##### Heap utilization statistics [GB] #####
Max Memory=0.5
Current Total Memory=0.5
Current Used Memory=0.439
Current Free Memory=0.061
############################################
[ FAIL 0 | WARN 0 | SKIP 0 | PASS 52 ]
>
> proc.time()
user system elapsed
42.773 1.600 30.423
metabinR.Rcheck/metabinR-Ex.timings
| name | user | system | elapsed | |
| abundance_based_binning | 15.585 | 1.140 | 10.561 | |
| composition_based_binning | 4.939 | 0.388 | 2.166 | |
| hierarchical_binning | 5.851 | 0.229 | 3.452 | |