| Back to Multiple platform build/check report for BioC 3.17 | 
 | 
This page was generated on 2023-04-12 10:55:38 -0400 (Wed, 12 Apr 2023).
| Hostname | OS | Arch (*) | R version | Installed pkgs | 
|---|---|---|---|---|
| nebbiolo1 | Linux (Ubuntu 22.04.1 LTS) | x86_64 | 4.3.0 alpha (2023-04-03 r84154) | 4547 | 
| nebbiolo2 | Linux (Ubuntu 20.04.5 LTS) | x86_64 | R Under development (unstable) (2023-02-14 r83833) -- "Unsuffered Consequences" | 4333 | 
| Click on any hostname to see more info about the system (e.g. compilers) (*) as reported by 'uname -p', except on Windows and Mac OS X | ||||
| To the developers/maintainers of the metabCombiner package: - Allow up to 24 hours (and sometimes 48 hours) for your latest push to git@git.bioconductor.org:packages/metabCombiner.git to reflect on this report. See Troubleshooting Build Report for more information. - Use the following Renviron settings to reproduce errors and warnings. Note: If "R CMD check" recently failed on the Linux builder over a missing dependency, add the missing dependency to "Suggests" in your DESCRIPTION file. See the Renviron.bioc for details. | 
| Package 1155/2207 | Hostname | OS / Arch | INSTALL | BUILD | CHECK | BUILD BIN | ||||||||
| metabCombiner 1.9.0  (landing page) Hani Habra 
 | nebbiolo1 | Linux (Ubuntu 22.04.1 LTS) / x86_64 | OK | OK | OK | |||||||||
| nebbiolo2 | Linux (Ubuntu 20.04.5 LTS) / x86_64 | OK | OK | OK | ||||||||||
| Package: metabCombiner | 
| Version: 1.9.0 | 
| Command: /home/biocbuild/bbs-3.17-bioc/R/bin/R CMD check --install=check:metabCombiner.install-out.txt --library=/home/biocbuild/bbs-3.17-bioc/R/site-library --timings metabCombiner_1.9.0.tar.gz | 
| StartedAt: 2023-04-12 07:18:20 -0400 (Wed, 12 Apr 2023) | 
| EndedAt: 2023-04-12 07:21:11 -0400 (Wed, 12 Apr 2023) | 
| EllapsedTime: 171.5 seconds | 
| RetCode: 0 | 
| Status: OK | 
| CheckDir: metabCombiner.Rcheck | 
| Warnings: 0 | 
##############################################################################
##############################################################################
###
### Running command:
###
###   /home/biocbuild/bbs-3.17-bioc/R/bin/R CMD check --install=check:metabCombiner.install-out.txt --library=/home/biocbuild/bbs-3.17-bioc/R/site-library --timings metabCombiner_1.9.0.tar.gz
###
##############################################################################
##############################################################################
* using log directory ‘/home/biocbuild/bbs-3.17-bioc/meat/metabCombiner.Rcheck’
* using R Under development (unstable) (2023-02-14 r83833)
* using platform: x86_64-pc-linux-gnu (64-bit)
* R was compiled by
    gcc (Ubuntu 9.4.0-1ubuntu1~20.04.1) 9.4.0
    GNU Fortran (Ubuntu 9.4.0-1ubuntu1~20.04.1) 9.4.0
* running under: Ubuntu 20.04.6 LTS
* using session charset: UTF-8
* checking for file ‘metabCombiner/DESCRIPTION’ ... OK
* this is package ‘metabCombiner’ version ‘1.9.0’
* package encoding: UTF-8
* checking package namespace information ... OK
* checking package dependencies ... OK
* checking if this is a source package ... OK
* checking if there is a namespace ... OK
* checking for hidden files and directories ... OK
* checking for portable file names ... OK
* checking for sufficient/correct file permissions ... OK
* checking whether package ‘metabCombiner’ can be installed ... OK
* used C compiler: ‘gcc (Ubuntu 9.4.0-1ubuntu1~20.04.1) 9.4.0’
* checking installed package size ... OK
* checking package directory ... OK
* checking ‘build’ directory ... OK
* checking DESCRIPTION meta-information ... OK
* checking top-level files ... OK
* checking for left-over files ... OK
* checking index information ... OK
* checking package subdirectories ... OK
* checking R files for non-ASCII characters ... OK
* checking R files for syntax errors ... OK
* checking whether the package can be loaded ... OK
* checking whether the package can be loaded with stated dependencies ... OK
* checking whether the package can be unloaded cleanly ... OK
* checking whether the namespace can be loaded with stated dependencies ... OK
* checking whether the namespace can be unloaded cleanly ... OK
* checking loading without being on the library search path ... OK
* checking dependencies in R code ... OK
* checking S3 generic/method consistency ... OK
* checking replacement functions ... OK
* checking foreign function calls ... OK
* checking R code for possible problems ... OK
* checking Rd files ... OK
* checking Rd metadata ... OK
* checking Rd cross-references ... OK
* checking for missing documentation entries ... OK
* checking for code/documentation mismatches ... OK
* checking Rd \usage sections ... OK
* checking Rd contents ... OK
* checking for unstated dependencies in examples ... OK
* checking contents of ‘data’ directory ... OK
* checking data for non-ASCII characters ... OK
* checking data for ASCII and uncompressed saves ... OK
* checking line endings in C/C++/Fortran sources/headers ... OK
* checking compiled code ... NOTE
Note: information on .o files is not available
* checking files in ‘vignettes’ ... OK
* checking examples ... OK
* checking for unstated dependencies in ‘tests’ ... OK
* checking tests ...
  Running ‘testthat.R’
 OK
* checking for unstated dependencies in vignettes ... OK
* checking package vignettes in ‘inst/doc’ ... OK
* checking running R code from vignettes ...
  ‘metabCombiner_vignette.Rmd’ using ‘UTF-8’... OK
 NONE
* checking re-building of vignette outputs ... OK
* checking PDF version of manual ... OK
* DONE
Status: 1 NOTE
See
  ‘/home/biocbuild/bbs-3.17-bioc/meat/metabCombiner.Rcheck/00check.log’
for details.
metabCombiner.Rcheck/00install.out
############################################################################## ############################################################################## ### ### Running command: ### ### /home/biocbuild/bbs-3.17-bioc/R/bin/R CMD INSTALL metabCombiner ### ############################################################################## ############################################################################## * installing to library ‘/home/biocbuild/bbs-3.17-bioc/R/site-library’ * installing *source* package ‘metabCombiner’ ... ** using staged installation ** libs using C compiler: ‘gcc (Ubuntu 9.4.0-1ubuntu1~20.04.1) 9.4.0’ gcc -I"/home/biocbuild/bbs-3.17-bioc/R/include" -DNDEBUG -I/usr/local/include -fpic -g -O2 -Wall -c binByMZ.c -o binByMZ.o gcc -I"/home/biocbuild/bbs-3.17-bioc/R/include" -DNDEBUG -I/usr/local/include -fpic -g -O2 -Wall -c findDuplicates.c -o findDuplicates.o gcc -I"/home/biocbuild/bbs-3.17-bioc/R/include" -DNDEBUG -I/usr/local/include -fpic -g -O2 -Wall -c labelRows.c -o labelRows.o gcc -I"/home/biocbuild/bbs-3.17-bioc/R/include" -DNDEBUG -I/usr/local/include -fpic -g -O2 -Wall -c metabCombiner_init.c -o metabCombiner_init.o gcc -I"/home/biocbuild/bbs-3.17-bioc/R/include" -DNDEBUG -I/usr/local/include -fpic -g -O2 -Wall -c resolveRows.c -o resolveRows.o gcc -I"/home/biocbuild/bbs-3.17-bioc/R/include" -DNDEBUG -I/usr/local/include -fpic -g -O2 -Wall -c selectAnchors.c -o selectAnchors.o gcc -I"/home/biocbuild/bbs-3.17-bioc/R/include" -DNDEBUG -I/usr/local/include -fpic -g -O2 -Wall -c write2file.c -o write2file.o gcc -shared -L/home/biocbuild/bbs-3.17-bioc/R/lib -L/usr/local/lib -o metabCombiner.so binByMZ.o findDuplicates.o labelRows.o metabCombiner_init.o resolveRows.o selectAnchors.o write2file.o -L/home/biocbuild/bbs-3.17-bioc/R/lib -lR installing to /home/biocbuild/bbs-3.17-bioc/R/site-library/00LOCK-metabCombiner/00new/metabCombiner/libs ** R ** data ** demo ** inst ** byte-compile and prepare package for lazy loading ** help *** installing help indices ** building package indices ** installing vignettes ** testing if installed package can be loaded from temporary location ** checking absolute paths in shared objects and dynamic libraries ** testing if installed package can be loaded from final location ** testing if installed package keeps a record of temporary installation path * DONE (metabCombiner)
metabCombiner.Rcheck/tests/testthat.Rout
R Under development (unstable) (2023-02-14 r83833) -- "Unsuffered Consequences"
Copyright (C) 2023 The R Foundation for Statistical Computing
Platform: x86_64-pc-linux-gnu (64-bit)
R is free software and comes with ABSOLUTELY NO WARRANTY.
You are welcome to redistribute it under certain conditions.
Type 'license()' or 'licence()' for distribution details.
R is a collaborative project with many contributors.
Type 'contributors()' for more information and
'citation()' on how to cite R or R packages in publications.
Type 'demo()' for some demos, 'help()' for on-line help, or
'help.start()' for an HTML browser interface to help.
Type 'q()' to quit R.
> library(testthat)
> library(metabCombiner)
Loading required package: dplyr
Attaching package: 'dplyr'
The following object is masked from 'package:testthat':
    matches
The following objects are masked from 'package:stats':
    filter, lag
The following objects are masked from 'package:base':
    intersect, setdiff, setequal, union
> 
> test_check("metabCombiner")
[ FAIL 0 | WARN 8 | SKIP 0 | PASS 33 ]
[ FAIL 0 | WARN 8 | SKIP 0 | PASS 33 ]
> 
> proc.time()
   user  system elapsed 
 14.892   0.792  15.678 
metabCombiner.Rcheck/metabCombiner-Ex.timings
| name | user | system | elapsed | |
| adductdata | 0.221 | 0.000 | 0.221 | |
| batchCombine | 0 | 0 | 0 | |
| calcScores | 1.495 | 0.092 | 1.588 | |
| calcScoresParam | 0.000 | 0.000 | 0.001 | |
| combinedTable | 0.177 | 0.000 | 0.176 | |
| datasets | 0.172 | 0.000 | 0.171 | |
| evaluateParams | 3.169 | 0.076 | 3.245 | |
| featdata | 0.185 | 0.000 | 0.185 | |
| filtered | 0.081 | 0.004 | 0.085 | |
| fit_gam | 2.645 | 0.015 | 2.662 | |
| fit_loess | 1.482 | 0.013 | 1.494 | |
| fitgamParam | 0 | 0 | 0 | |
| fitloessParam | 0.001 | 0.000 | 0.000 | |
| getAnchors | 0.514 | 0.000 | 0.514 | |
| getCoefficients | 1.314 | 0.072 | 1.387 | |
| getData | 0.082 | 0.000 | 0.082 | |
| getExtra | 0.105 | 0.000 | 0.104 | |
| getModel | 0.614 | 0.000 | 0.614 | |
| getSamples | 0.388 | 0.004 | 0.392 | |
| getStats | 1.317 | 0.031 | 1.349 | |
| iddata | 0.168 | 0.001 | 0.168 | |
| labelRows | 1.701 | 0.028 | 1.729 | |
| labelRowsParam | 0.001 | 0.000 | 0.001 | |
| metabCombine | 0 | 0 | 0 | |
| metabCombiner | 0.312 | 0.000 | 0.312 | |
| metabData | 0.183 | 0.000 | 0.183 | |
| nonmatched | 0.175 | 0.004 | 0.179 | |
| plot_fit | 0.576 | 0.004 | 0.581 | |
| rtdata | 0.172 | 0.000 | 0.172 | |
| selectAnchors | 0.684 | 0.000 | 0.684 | |
| selectAnchorsParam | 0.001 | 0.000 | 0.000 | |
| updateTables | 2.394 | 0.004 | 2.397 | |
| write2file | 1.565 | 0.008 | 1.573 | |