| Back to Multiple platform build/check report for BioC 3.17 |
|
This page was generated on 2023-04-12 10:55:26 -0400 (Wed, 12 Apr 2023).
| Hostname | OS | Arch (*) | R version | Installed pkgs |
|---|---|---|---|---|
| nebbiolo1 | Linux (Ubuntu 22.04.1 LTS) | x86_64 | 4.3.0 alpha (2023-04-03 r84154) | 4547 |
| nebbiolo2 | Linux (Ubuntu 20.04.5 LTS) | x86_64 | R Under development (unstable) (2023-02-14 r83833) -- "Unsuffered Consequences" | 4333 |
| Click on any hostname to see more info about the system (e.g. compilers) (*) as reported by 'uname -p', except on Windows and Mac OS X | ||||
|
To the developers/maintainers of the kebabs package: - Allow up to 24 hours (and sometimes 48 hours) for your latest push to git@git.bioconductor.org:packages/kebabs.git to reflect on this report. See Troubleshooting Build Report for more information. - Use the following Renviron settings to reproduce errors and warnings. Note: If "R CMD check" recently failed on the Linux builder over a missing dependency, add the missing dependency to "Suggests" in your DESCRIPTION file. See the Renviron.bioc for details. |
| Package 1037/2207 | Hostname | OS / Arch | INSTALL | BUILD | CHECK | BUILD BIN | ||||||||
| kebabs 1.33.1 (landing page) Ulrich Bodenhofer
| nebbiolo1 | Linux (Ubuntu 22.04.1 LTS) / x86_64 | OK | OK | OK | |||||||||
| nebbiolo2 | Linux (Ubuntu 20.04.5 LTS) / x86_64 | OK | OK | OK | ||||||||||
| Package: kebabs |
| Version: 1.33.1 |
| Command: /home/biocbuild/bbs-3.17-bioc/R/bin/R CMD check --install=check:kebabs.install-out.txt --library=/home/biocbuild/bbs-3.17-bioc/R/site-library --timings kebabs_1.33.1.tar.gz |
| StartedAt: 2023-04-11 21:09:44 -0400 (Tue, 11 Apr 2023) |
| EndedAt: 2023-04-11 21:17:49 -0400 (Tue, 11 Apr 2023) |
| EllapsedTime: 484.9 seconds |
| RetCode: 0 |
| Status: OK |
| CheckDir: kebabs.Rcheck |
| Warnings: 0 |
##############################################################################
##############################################################################
###
### Running command:
###
### /home/biocbuild/bbs-3.17-bioc/R/bin/R CMD check --install=check:kebabs.install-out.txt --library=/home/biocbuild/bbs-3.17-bioc/R/site-library --timings kebabs_1.33.1.tar.gz
###
##############################################################################
##############################################################################
* using log directory ‘/home/biocbuild/bbs-3.17-bioc/meat/kebabs.Rcheck’
* using R version 4.3.0 alpha (2023-04-03 r84154)
* using platform: x86_64-pc-linux-gnu (64-bit)
* R was compiled by
gcc (Ubuntu 11.3.0-1ubuntu1~22.04) 11.3.0
GNU Fortran (Ubuntu 11.3.0-1ubuntu1~22.04) 11.3.0
* running under: Ubuntu 22.04.2 LTS
* using session charset: UTF-8
* checking for file ‘kebabs/DESCRIPTION’ ... OK
* checking extension type ... Package
* this is package ‘kebabs’ version ‘1.33.1’
* checking package namespace information ... OK
* checking package dependencies ... OK
* checking if this is a source package ... OK
* checking if there is a namespace ... OK
* checking for hidden files and directories ... OK
* checking for portable file names ... OK
* checking for sufficient/correct file permissions ... OK
* checking whether package ‘kebabs’ can be installed ... OK
* used C compiler: ‘gcc (Ubuntu 11.3.0-1ubuntu1~22.04) 11.3.0’
* used C++ compiler: ‘g++ (Ubuntu 11.3.0-1ubuntu1~22.04) 11.3.0’
* checking installed package size ... NOTE
installed size is 6.7Mb
sub-directories of 1Mb or more:
R 1.3Mb
data 1.2Mb
libs 3.8Mb
* checking package directory ... OK
* checking ‘build’ directory ... OK
* checking DESCRIPTION meta-information ... OK
* checking top-level files ... OK
* checking for left-over files ... OK
* checking index information ... OK
* checking package subdirectories ... OK
* checking R files for non-ASCII characters ... OK
* checking R files for syntax errors ... OK
* checking whether the package can be loaded ... OK
* checking whether the package can be loaded with stated dependencies ... OK
* checking whether the package can be unloaded cleanly ... OK
* checking whether the namespace can be loaded with stated dependencies ... OK
* checking whether the namespace can be unloaded cleanly ... OK
* checking loading without being on the library search path ... OK
* checking startup messages can be suppressed ... OK
* checking dependencies in R code ... OK
* checking S3 generic/method consistency ... OK
* checking replacement functions ... OK
* checking foreign function calls ... OK
* checking R code for possible problems ... OK
* checking Rd files ... OK
* checking Rd metadata ... OK
* checking Rd cross-references ... OK
* checking for missing documentation entries ... OK
* checking for code/documentation mismatches ... OK
* checking Rd \usage sections ... OK
* checking Rd contents ... OK
* checking for unstated dependencies in examples ... OK
* checking contents of ‘data’ directory ... OK
* checking data for non-ASCII characters ... OK
* checking data for ASCII and uncompressed saves ... OK
* checking line endings in C/C++/Fortran sources/headers ... OK
* checking line endings in Makefiles ... OK
* checking compilation flags in Makevars ... OK
* checking for GNU extensions in Makefiles ... OK
* checking for portable use of $(BLAS_LIBS) and $(LAPACK_LIBS) ... OK
* checking use of PKG_*FLAGS in Makefiles ... OK
* checking compiled code ... NOTE
Note: information on .o files is not available
* checking files in ‘vignettes’ ... OK
* checking examples ... OK
Examples with CPU (user + system) or elapsed time > 5s
user system elapsed
performModelSelection 12.057 0.140 12.197
performGridSearch 5.886 0.202 6.087
* checking for unstated dependencies in vignettes ... OK
* checking package vignettes in ‘inst/doc’ ... OK
* checking running R code from vignettes ...
‘kebabs.Rnw’... OK
NONE
* checking re-building of vignette outputs ... OK
* checking PDF version of manual ... OK
* DONE
Status: 2 NOTEs
See
‘/home/biocbuild/bbs-3.17-bioc/meat/kebabs.Rcheck/00check.log’
for details.
kebabs.Rcheck/00install.out
##############################################################################
##############################################################################
###
### Running command:
###
### /home/biocbuild/bbs-3.17-bioc/R/bin/R CMD INSTALL kebabs
###
##############################################################################
##############################################################################
* installing to library ‘/home/biocbuild/bbs-3.17-bioc/R/site-library’
* installing *source* package ‘kebabs’ ...
** using staged installation
** libs
using C compiler: ‘gcc (Ubuntu 11.3.0-1ubuntu1~22.04) 11.3.0’
using C++ compiler: ‘g++ (Ubuntu 11.3.0-1ubuntu1~22.04) 11.3.0’
gcc -I"/home/biocbuild/bbs-3.17-bioc/R/include" -DNDEBUG -DSTRICT_R_HEADERS -I'/home/biocbuild/bbs-3.17-bioc/R/site-library/IRanges/include' -I'/home/biocbuild/bbs-3.17-bioc/R/site-library/XVector/include' -I'/home/biocbuild/bbs-3.17-bioc/R/site-library/Biostrings/include' -I'/home/biocbuild/bbs-3.17-bioc/R/site-library/Rcpp/include' -I'/home/biocbuild/bbs-3.17-bioc/R/site-library/S4Vectors/include' -I/usr/local/include -fpic -g -O2 -Wall -c Biostrings_stubs.c -o Biostrings_stubs.o
gcc -I"/home/biocbuild/bbs-3.17-bioc/R/include" -DNDEBUG -DSTRICT_R_HEADERS -I'/home/biocbuild/bbs-3.17-bioc/R/site-library/IRanges/include' -I'/home/biocbuild/bbs-3.17-bioc/R/site-library/XVector/include' -I'/home/biocbuild/bbs-3.17-bioc/R/site-library/Biostrings/include' -I'/home/biocbuild/bbs-3.17-bioc/R/site-library/Rcpp/include' -I'/home/biocbuild/bbs-3.17-bioc/R/site-library/S4Vectors/include' -I/usr/local/include -fpic -g -O2 -Wall -c ByteStringVector.c -o ByteStringVector.o
g++ -std=gnu++17 -I"/home/biocbuild/bbs-3.17-bioc/R/include" -DNDEBUG -DSTRICT_R_HEADERS -I'/home/biocbuild/bbs-3.17-bioc/R/site-library/IRanges/include' -I'/home/biocbuild/bbs-3.17-bioc/R/site-library/XVector/include' -I'/home/biocbuild/bbs-3.17-bioc/R/site-library/Biostrings/include' -I'/home/biocbuild/bbs-3.17-bioc/R/site-library/Rcpp/include' -I'/home/biocbuild/bbs-3.17-bioc/R/site-library/S4Vectors/include' -I/usr/local/include -fpic -g -O2 -Wall -c ExplicitRepC.cpp -o ExplicitRepC.o
g++ -std=gnu++17 -I"/home/biocbuild/bbs-3.17-bioc/R/include" -DNDEBUG -DSTRICT_R_HEADERS -I'/home/biocbuild/bbs-3.17-bioc/R/site-library/IRanges/include' -I'/home/biocbuild/bbs-3.17-bioc/R/site-library/XVector/include' -I'/home/biocbuild/bbs-3.17-bioc/R/site-library/Biostrings/include' -I'/home/biocbuild/bbs-3.17-bioc/R/site-library/Rcpp/include' -I'/home/biocbuild/bbs-3.17-bioc/R/site-library/S4Vectors/include' -I/usr/local/include -fpic -g -O2 -Wall -c FeatureWeightsPosDepC.cpp -o FeatureWeightsPosDepC.o
g++ -std=gnu++17 -I"/home/biocbuild/bbs-3.17-bioc/R/include" -DNDEBUG -DSTRICT_R_HEADERS -I'/home/biocbuild/bbs-3.17-bioc/R/site-library/IRanges/include' -I'/home/biocbuild/bbs-3.17-bioc/R/site-library/XVector/include' -I'/home/biocbuild/bbs-3.17-bioc/R/site-library/Biostrings/include' -I'/home/biocbuild/bbs-3.17-bioc/R/site-library/Rcpp/include' -I'/home/biocbuild/bbs-3.17-bioc/R/site-library/S4Vectors/include' -I/usr/local/include -fpic -g -O2 -Wall -c GappyPairC.cpp -o GappyPairC.o
GappyPairC.cpp: In function ‘SEXPREC* gappyPairKernelMatrixC(SEXP, SEXP, SEXP, SEXP, SEXP, SEXP, SEXP, SEXP, SEXP, SEXP, SEXP, SEXP, SEXP, SEXP, SEXP, SEXP, SEXP, SEXP, SEXP, SEXP, SEXP, SEXP, SEXP, SEXP)’:
GappyPairC.cpp:994:37: warning: ‘annX.ByteStringVector::ptr’ may be used uninitialized in this function [-Wmaybe-uninitialized]
994 | annptr = annX.ptr[iX];
| ~~~~~~~~~~~^
GappyPairC.cpp:3407:28: note: ‘annX.ByteStringVector::ptr’ was declared here
3407 | ByteStringVector x, y, annX, annY, annCharset;
| ^~~~
GappyPairC.cpp:1160:41: warning: ‘annY.ByteStringVector::ptr’ may be used uninitialized in this function [-Wmaybe-uninitialized]
1160 | annptr = annY.ptr[iY];
| ~~~~~~~~~~~^
GappyPairC.cpp:3407:34: note: ‘annY.ByteStringVector::ptr’ was declared here
3407 | ByteStringVector x, y, annX, annY, annCharset;
| ^~~~
GappyPairC.cpp:3472:34: warning: ‘y.ByteStringVector::ptr’ may be used uninitialized in this function [-Wmaybe-uninitialized]
3472 | getKMPosDistGappy(maxUIndex8, km, x, y, sizeX, sizeY, selX, selY, offsetX, offsetY,
| ~~~~~~~~~~~~~~~~~^~~~~~~~~~~~~~~~~~~~~~~~~~~~~~~~~~~~~~~~~~~~~~~~~~~~~~~~~~~~~~~~~~
3473 | k, m, normalized, symmetric, reverseComplement, posSpec,
| ~~~~~~~~~~~~~~~~~~~~~~~~~~~~~~~~~~~~~~~~~~~~~~~~~~~~~~~~
3474 | distWeight, maxSeqLength, &alphaInf);
| ~~~~~~~~~~~~~~~~~~~~~~~~~~~~~~~~~~~~
GappyPairC.cpp:3472:34: warning: ‘y.ByteStringVector::nchar’ may be used uninitialized in this function [-Wmaybe-uninitialized]
gcc -I"/home/biocbuild/bbs-3.17-bioc/R/include" -DNDEBUG -DSTRICT_R_HEADERS -I'/home/biocbuild/bbs-3.17-bioc/R/site-library/IRanges/include' -I'/home/biocbuild/bbs-3.17-bioc/R/site-library/XVector/include' -I'/home/biocbuild/bbs-3.17-bioc/R/site-library/Biostrings/include' -I'/home/biocbuild/bbs-3.17-bioc/R/site-library/Rcpp/include' -I'/home/biocbuild/bbs-3.17-bioc/R/site-library/S4Vectors/include' -I/usr/local/include -fpic -g -O2 -Wall -c IRanges_stubs.c -o IRanges_stubs.o
g++ -std=gnu++17 -I"/home/biocbuild/bbs-3.17-bioc/R/include" -DNDEBUG -DSTRICT_R_HEADERS -I'/home/biocbuild/bbs-3.17-bioc/R/site-library/IRanges/include' -I'/home/biocbuild/bbs-3.17-bioc/R/site-library/XVector/include' -I'/home/biocbuild/bbs-3.17-bioc/R/site-library/Biostrings/include' -I'/home/biocbuild/bbs-3.17-bioc/R/site-library/Rcpp/include' -I'/home/biocbuild/bbs-3.17-bioc/R/site-library/S4Vectors/include' -I/usr/local/include -fpic -g -O2 -Wall -c KernelUtils.cpp -o KernelUtils.o
g++ -std=gnu++17 -I"/home/biocbuild/bbs-3.17-bioc/R/include" -DNDEBUG -DSTRICT_R_HEADERS -I'/home/biocbuild/bbs-3.17-bioc/R/site-library/IRanges/include' -I'/home/biocbuild/bbs-3.17-bioc/R/site-library/XVector/include' -I'/home/biocbuild/bbs-3.17-bioc/R/site-library/Biostrings/include' -I'/home/biocbuild/bbs-3.17-bioc/R/site-library/Rcpp/include' -I'/home/biocbuild/bbs-3.17-bioc/R/site-library/S4Vectors/include' -I/usr/local/include -fpic -g -O2 -Wall -c MismatchC.cpp -o MismatchC.o
g++ -std=gnu++17 -I"/home/biocbuild/bbs-3.17-bioc/R/include" -DNDEBUG -DSTRICT_R_HEADERS -I'/home/biocbuild/bbs-3.17-bioc/R/site-library/IRanges/include' -I'/home/biocbuild/bbs-3.17-bioc/R/site-library/XVector/include' -I'/home/biocbuild/bbs-3.17-bioc/R/site-library/Biostrings/include' -I'/home/biocbuild/bbs-3.17-bioc/R/site-library/Rcpp/include' -I'/home/biocbuild/bbs-3.17-bioc/R/site-library/S4Vectors/include' -I/usr/local/include -fpic -g -O2 -Wall -c MotifC.cpp -o MotifC.o
MotifC.cpp: In function ‘void genPredProfileMotif(Rcpp::NumericMatrix, ByteStringVector, Rcpp::IntegerVector, int, ByteStringVector, ByteStringVector, int, bool, int, int, int, int, Rcpp::NumericMatrix, int, ByteStringVector, Rcpp::IntegerVector*, int, int, ByteStringVector, Rcpp::IntegerVector*, int, int, int, bool, bool, bool)’:
MotifC.cpp:3677:18: warning: ‘keyPool’ may be used uninitialized in this function [-Wmaybe-uninitialized]
3677 | pKeypool = keyPool;
| ~~~~~~~~~^~~~~~~~~
g++ -std=gnu++17 -I"/home/biocbuild/bbs-3.17-bioc/R/include" -DNDEBUG -DSTRICT_R_HEADERS -I'/home/biocbuild/bbs-3.17-bioc/R/site-library/IRanges/include' -I'/home/biocbuild/bbs-3.17-bioc/R/site-library/XVector/include' -I'/home/biocbuild/bbs-3.17-bioc/R/site-library/Biostrings/include' -I'/home/biocbuild/bbs-3.17-bioc/R/site-library/Rcpp/include' -I'/home/biocbuild/bbs-3.17-bioc/R/site-library/S4Vectors/include' -I/usr/local/include -fpic -g -O2 -Wall -c PredictionC.cpp -o PredictionC.o
g++ -std=gnu++17 -I"/home/biocbuild/bbs-3.17-bioc/R/include" -DNDEBUG -DSTRICT_R_HEADERS -I'/home/biocbuild/bbs-3.17-bioc/R/site-library/IRanges/include' -I'/home/biocbuild/bbs-3.17-bioc/R/site-library/XVector/include' -I'/home/biocbuild/bbs-3.17-bioc/R/site-library/Biostrings/include' -I'/home/biocbuild/bbs-3.17-bioc/R/site-library/Rcpp/include' -I'/home/biocbuild/bbs-3.17-bioc/R/site-library/S4Vectors/include' -I/usr/local/include -fpic -g -O2 -Wall -c PredictionProfileC.cpp -o PredictionProfileC.o
g++ -std=gnu++17 -I"/home/biocbuild/bbs-3.17-bioc/R/include" -DNDEBUG -DSTRICT_R_HEADERS -I'/home/biocbuild/bbs-3.17-bioc/R/site-library/IRanges/include' -I'/home/biocbuild/bbs-3.17-bioc/R/site-library/XVector/include' -I'/home/biocbuild/bbs-3.17-bioc/R/site-library/Biostrings/include' -I'/home/biocbuild/bbs-3.17-bioc/R/site-library/Rcpp/include' -I'/home/biocbuild/bbs-3.17-bioc/R/site-library/S4Vectors/include' -I/usr/local/include -fpic -g -O2 -Wall -c R_init_kebabs.cpp -o R_init_kebabs.o
gcc -I"/home/biocbuild/bbs-3.17-bioc/R/include" -DNDEBUG -DSTRICT_R_HEADERS -I'/home/biocbuild/bbs-3.17-bioc/R/site-library/IRanges/include' -I'/home/biocbuild/bbs-3.17-bioc/R/site-library/XVector/include' -I'/home/biocbuild/bbs-3.17-bioc/R/site-library/Biostrings/include' -I'/home/biocbuild/bbs-3.17-bioc/R/site-library/Rcpp/include' -I'/home/biocbuild/bbs-3.17-bioc/R/site-library/S4Vectors/include' -I/usr/local/include -fpic -g -O2 -Wall -c Rsvm.c -o Rsvm.o
g++ -std=gnu++17 -I"/home/biocbuild/bbs-3.17-bioc/R/include" -DNDEBUG -DSTRICT_R_HEADERS -I'/home/biocbuild/bbs-3.17-bioc/R/site-library/IRanges/include' -I'/home/biocbuild/bbs-3.17-bioc/R/site-library/XVector/include' -I'/home/biocbuild/bbs-3.17-bioc/R/site-library/Biostrings/include' -I'/home/biocbuild/bbs-3.17-bioc/R/site-library/Rcpp/include' -I'/home/biocbuild/bbs-3.17-bioc/R/site-library/S4Vectors/include' -I/usr/local/include -fpic -g -O2 -Wall -c SparseMatrixHash.cpp -o SparseMatrixHash.o
g++ -std=gnu++17 -I"/home/biocbuild/bbs-3.17-bioc/R/include" -DNDEBUG -DSTRICT_R_HEADERS -I'/home/biocbuild/bbs-3.17-bioc/R/site-library/IRanges/include' -I'/home/biocbuild/bbs-3.17-bioc/R/site-library/XVector/include' -I'/home/biocbuild/bbs-3.17-bioc/R/site-library/Biostrings/include' -I'/home/biocbuild/bbs-3.17-bioc/R/site-library/Rcpp/include' -I'/home/biocbuild/bbs-3.17-bioc/R/site-library/S4Vectors/include' -I/usr/local/include -fpic -g -O2 -Wall -c SpectrumC.cpp -o SpectrumC.o
SpectrumC.cpp: In function ‘SEXPREC* spectrumKernelMatrixC(SEXP, SEXP, SEXP, SEXP, SEXP, SEXP, SEXP, SEXP, SEXP, SEXP, SEXP, SEXP, SEXP, SEXP, SEXP, SEXP, SEXP, SEXP, SEXP, SEXP, SEXP, SEXP, SEXP)’:
SpectrumC.cpp:679:37: warning: ‘annX.ByteStringVector::ptr’ may be used uninitialized in this function [-Wmaybe-uninitialized]
679 | annptr = annX.ptr[iX];
| ~~~~~~~~~~~^
SpectrumC.cpp:3156:28: note: ‘annX.ByteStringVector::ptr’ was declared here
3156 | ByteStringVector x, y, annX, annY, annCharset;
| ^~~~
SpectrumC.cpp:835:41: warning: ‘annY.ByteStringVector::ptr’ may be used uninitialized in this function [-Wmaybe-uninitialized]
835 | annptr = annY.ptr[iY];
| ~~~~~~~~~~~^
SpectrumC.cpp:3156:34: note: ‘annY.ByteStringVector::ptr’ was declared here
3156 | ByteStringVector x, y, annX, annY, annCharset;
| ^~~~
SpectrumC.cpp:3220:33: warning: ‘y.ByteStringVector::ptr’ may be used uninitialized in this function [-Wmaybe-uninitialized]
3220 | getKMPosDistSpec(maxUIndex8, km, x, y, sizeX, sizeY, selX, selY, offsetX, offsetY,
| ~~~~~~~~~~~~~~~~^~~~~~~~~~~~~~~~~~~~~~~~~~~~~~~~~~~~~~~~~~~~~~~~~~~~~~~~~~~~~~~~~~
3221 | k, normalized, symmetric, reverseComplement, posSpec, distWeight,
| ~~~~~~~~~~~~~~~~~~~~~~~~~~~~~~~~~~~~~~~~~~~~~~~~~~~~~~~~~~~~~~~~~
3222 | maxSeqLength, &alphaInf);
| ~~~~~~~~~~~~~~~~~~~~~~~~
SpectrumC.cpp:3220:33: warning: ‘y.ByteStringVector::nchar’ may be used uninitialized in this function [-Wmaybe-uninitialized]
g++ -std=gnu++17 -I"/home/biocbuild/bbs-3.17-bioc/R/include" -DNDEBUG -DSTRICT_R_HEADERS -I'/home/biocbuild/bbs-3.17-bioc/R/site-library/IRanges/include' -I'/home/biocbuild/bbs-3.17-bioc/R/site-library/XVector/include' -I'/home/biocbuild/bbs-3.17-bioc/R/site-library/Biostrings/include' -I'/home/biocbuild/bbs-3.17-bioc/R/site-library/Rcpp/include' -I'/home/biocbuild/bbs-3.17-bioc/R/site-library/S4Vectors/include' -I/usr/local/include -fpic -g -O2 -Wall -c SymmetricPairC.cpp -o SymmetricPairC.o
g++ -std=gnu++17 -I"/home/biocbuild/bbs-3.17-bioc/R/include" -DNDEBUG -DSTRICT_R_HEADERS -I'/home/biocbuild/bbs-3.17-bioc/R/site-library/IRanges/include' -I'/home/biocbuild/bbs-3.17-bioc/R/site-library/XVector/include' -I'/home/biocbuild/bbs-3.17-bioc/R/site-library/Biostrings/include' -I'/home/biocbuild/bbs-3.17-bioc/R/site-library/Rcpp/include' -I'/home/biocbuild/bbs-3.17-bioc/R/site-library/S4Vectors/include' -I/usr/local/include -fpic -g -O2 -Wall -c Utils.cpp -o Utils.o
gcc -I"/home/biocbuild/bbs-3.17-bioc/R/include" -DNDEBUG -DSTRICT_R_HEADERS -I'/home/biocbuild/bbs-3.17-bioc/R/site-library/IRanges/include' -I'/home/biocbuild/bbs-3.17-bioc/R/site-library/XVector/include' -I'/home/biocbuild/bbs-3.17-bioc/R/site-library/Biostrings/include' -I'/home/biocbuild/bbs-3.17-bioc/R/site-library/Rcpp/include' -I'/home/biocbuild/bbs-3.17-bioc/R/site-library/S4Vectors/include' -I/usr/local/include -fpic -g -O2 -Wall -c XVector_stubs.c -o XVector_stubs.o
g++ -std=gnu++17 -I"/home/biocbuild/bbs-3.17-bioc/R/include" -DNDEBUG -DSTRICT_R_HEADERS -I'/home/biocbuild/bbs-3.17-bioc/R/site-library/IRanges/include' -I'/home/biocbuild/bbs-3.17-bioc/R/site-library/XVector/include' -I'/home/biocbuild/bbs-3.17-bioc/R/site-library/Biostrings/include' -I'/home/biocbuild/bbs-3.17-bioc/R/site-library/Rcpp/include' -I'/home/biocbuild/bbs-3.17-bioc/R/site-library/S4Vectors/include' -I/usr/local/include -fpic -g -O2 -Wall -c svm.cpp -o svm.o
g++ -std=gnu++17 -shared -L/home/biocbuild/bbs-3.17-bioc/R/lib -L/usr/local/lib -o kebabs.so Biostrings_stubs.o ByteStringVector.o ExplicitRepC.o FeatureWeightsPosDepC.o GappyPairC.o IRanges_stubs.o KernelUtils.o MismatchC.o MotifC.o PredictionC.o PredictionProfileC.o R_init_kebabs.o Rsvm.o SparseMatrixHash.o SpectrumC.o SymmetricPairC.o Utils.o XVector_stubs.o svm.o -L/home/biocbuild/bbs-3.17-bioc/R/lib -lR
installing to /home/biocbuild/bbs-3.17-bioc/R/site-library/00LOCK-kebabs/00new/kebabs/libs
** R
** data
** inst
** byte-compile and prepare package for lazy loading
** help
*** installing help indices
** building package indices
** installing vignettes
** testing if installed package can be loaded from temporary location
** checking absolute paths in shared objects and dynamic libraries
** testing if installed package can be loaded from final location
** testing if installed package keeps a record of temporary installation path
* DONE (kebabs)
kebabs.Rcheck/kebabs-Ex.timings
| name | user | system | elapsed | |
| BioVector | 0.043 | 0.008 | 0.051 | |
| CrossValidationResultAccessors | 0.002 | 0.000 | 0.001 | |
| KBModelAccessors | 0.002 | 0.000 | 0.001 | |
| KernelMatrixAccessors | 0.001 | 0.000 | 0.001 | |
| LinearKernel | 4.730 | 0.148 | 4.879 | |
| ModelSelectionResultAccessors | 0.001 | 0.000 | 0.001 | |
| PredictionProfileAccessors | 0.002 | 0.000 | 0.002 | |
| ROCDataAccessors | 0.001 | 0.000 | 0.000 | |
| SVMAccess | 0.075 | 0.016 | 0.091 | |
| annotationSpecificKernel | 0.145 | 0.000 | 0.145 | |
| computeROCandAUC | 0.700 | 0.012 | 0.713 | |
| evaluatePrediction | 1.023 | 0.008 | 1.031 | |
| explicitRepresentation | 0.139 | 0.007 | 0.147 | |
| featureWeights | 0.202 | 0.006 | 0.208 | |
| gappyPairKernel | 0.006 | 0.002 | 0.007 | |
| genRandBioSeqs | 0.05 | 0.00 | 0.05 | |
| getPredProfMixture-methods | 2.247 | 0.204 | 2.451 | |
| getPredictionProfile-methods | 0.533 | 0.055 | 0.589 | |
| heatmap-methods | 0.366 | 0.060 | 0.426 | |
| kbsvm-methods | 0.162 | 0.012 | 0.173 | |
| kebabsCollectInfo | 0.021 | 0.001 | 0.022 | |
| kebabsOverview | 0.25 | 0.04 | 0.29 | |
| mismatchKernel | 0.008 | 0.000 | 0.008 | |
| motifKernel | 0.007 | 0.000 | 0.007 | |
| performCrossValidation-methods | 0.195 | 0.025 | 0.220 | |
| performGridSearch | 5.886 | 0.202 | 6.087 | |
| performModelSelection | 12.057 | 0.140 | 12.197 | |
| plot-methods | 0.4 | 0.0 | 0.4 | |
| positionDependentKernel | 0.012 | 0.000 | 0.012 | |
| predict-methods | 0.215 | 0.000 | 0.215 | |
| sequenceKernel | 0.045 | 0.000 | 0.045 | |
| show-methods | 0.023 | 0.000 | 0.023 | |
| spectrumKernel | 0.005 | 0.000 | 0.006 | |
| symmetricPairKernel | 0.106 | 0.004 | 0.111 | |