| Back to Multiple platform build/check report for BioC 3.17 |
|
This page was generated on 2023-04-12 10:55:37 -0400 (Wed, 12 Apr 2023).
| Hostname | OS | Arch (*) | R version | Installed pkgs |
|---|---|---|---|---|
| nebbiolo1 | Linux (Ubuntu 22.04.1 LTS) | x86_64 | 4.3.0 alpha (2023-04-03 r84154) | 4547 |
| nebbiolo2 | Linux (Ubuntu 20.04.5 LTS) | x86_64 | R Under development (unstable) (2023-02-14 r83833) -- "Unsuffered Consequences" | 4333 |
| Click on any hostname to see more info about the system (e.g. compilers) (*) as reported by 'uname -p', except on Windows and Mac OS X | ||||
|
To the developers/maintainers of the idpr package: - Allow up to 24 hours (and sometimes 48 hours) for your latest push to git@git.bioconductor.org:packages/idpr.git to reflect on this report. See Troubleshooting Build Report for more information. - Use the following Renviron settings to reproduce errors and warnings. Note: If "R CMD check" recently failed on the Linux builder over a missing dependency, add the missing dependency to "Suggests" in your DESCRIPTION file. See the Renviron.bioc for details. |
| Package 968/2207 | Hostname | OS / Arch | INSTALL | BUILD | CHECK | BUILD BIN | ||||||||
| idpr 1.9.15 (landing page) William M. McFadden
| nebbiolo1 | Linux (Ubuntu 22.04.1 LTS) / x86_64 | OK | OK | OK | |||||||||
| nebbiolo2 | Linux (Ubuntu 20.04.5 LTS) / x86_64 | OK | OK | OK | ||||||||||
| Package: idpr |
| Version: 1.9.15 |
| Command: /home/biocbuild/bbs-3.17-bioc/R/bin/R CMD check --install=check:idpr.install-out.txt --library=/home/biocbuild/bbs-3.17-bioc/R/site-library --timings idpr_1.9.15.tar.gz |
| StartedAt: 2023-04-12 06:53:29 -0400 (Wed, 12 Apr 2023) |
| EndedAt: 2023-04-12 06:55:30 -0400 (Wed, 12 Apr 2023) |
| EllapsedTime: 120.4 seconds |
| RetCode: 0 |
| Status: OK |
| CheckDir: idpr.Rcheck |
| Warnings: 0 |
##############################################################################
##############################################################################
###
### Running command:
###
### /home/biocbuild/bbs-3.17-bioc/R/bin/R CMD check --install=check:idpr.install-out.txt --library=/home/biocbuild/bbs-3.17-bioc/R/site-library --timings idpr_1.9.15.tar.gz
###
##############################################################################
##############################################################################
* using log directory ‘/home/biocbuild/bbs-3.17-bioc/meat/idpr.Rcheck’
* using R Under development (unstable) (2023-02-14 r83833)
* using platform: x86_64-pc-linux-gnu (64-bit)
* R was compiled by
gcc (Ubuntu 9.4.0-1ubuntu1~20.04.1) 9.4.0
GNU Fortran (Ubuntu 9.4.0-1ubuntu1~20.04.1) 9.4.0
* running under: Ubuntu 20.04.6 LTS
* using session charset: UTF-8
* checking for file ‘idpr/DESCRIPTION’ ... OK
* checking extension type ... Package
* this is package ‘idpr’ version ‘1.9.15’
* package encoding: UTF-8
* checking package namespace information ... OK
* checking package dependencies ... OK
* checking if this is a source package ... OK
* checking if there is a namespace ... OK
* checking for hidden files and directories ... OK
* checking for portable file names ... OK
* checking for sufficient/correct file permissions ... OK
* checking whether package ‘idpr’ can be installed ... OK
* checking installed package size ... OK
* checking package directory ... OK
* checking ‘build’ directory ... OK
* checking DESCRIPTION meta-information ... OK
* checking top-level files ... OK
* checking for left-over files ... OK
* checking index information ... OK
* checking package subdirectories ... OK
* checking R files for non-ASCII characters ... OK
* checking R files for syntax errors ... OK
* checking whether the package can be loaded ... OK
* checking whether the package can be loaded with stated dependencies ... OK
* checking whether the package can be unloaded cleanly ... OK
* checking whether the namespace can be loaded with stated dependencies ... OK
* checking whether the namespace can be unloaded cleanly ... OK
* checking loading without being on the library search path ... OK
* checking dependencies in R code ... OK
* checking S3 generic/method consistency ... OK
* checking replacement functions ... OK
* checking foreign function calls ... OK
* checking R code for possible problems ... OK
* checking Rd files ... OK
* checking Rd metadata ... OK
* checking Rd cross-references ... OK
* checking for missing documentation entries ... OK
* checking for code/documentation mismatches ... OK
* checking Rd \usage sections ... OK
* checking Rd contents ... OK
* checking for unstated dependencies in examples ... OK
* checking contents of ‘data’ directory ... OK
* checking data for non-ASCII characters ... NOTE
Note: found 13 marked UTF-8 strings
* checking LazyData ... OK
* checking data for ASCII and uncompressed saves ... OK
* checking R/sysdata.rda ... OK
* checking files in ‘vignettes’ ... OK
* checking examples ... OK
* checking for unstated dependencies in ‘tests’ ... OK
* checking tests ...
Running ‘testthat.R’
OK
* checking for unstated dependencies in vignettes ... OK
* checking package vignettes in ‘inst/doc’ ... OK
* checking running R code from vignettes ...
‘chargeHydropathy-vignette.Rmd’ using ‘UTF-8’... OK
‘disorderedMatrices-vignette.Rmd’ using ‘UTF-8’... OK
‘idpr-vignette.Rmd’ using ‘UTF-8’... OK
‘iupred-vignette.Rmd’ using ‘UTF-8’... OK
‘sequenceMAP-vignette.Rmd’ using ‘UTF-8’... OK
‘structuralTendency-vignette.Rmd’ using ‘UTF-8’... OK
NONE
* checking re-building of vignette outputs ... OK
* checking PDF version of manual ... OK
* DONE
Status: 1 NOTE
See
‘/home/biocbuild/bbs-3.17-bioc/meat/idpr.Rcheck/00check.log’
for details.
idpr.Rcheck/00install.out
############################################################################## ############################################################################## ### ### Running command: ### ### /home/biocbuild/bbs-3.17-bioc/R/bin/R CMD INSTALL idpr ### ############################################################################## ############################################################################## * installing to library ‘/home/biocbuild/bbs-3.17-bioc/R/site-library’ * installing *source* package ‘idpr’ ... ** using staged installation ** R ** data *** moving datasets to lazyload DB ** inst ** byte-compile and prepare package for lazy loading ** help *** installing help indices *** copying figures ** building package indices ** installing vignettes ** testing if installed package can be loaded from temporary location ** testing if installed package can be loaded from final location ** testing if installed package keeps a record of temporary installation path * DONE (idpr)
idpr.Rcheck/tests/testthat.Rout
R Under development (unstable) (2023-02-14 r83833) -- "Unsuffered Consequences"
Copyright (C) 2023 The R Foundation for Statistical Computing
Platform: x86_64-pc-linux-gnu (64-bit)
R is free software and comes with ABSOLUTELY NO WARRANTY.
You are welcome to redistribute it under certain conditions.
Type 'license()' or 'licence()' for distribution details.
R is a collaborative project with many contributors.
Type 'contributors()' for more information and
'citation()' on how to cite R or R packages in publications.
Type 'demo()' for some demos, 'help()' for on-line help, or
'help.start()' for an HTML browser interface to help.
Type 'q()' to quit R.
> library(testthat)
> library(idpr)
>
> test_check("idpr")
[ FAIL 0 | WARN 0 | SKIP 0 | PASS 47 ]
>
> proc.time()
user system elapsed
1.416 0.097 1.496
idpr.Rcheck/idpr-Ex.timings
| name | user | system | elapsed | |
| chargeCalculationGlobal | 0.797 | 0.008 | 0.804 | |
| chargeCalculationLocal | 0.393 | 0.012 | 0.405 | |
| chargeHydropathyPlot | 1.759 | 0.000 | 1.759 | |
| hendersonHasselbalch | 0.025 | 0.000 | 0.024 | |
| idprofile | 0.001 | 0.000 | 0.000 | |
| iupred | 0.000 | 0.000 | 0.001 | |
| meanScaledHydropathy | 0.001 | 0.000 | 0.001 | |
| netCharge | 0.046 | 0.000 | 0.047 | |
| scaledHydropathyGlobal | 0.326 | 0.000 | 0.327 | |
| scaledHydropathyLocal | 0.387 | 0.000 | 0.387 | |
| sequenceCheck | 0 | 0 | 0 | |
| sequenceMap | 2.809 | 0.028 | 2.837 | |
| sequenceMapCoordinates | 0.249 | 0.000 | 0.249 | |
| sequencePlot | 0.340 | 0.004 | 0.343 | |
| structuralTendency | 0.005 | 0.000 | 0.005 | |
| structuralTendencyPlot | 1.781 | 0.032 | 1.813 | |