| Back to Multiple platform build/check report for BioC 3.17 | 
 | 
This page was generated on 2023-04-12 10:55:25 -0400 (Wed, 12 Apr 2023).
| Hostname | OS | Arch (*) | R version | Installed pkgs | 
|---|---|---|---|---|
| nebbiolo1 | Linux (Ubuntu 22.04.1 LTS) | x86_64 | 4.3.0 alpha (2023-04-03 r84154) | 4547 | 
| nebbiolo2 | Linux (Ubuntu 20.04.5 LTS) | x86_64 | R Under development (unstable) (2023-02-14 r83833) -- "Unsuffered Consequences" | 4333 | 
| Click on any hostname to see more info about the system (e.g. compilers) (*) as reported by 'uname -p', except on Windows and Mac OS X | ||||
| To the developers/maintainers of the glmSparseNet package: - Allow up to 24 hours (and sometimes 48 hours) for your latest push to git@git.bioconductor.org:packages/glmSparseNet.git to reflect on this report. See Troubleshooting Build Report for more information. - Use the following Renviron settings to reproduce errors and warnings. Note: If "R CMD check" recently failed on the Linux builder over a missing dependency, add the missing dependency to "Suggests" in your DESCRIPTION file. See the Renviron.bioc for details. | 
| Package 840/2207 | Hostname | OS / Arch | INSTALL | BUILD | CHECK | BUILD BIN | ||||||||
| glmSparseNet 1.17.0  (landing page) André Veríssimo 
 | nebbiolo1 | Linux (Ubuntu 22.04.1 LTS) / x86_64 | OK | OK | OK | |||||||||
| nebbiolo2 | Linux (Ubuntu 20.04.5 LTS) / x86_64 | OK | OK | OK | ||||||||||
| Package: glmSparseNet | 
| Version: 1.17.0 | 
| Command: /home/biocbuild/bbs-3.17-bioc/R/bin/R CMD check --install=check:glmSparseNet.install-out.txt --library=/home/biocbuild/bbs-3.17-bioc/R/site-library --timings glmSparseNet_1.17.0.tar.gz | 
| StartedAt: 2023-04-11 20:38:54 -0400 (Tue, 11 Apr 2023) | 
| EndedAt: 2023-04-11 20:48:28 -0400 (Tue, 11 Apr 2023) | 
| EllapsedTime: 574.2 seconds | 
| RetCode: 0 | 
| Status: OK | 
| CheckDir: glmSparseNet.Rcheck | 
| Warnings: 0 | 
##############################################################################
##############################################################################
###
### Running command:
###
###   /home/biocbuild/bbs-3.17-bioc/R/bin/R CMD check --install=check:glmSparseNet.install-out.txt --library=/home/biocbuild/bbs-3.17-bioc/R/site-library --timings glmSparseNet_1.17.0.tar.gz
###
##############################################################################
##############################################################################
* using log directory ‘/home/biocbuild/bbs-3.17-bioc/meat/glmSparseNet.Rcheck’
* using R version 4.3.0 alpha (2023-04-03 r84154)
* using platform: x86_64-pc-linux-gnu (64-bit)
* R was compiled by
    gcc (Ubuntu 11.3.0-1ubuntu1~22.04) 11.3.0
    GNU Fortran (Ubuntu 11.3.0-1ubuntu1~22.04) 11.3.0
* running under: Ubuntu 22.04.2 LTS
* using session charset: UTF-8
* checking for file ‘glmSparseNet/DESCRIPTION’ ... OK
* checking extension type ... Package
* this is package ‘glmSparseNet’ version ‘1.17.0’
* package encoding: UTF-8
* checking package namespace information ... OK
* checking package dependencies ... OK
* checking if this is a source package ... OK
* checking if there is a namespace ... OK
* checking for hidden files and directories ... OK
* checking for portable file names ... OK
* checking for sufficient/correct file permissions ... OK
* checking whether package ‘glmSparseNet’ can be installed ... OK
* checking installed package size ... OK
* checking package directory ... OK
* checking ‘build’ directory ... OK
* checking DESCRIPTION meta-information ... OK
* checking top-level files ... OK
* checking for left-over files ... OK
* checking index information ... OK
* checking package subdirectories ... OK
* checking R files for non-ASCII characters ... OK
* checking R files for syntax errors ... OK
* checking whether the package can be loaded ... OK
* checking whether the package can be loaded with stated dependencies ... OK
* checking whether the package can be unloaded cleanly ... OK
* checking whether the namespace can be loaded with stated dependencies ... OK
* checking whether the namespace can be unloaded cleanly ... OK
* checking loading without being on the library search path ... OK
* checking dependencies in R code ... OK
* checking S3 generic/method consistency ... OK
* checking replacement functions ... OK
* checking foreign function calls ... OK
* checking R code for possible problems ... OK
* checking Rd files ... OK
* checking Rd metadata ... OK
* checking Rd cross-references ... OK
* checking for missing documentation entries ... OK
* checking for code/documentation mismatches ... OK
* checking Rd \usage sections ... OK
* checking Rd contents ... OK
* checking for unstated dependencies in examples ... OK
* checking contents of ‘data’ directory ... OK
* checking data for non-ASCII characters ... OK
* checking data for ASCII and uncompressed saves ... OK
* checking files in ‘vignettes’ ... OK
* checking examples ... OK
Examples with CPU (user + system) or elapsed time > 5s
           user system elapsed
hallmarks 0.016  0.008  22.624
* checking for unstated dependencies in ‘tests’ ... OK
* checking tests ...
  Running ‘testthat.R’
 OK
* checking for unstated dependencies in vignettes ... OK
* checking package vignettes in ‘inst/doc’ ... OK
* checking running R code from vignettes ...
  ‘example_brca_logistic.Rmd’ using ‘UTF-8’... OK
  ‘example_brca_protein-protein-interactions_survival.Rmd’ using ‘UTF-8’... OK
  ‘example_brca_survival.Rmd’ using ‘UTF-8’... OK
  ‘example_prad_survival.Rmd’ using ‘UTF-8’... OK
  ‘example_skcm_survival.Rmd’ using ‘UTF-8’... OK
  ‘separate2GroupsCox.Rmd’ using ‘UTF-8’... OK
 NONE
* checking re-building of vignette outputs ... OK
* checking PDF version of manual ... OK
* DONE
Status: OK
glmSparseNet.Rcheck/00install.out
############################################################################## ############################################################################## ### ### Running command: ### ### /home/biocbuild/bbs-3.17-bioc/R/bin/R CMD INSTALL glmSparseNet ### ############################################################################## ############################################################################## * installing to library ‘/home/biocbuild/bbs-3.17-bioc/R/site-library’ * installing *source* package ‘glmSparseNet’ ... ** using staged installation ** R ** data ** inst ** byte-compile and prepare package for lazy loading ** help *** installing help indices ** building package indices ** installing vignettes ** testing if installed package can be loaded from temporary location ** testing if installed package can be loaded from final location ** testing if installed package keeps a record of temporary installation path * DONE (glmSparseNet)
glmSparseNet.Rcheck/tests/testthat.Rout
R version 4.3.0 alpha (2023-04-03 r84154)
Copyright (C) 2023 The R Foundation for Statistical Computing
Platform: x86_64-pc-linux-gnu (64-bit)
R is free software and comes with ABSOLUTELY NO WARRANTY.
You are welcome to redistribute it under certain conditions.
Type 'license()' or 'licence()' for distribution details.
R is a collaborative project with many contributors.
Type 'contributors()' for more information and
'citation()' on how to cite R or R packages in publications.
Type 'demo()' for some demos, 'help()' for on-line help, or
'help.start()' for an HTML browser interface to help.
Type 'q()' to quit R.
> library(testthat)
> library(glmSparseNet)
Loading required package: Matrix
Loading required package: MultiAssayExperiment
Loading required package: SummarizedExperiment
Loading required package: MatrixGenerics
Loading required package: matrixStats
Attaching package: 'MatrixGenerics'
The following objects are masked from 'package:matrixStats':
    colAlls, colAnyNAs, colAnys, colAvgsPerRowSet, colCollapse,
    colCounts, colCummaxs, colCummins, colCumprods, colCumsums,
    colDiffs, colIQRDiffs, colIQRs, colLogSumExps, colMadDiffs,
    colMads, colMaxs, colMeans2, colMedians, colMins, colOrderStats,
    colProds, colQuantiles, colRanges, colRanks, colSdDiffs, colSds,
    colSums2, colTabulates, colVarDiffs, colVars, colWeightedMads,
    colWeightedMeans, colWeightedMedians, colWeightedSds,
    colWeightedVars, rowAlls, rowAnyNAs, rowAnys, rowAvgsPerColSet,
    rowCollapse, rowCounts, rowCummaxs, rowCummins, rowCumprods,
    rowCumsums, rowDiffs, rowIQRDiffs, rowIQRs, rowLogSumExps,
    rowMadDiffs, rowMads, rowMaxs, rowMeans2, rowMedians, rowMins,
    rowOrderStats, rowProds, rowQuantiles, rowRanges, rowRanks,
    rowSdDiffs, rowSds, rowSums2, rowTabulates, rowVarDiffs, rowVars,
    rowWeightedMads, rowWeightedMeans, rowWeightedMedians,
    rowWeightedSds, rowWeightedVars
Loading required package: GenomicRanges
Loading required package: stats4
Loading required package: BiocGenerics
Attaching package: 'BiocGenerics'
The following objects are masked from 'package:stats':
    IQR, mad, sd, var, xtabs
The following objects are masked from 'package:base':
    Filter, Find, Map, Position, Reduce, anyDuplicated, aperm, append,
    as.data.frame, basename, cbind, colnames, dirname, do.call,
    duplicated, eval, evalq, get, grep, grepl, intersect, is.unsorted,
    lapply, mapply, match, mget, order, paste, pmax, pmax.int, pmin,
    pmin.int, rank, rbind, rownames, sapply, setdiff, sort, table,
    tapply, union, unique, unsplit, which.max, which.min
Loading required package: S4Vectors
Attaching package: 'S4Vectors'
The following objects are masked from 'package:Matrix':
    expand, unname
The following objects are masked from 'package:base':
    I, expand.grid, unname
Loading required package: IRanges
Loading required package: GenomeInfoDb
Loading required package: Biobase
Welcome to Bioconductor
    Vignettes contain introductory material; view with
    'browseVignettes()'. To cite Bioconductor, see
    'citation("Biobase")', and for packages 'citation("pkgname")'.
Attaching package: 'Biobase'
The following object is masked from 'package:MatrixGenerics':
    rowMedians
The following objects are masked from 'package:matrixStats':
    anyMissing, rowMedians
Loading required package: glmnet
Loaded glmnet 4.1-7
> 
> test_check("glmSparseNet")
[ FAIL 0 | WARN 0 | SKIP 0 | PASS 84 ]
> 
> proc.time()
   user  system elapsed 
 19.372   7.024  34.114 
glmSparseNet.Rcheck/glmSparseNet-Ex.timings
| name | user | system | elapsed | |
| balanced.cv.folds | 0.003 | 0.003 | 0.006 | |
| base.dir | 0.001 | 0.000 | 0.000 | |
| biomart.load | 1.998 | 0.083 | 2.814 | |
| build.function.digest | 0.001 | 0.001 | 0.000 | |
| buildLambda | 0.000 | 0.004 | 0.004 | |
| buildStringNetwork | 0.000 | 0.000 | 0.001 | |
| cache.compression | 0.000 | 0.001 | 0.000 | |
| calculate.result | 0.000 | 0.002 | 0.001 | |
| create.directory.for.cache | 0.001 | 0.000 | 0.000 | |
| curl.workaround | 0 | 0 | 0 | |
| cv.glmDegree | 0.104 | 0.003 | 0.108 | |
| cv.glmHub | 0.735 | 0.044 | 0.779 | |
| cv.glmOrphan | 0.035 | 0.000 | 0.035 | |
| cv.glmSparseNet | 1.809 | 0.204 | 2.013 | |
| degreeCor | 0.004 | 0.000 | 0.004 | |
| degreeCov | 0.003 | 0.000 | 0.003 | |
| digest.cache | 0 | 0 | 0 | |
| dot-calcPenalty | 0.003 | 0.008 | 0.012 | |
| downloadFileLocal | 0.069 | 0.014 | 0.268 | |
| ensemblGeneNames | 0.277 | 0.017 | 0.431 | |
| geneNames | 0.263 | 0.024 | 0.443 | |
| glmDegree | 0.006 | 0.000 | 0.006 | |
| glmHub | 0.003 | 0.003 | 0.006 | |
| glmOrphan | 0.002 | 0.004 | 0.006 | |
| glmSparseNet | 1.003 | 0.036 | 1.039 | |
| hallmarks | 0.016 | 0.008 | 22.624 | |
| heuristicScale | 0.000 | 0.000 | 0.001 | |
| hubHeuristic | 0 | 0 | 0 | |
| my.colors | 0.000 | 0.001 | 0.001 | |
| my.symbols | 0.000 | 0.001 | 0.001 | |
| networkCorParallel | 0.011 | 0.013 | 0.024 | |
| networkCovParallel | 0.008 | 0.000 | 0.008 | |
| networkOptions | 0.001 | 0.000 | 0.001 | |
| orphanHeuristic | 0.001 | 0.000 | 0.001 | |
| protein2EnsemblGeneNames | 0.380 | 0.047 | 0.754 | |
| run.cache-function-method | 0.005 | 0.000 | 0.005 | |
| run.cache | 0.007 | 0.000 | 0.008 | |
| save.run.cache | 0.001 | 0.000 | 0.001 | |
| separate2GroupsCox | 2.571 | 0.168 | 2.740 | |
| show.message | 0.000 | 0.001 | 0.001 | |
| stringDBhomoSapiens | 0.000 | 0.001 | 0.000 | |
| write.readme | 0 | 0 | 0 | |