| Back to Multiple platform build/check report for BioC 3.17 |
|
This page was generated on 2023-04-12 10:55:36 -0400 (Wed, 12 Apr 2023).
| Hostname | OS | Arch (*) | R version | Installed pkgs |
|---|---|---|---|---|
| nebbiolo1 | Linux (Ubuntu 22.04.1 LTS) | x86_64 | 4.3.0 alpha (2023-04-03 r84154) | 4547 |
| nebbiolo2 | Linux (Ubuntu 20.04.5 LTS) | x86_64 | R Under development (unstable) (2023-02-14 r83833) -- "Unsuffered Consequences" | 4333 |
| Click on any hostname to see more info about the system (e.g. compilers) (*) as reported by 'uname -p', except on Windows and Mac OS X | ||||
|
To the developers/maintainers of the flowGraph package: - Allow up to 24 hours (and sometimes 48 hours) for your latest push to git@git.bioconductor.org:packages/flowGraph.git to reflect on this report. See Troubleshooting Build Report for more information. - Use the following Renviron settings to reproduce errors and warnings. Note: If "R CMD check" recently failed on the Linux builder over a missing dependency, add the missing dependency to "Suggests" in your DESCRIPTION file. See the Renviron.bioc for details. |
| Package 711/2207 | Hostname | OS / Arch | INSTALL | BUILD | CHECK | BUILD BIN | ||||||||
| flowGraph 1.7.0 (landing page) Alice Yue
| nebbiolo1 | Linux (Ubuntu 22.04.1 LTS) / x86_64 | OK | OK | OK | |||||||||
| nebbiolo2 | Linux (Ubuntu 20.04.5 LTS) / x86_64 | OK | OK | OK | ||||||||||
| Package: flowGraph |
| Version: 1.7.0 |
| Command: /home/biocbuild/bbs-3.17-bioc/R/bin/R CMD check --install=check:flowGraph.install-out.txt --library=/home/biocbuild/bbs-3.17-bioc/R/site-library --timings flowGraph_1.7.0.tar.gz |
| StartedAt: 2023-04-12 06:19:57 -0400 (Wed, 12 Apr 2023) |
| EndedAt: 2023-04-12 06:24:09 -0400 (Wed, 12 Apr 2023) |
| EllapsedTime: 252.9 seconds |
| RetCode: 0 |
| Status: OK |
| CheckDir: flowGraph.Rcheck |
| Warnings: 0 |
##############################################################################
##############################################################################
###
### Running command:
###
### /home/biocbuild/bbs-3.17-bioc/R/bin/R CMD check --install=check:flowGraph.install-out.txt --library=/home/biocbuild/bbs-3.17-bioc/R/site-library --timings flowGraph_1.7.0.tar.gz
###
##############################################################################
##############################################################################
* using log directory ‘/home/biocbuild/bbs-3.17-bioc/meat/flowGraph.Rcheck’
* using R Under development (unstable) (2023-02-14 r83833)
* using platform: x86_64-pc-linux-gnu (64-bit)
* R was compiled by
gcc (Ubuntu 9.4.0-1ubuntu1~20.04.1) 9.4.0
GNU Fortran (Ubuntu 9.4.0-1ubuntu1~20.04.1) 9.4.0
* running under: Ubuntu 20.04.6 LTS
* using session charset: UTF-8
* checking for file ‘flowGraph/DESCRIPTION’ ... OK
* checking extension type ... Package
* this is package ‘flowGraph’ version ‘1.7.0’
* checking package namespace information ... OK
* checking package dependencies ... OK
* checking if this is a source package ... OK
* checking if there is a namespace ... OK
* checking for hidden files and directories ... OK
* checking for portable file names ... OK
* checking for sufficient/correct file permissions ... OK
* checking whether package ‘flowGraph’ can be installed ... OK
* checking installed package size ... OK
* checking package directory ... OK
* checking ‘build’ directory ... OK
* checking DESCRIPTION meta-information ... OK
* checking top-level files ... OK
* checking for left-over files ... OK
* checking index information ... OK
* checking package subdirectories ... OK
* checking R files for non-ASCII characters ... OK
* checking R files for syntax errors ... OK
* checking whether the package can be loaded ... OK
* checking whether the package can be loaded with stated dependencies ... OK
* checking whether the package can be unloaded cleanly ... OK
* checking whether the namespace can be loaded with stated dependencies ... OK
* checking whether the namespace can be unloaded cleanly ... OK
* checking loading without being on the library search path ... OK
* checking dependencies in R code ... OK
* checking S3 generic/method consistency ... OK
* checking replacement functions ... OK
* checking foreign function calls ... OK
* checking R code for possible problems ... NOTE
get_child: no visible binding for global variable ‘no_cores’
get_paren: no visible binding for global variable ‘no_cores’
ms_psig: no visible binding for global variable ‘meta’
Undefined global functions or variables:
meta no_cores
* checking Rd files ... OK
* checking Rd metadata ... OK
* checking Rd cross-references ... OK
* checking for missing documentation entries ... OK
* checking for code/documentation mismatches ... OK
* checking Rd \usage sections ... OK
* checking Rd contents ... OK
* checking for unstated dependencies in examples ... OK
* checking contents of ‘data’ directory ... OK
* checking data for non-ASCII characters ... OK
* checking data for ASCII and uncompressed saves ... OK
* checking files in ‘vignettes’ ... OK
* checking examples ... OK
Examples with CPU (user + system) or elapsed time > 5s
user system elapsed
fg_save 43.488 0.820 44.311
fg_save_plots 41.624 0.775 42.402
fg_load 39.662 0.979 40.646
* checking for unstated dependencies in ‘tests’ ... OK
* checking tests ...
Running ‘testthat.R’
OK
* checking for unstated dependencies in vignettes ... OK
* checking package vignettes in ‘inst/doc’ ... OK
* checking running R code from vignettes ...
‘flowGraph.Rmd’ using ‘UTF-8’... OK
NONE
* checking re-building of vignette outputs ... OK
* checking PDF version of manual ... OK
* DONE
Status: 1 NOTE
See
‘/home/biocbuild/bbs-3.17-bioc/meat/flowGraph.Rcheck/00check.log’
for details.
flowGraph.Rcheck/00install.out
############################################################################## ############################################################################## ### ### Running command: ### ### /home/biocbuild/bbs-3.17-bioc/R/bin/R CMD INSTALL flowGraph ### ############################################################################## ############################################################################## * installing to library ‘/home/biocbuild/bbs-3.17-bioc/R/site-library’ * installing *source* package ‘flowGraph’ ... ** using staged installation ** R ** data ** inst ** byte-compile and prepare package for lazy loading ** help Loading required namespace: flowGraph *** installing help indices ** building package indices ** installing vignettes ** testing if installed package can be loaded from temporary location ** testing if installed package can be loaded from final location ** testing if installed package keeps a record of temporary installation path * DONE (flowGraph)
flowGraph.Rcheck/tests/testthat.Rout
R Under development (unstable) (2023-02-14 r83833) -- "Unsuffered Consequences"
Copyright (C) 2023 The R Foundation for Statistical Computing
Platform: x86_64-pc-linux-gnu (64-bit)
R is free software and comes with ABSOLUTELY NO WARRANTY.
You are welcome to redistribute it under certain conditions.
Type 'license()' or 'licence()' for distribution details.
R is a collaborative project with many contributors.
Type 'contributors()' for more information and
'citation()' on how to cite R or R packages in publications.
Type 'demo()' for some demos, 'help()' for on-line help, or
'help.start()' for an HTML browser interface to help.
Type 'q()' to quit R.
> library(testthat)
> library(flowGraph)
>
> test_check("flowGraph")
[ FAIL 0 | WARN 0 | SKIP 0 | PASS 34 ]
>
> proc.time()
user system elapsed
5.124 0.209 5.317
flowGraph.Rcheck/flowGraph-Ex.timings
| name | user | system | elapsed | |
| cell_type_layers | 0.004 | 0.000 | 0.004 | |
| fg_add_feature | 0.326 | 0.000 | 0.326 | |
| fg_add_summary | 0.782 | 0.009 | 0.790 | |
| fg_clean_phen | 0 | 0 | 0 | |
| fg_clear_features | 0.823 | 0.003 | 0.827 | |
| fg_clear_summary | 0.311 | 0.003 | 0.316 | |
| fg_extract_phenotypes | 0.243 | 0.000 | 0.243 | |
| fg_extract_raw | 0.715 | 0.011 | 0.727 | |
| fg_extract_samples | 0.253 | 0.020 | 0.274 | |
| fg_feat_cumsum | 0.238 | 0.000 | 0.238 | |
| fg_feat_edge_specenr | 0.374 | 0.003 | 0.378 | |
| fg_feat_mean_class | 0.251 | 0.000 | 0.250 | |
| fg_feat_node_prop | 0.247 | 0.001 | 0.247 | |
| fg_feat_node_specenr | 0.371 | 0.000 | 0.371 | |
| fg_feat_prop_edge | 0.273 | 0.000 | 0.273 | |
| fg_get_feature | 0.242 | 0.000 | 0.242 | |
| fg_get_feature_desc | 0.796 | 0.023 | 0.819 | |
| fg_get_feature_means | 1.138 | 0.009 | 1.146 | |
| fg_get_graph | 0.251 | 0.000 | 0.251 | |
| fg_get_markers | 0.245 | 0.000 | 0.245 | |
| fg_get_meta | 0.251 | 0.003 | 0.255 | |
| fg_get_summary | 1.619 | 0.000 | 1.620 | |
| fg_get_summary_desc | 0.780 | 0.039 | 0.820 | |
| fg_get_summary_index | 1.753 | 0.020 | 1.772 | |
| fg_get_summary_tables | 1.036 | 0.000 | 1.036 | |
| fg_gsub_ids | 0.236 | 0.000 | 0.236 | |
| fg_gsub_markers | 0.275 | 0.000 | 0.275 | |
| fg_load | 39.662 | 0.979 | 40.646 | |
| fg_merge | 0.265 | 0.000 | 0.266 | |
| fg_merge_samples | 0.276 | 0.004 | 0.280 | |
| fg_plot | 0.379 | 0.000 | 0.380 | |
| fg_plot_box | 0.580 | 0.004 | 0.583 | |
| fg_plot_pVSdiff | 0.379 | 0.004 | 0.383 | |
| fg_plot_qq | 1.356 | 0.036 | 1.392 | |
| fg_replace_meta | 0.284 | 0.000 | 0.284 | |
| fg_rm_feature | 0.845 | 0.000 | 0.845 | |
| fg_rm_summary | 0.348 | 0.000 | 0.348 | |
| fg_save | 43.488 | 0.820 | 44.311 | |
| fg_save_plots | 41.624 | 0.775 | 42.402 | |
| fg_set_layout | 0.316 | 0.008 | 0.325 | |
| fg_summary | 0.374 | 0.004 | 0.378 | |
| flowGraph-class | 0 | 0 | 0 | |
| flowGraph | 1.334 | 0.000 | 1.335 | |
| flowGraphSubset | 0 | 0 | 0 | |
| flowGraphSubset_summary_adjust | 0 | 0 | 0 | |
| flowGraphSubset_summary_pars | 0.001 | 0.000 | 0.001 | |
| get_phen_list | 0.016 | 0.000 | 0.016 | |
| get_phen_meta | 0.002 | 0.000 | 0.002 | |
| ggdf | 0.295 | 0.000 | 0.295 | |
| loop_ind_f | 0 | 0 | 0 | |
| meandiff | 0 | 0 | 0 | |
| plot_gr | 1.638 | 0.004 | 1.642 | |
| set_layout_graph | 0.386 | 0.012 | 0.398 | |
| summary_table | 0.003 | 0.000 | 0.003 | |
| time_output | 0.000 | 0.000 | 0.001 | |
| tstr | 0 | 0 | 0 | |