| Back to Multiple platform build/check report for BioC 3.17 |
|
This page was generated on 2023-04-12 10:55:24 -0400 (Wed, 12 Apr 2023).
| Hostname | OS | Arch (*) | R version | Installed pkgs |
|---|---|---|---|---|
| nebbiolo1 | Linux (Ubuntu 22.04.1 LTS) | x86_64 | 4.3.0 alpha (2023-04-03 r84154) | 4547 |
| nebbiolo2 | Linux (Ubuntu 20.04.5 LTS) | x86_64 | R Under development (unstable) (2023-02-14 r83833) -- "Unsuffered Consequences" | 4333 |
| Click on any hostname to see more info about the system (e.g. compilers) (*) as reported by 'uname -p', except on Windows and Mac OS X | ||||
|
To the developers/maintainers of the extraChIPs package: - Allow up to 24 hours (and sometimes 48 hours) for your latest push to git@git.bioconductor.org:packages/extraChIPs.git to reflect on this report. See Troubleshooting Build Report for more information. - Use the following Renviron settings to reproduce errors and warnings. Note: If "R CMD check" recently failed on the Linux builder over a missing dependency, add the missing dependency to "Suggests" in your DESCRIPTION file. See the Renviron.bioc for details. |
| Package 667/2207 | Hostname | OS / Arch | INSTALL | BUILD | CHECK | BUILD BIN | ||||||||
| extraChIPs 1.3.9 (landing page) Stephen Pederson
| nebbiolo1 | Linux (Ubuntu 22.04.1 LTS) / x86_64 | OK | OK | OK | |||||||||
| nebbiolo2 | Linux (Ubuntu 20.04.5 LTS) / x86_64 | OK | OK | OK | ||||||||||
| Package: extraChIPs |
| Version: 1.3.9 |
| Command: /home/biocbuild/bbs-3.17-bioc/R/bin/R CMD check --install=check:extraChIPs.install-out.txt --library=/home/biocbuild/bbs-3.17-bioc/R/site-library --timings extraChIPs_1.3.9.tar.gz |
| StartedAt: 2023-04-11 20:14:43 -0400 (Tue, 11 Apr 2023) |
| EndedAt: 2023-04-11 20:24:37 -0400 (Tue, 11 Apr 2023) |
| EllapsedTime: 594.1 seconds |
| RetCode: 0 |
| Status: OK |
| CheckDir: extraChIPs.Rcheck |
| Warnings: 0 |
##############################################################################
##############################################################################
###
### Running command:
###
### /home/biocbuild/bbs-3.17-bioc/R/bin/R CMD check --install=check:extraChIPs.install-out.txt --library=/home/biocbuild/bbs-3.17-bioc/R/site-library --timings extraChIPs_1.3.9.tar.gz
###
##############################################################################
##############################################################################
* using log directory ‘/home/biocbuild/bbs-3.17-bioc/meat/extraChIPs.Rcheck’
* using R version 4.3.0 alpha (2023-04-03 r84154)
* using platform: x86_64-pc-linux-gnu (64-bit)
* R was compiled by
gcc (Ubuntu 11.3.0-1ubuntu1~22.04) 11.3.0
GNU Fortran (Ubuntu 11.3.0-1ubuntu1~22.04) 11.3.0
* running under: Ubuntu 22.04.2 LTS
* using session charset: UTF-8
* checking for file ‘extraChIPs/DESCRIPTION’ ... OK
* this is package ‘extraChIPs’ version ‘1.3.9’
* package encoding: UTF-8
* checking package namespace information ... OK
* checking package dependencies ... OK
* checking if this is a source package ... OK
* checking if there is a namespace ... OK
* checking for hidden files and directories ... NOTE
Found the following hidden files and directories:
.BBSoptions
These were most likely included in error. See section ‘Package
structure’ in the ‘Writing R Extensions’ manual.
* checking for portable file names ... OK
* checking for sufficient/correct file permissions ... OK
* checking whether package ‘extraChIPs’ can be installed ... OK
* used C compiler: ‘gcc (Ubuntu 11.3.0-1ubuntu1~22.04) 11.3.0’
* checking installed package size ... OK
* checking package directory ... OK
* checking ‘build’ directory ... OK
* checking DESCRIPTION meta-information ... OK
* checking top-level files ... OK
* checking for left-over files ... OK
* checking index information ... OK
* checking package subdirectories ... OK
* checking R files for non-ASCII characters ... OK
* checking R files for syntax errors ... OK
* checking whether the package can be loaded ... OK
* checking whether the package can be loaded with stated dependencies ... OK
* checking whether the package can be unloaded cleanly ... OK
* checking whether the namespace can be loaded with stated dependencies ... OK
* checking whether the namespace can be unloaded cleanly ... OK
* checking loading without being on the library search path ... OK
* checking dependencies in R code ... OK
* checking S3 generic/method consistency ... OK
* checking replacement functions ... OK
* checking foreign function calls ... OK
* checking R code for possible problems ... OK
* checking Rd files ... OK
* checking Rd metadata ... OK
* checking Rd cross-references ... OK
* checking for missing documentation entries ... OK
* checking for code/documentation mismatches ... OK
* checking Rd \usage sections ... OK
* checking Rd contents ... OK
* checking for unstated dependencies in examples ... OK
* checking contents of ‘data’ directory ... OK
* checking data for non-ASCII characters ... OK
* checking data for ASCII and uncompressed saves ... OK
* checking line endings in C/C++/Fortran sources/headers ... OK
* checking compiled code ... NOTE
Note: information on .o files is not available
* checking files in ‘vignettes’ ... OK
* checking examples ... OK
* checking for unstated dependencies in ‘tests’ ... OK
* checking tests ...
Running ‘testthat.R’
OK
* checking for unstated dependencies in vignettes ... OK
* checking package vignettes in ‘inst/doc’ ... OK
* checking running R code from vignettes ...
‘differential_binding.Rmd’ using ‘UTF-8’... OK
‘range_based_functions.Rmd’ using ‘UTF-8’... OK
NONE
* checking re-building of vignette outputs ... OK
* checking PDF version of manual ... OK
* DONE
Status: 2 NOTEs
See
‘/home/biocbuild/bbs-3.17-bioc/meat/extraChIPs.Rcheck/00check.log’
for details.
extraChIPs.Rcheck/00install.out
##############################################################################
##############################################################################
###
### Running command:
###
### /home/biocbuild/bbs-3.17-bioc/R/bin/R CMD INSTALL extraChIPs
###
##############################################################################
##############################################################################
* installing to library ‘/home/biocbuild/bbs-3.17-bioc/R/site-library’
* installing *source* package ‘extraChIPs’ ...
** using staged installation
** libs
using C compiler: ‘gcc (Ubuntu 11.3.0-1ubuntu1~22.04) 11.3.0’
gcc -I"/home/biocbuild/bbs-3.17-bioc/R/include" -DNDEBUG -I/usr/local/include -fpic -g -O2 -Wall -c FMStable.c -o FMStable.o
FMStable.c: In function ‘tailsMSS’:
FMStable.c:4987:21: warning: variable ‘temp’ set but not used [-Wunused-but-set-variable]
4987 | double z,y,dy,t,temp,scale;
| ^~~~
gcc -I"/home/biocbuild/bbs-3.17-bioc/R/include" -DNDEBUG -I/usr/local/include -fpic -g -O2 -Wall -c init.c -o init.o
gcc -shared -L/home/biocbuild/bbs-3.17-bioc/R/lib -L/usr/local/lib -o extraChIPs.so FMStable.o init.o -L/home/biocbuild/bbs-3.17-bioc/R/lib -lR
installing to /home/biocbuild/bbs-3.17-bioc/R/site-library/00LOCK-extraChIPs/00new/extraChIPs/libs
** R
** data
** inst
** byte-compile and prepare package for lazy loading
** help
*** installing help indices
*** copying figures
** building package indices
** installing vignettes
** testing if installed package can be loaded from temporary location
** checking absolute paths in shared objects and dynamic libraries
** testing if installed package can be loaded from final location
** testing if installed package keeps a record of temporary installation path
* DONE (extraChIPs)
extraChIPs.Rcheck/tests/testthat.Rout
R version 4.3.0 alpha (2023-04-03 r84154)
Copyright (C) 2023 The R Foundation for Statistical Computing
Platform: x86_64-pc-linux-gnu (64-bit)
R is free software and comes with ABSOLUTELY NO WARRANTY.
You are welcome to redistribute it under certain conditions.
Type 'license()' or 'licence()' for distribution details.
R is a collaborative project with many contributors.
Type 'contributors()' for more information and
'citation()' on how to cite R or R packages in publications.
Type 'demo()' for some demos, 'help()' for on-line help, or
'help.start()' for an HTML browser interface to help.
Type 'q()' to quit R.
> library(testthat)
> library(extraChIPs)
Loading required package: BiocParallel
Loading required package: GenomicRanges
Loading required package: stats4
Loading required package: BiocGenerics
Attaching package: 'BiocGenerics'
The following objects are masked from 'package:stats':
IQR, mad, sd, var, xtabs
The following objects are masked from 'package:base':
Filter, Find, Map, Position, Reduce, anyDuplicated, aperm, append,
as.data.frame, basename, cbind, colnames, dirname, do.call,
duplicated, eval, evalq, get, grep, grepl, intersect, is.unsorted,
lapply, mapply, match, mget, order, paste, pmax, pmax.int, pmin,
pmin.int, rank, rbind, rownames, sapply, setdiff, sort, table,
tapply, union, unique, unsplit, which.max, which.min
Loading required package: S4Vectors
Attaching package: 'S4Vectors'
The following objects are masked from 'package:base':
I, expand.grid, unname
Loading required package: IRanges
Loading required package: GenomeInfoDb
Loading required package: ggplot2
Loading required package: SummarizedExperiment
Loading required package: MatrixGenerics
Loading required package: matrixStats
Attaching package: 'MatrixGenerics'
The following objects are masked from 'package:matrixStats':
colAlls, colAnyNAs, colAnys, colAvgsPerRowSet, colCollapse,
colCounts, colCummaxs, colCummins, colCumprods, colCumsums,
colDiffs, colIQRDiffs, colIQRs, colLogSumExps, colMadDiffs,
colMads, colMaxs, colMeans2, colMedians, colMins, colOrderStats,
colProds, colQuantiles, colRanges, colRanks, colSdDiffs, colSds,
colSums2, colTabulates, colVarDiffs, colVars, colWeightedMads,
colWeightedMeans, colWeightedMedians, colWeightedSds,
colWeightedVars, rowAlls, rowAnyNAs, rowAnys, rowAvgsPerColSet,
rowCollapse, rowCounts, rowCummaxs, rowCummins, rowCumprods,
rowCumsums, rowDiffs, rowIQRDiffs, rowIQRs, rowLogSumExps,
rowMadDiffs, rowMads, rowMaxs, rowMeans2, rowMedians, rowMins,
rowOrderStats, rowProds, rowQuantiles, rowRanges, rowRanks,
rowSdDiffs, rowSds, rowSums2, rowTabulates, rowVarDiffs, rowVars,
rowWeightedMads, rowWeightedMeans, rowWeightedMedians,
rowWeightedSds, rowWeightedVars
Loading required package: Biobase
Welcome to Bioconductor
Vignettes contain introductory material; view with
'browseVignettes()'. To cite Bioconductor, see
'citation("Biobase")', and for packages 'citation("pkgname")'.
Attaching package: 'Biobase'
The following object is masked from 'package:MatrixGenerics':
rowMedians
The following objects are masked from 'package:matrixStats':
anyMissing, rowMedians
Loading required package: tibble
>
> test_check("extraChIPs")
[ FAIL 0 | WARN 0 | SKIP 0 | PASS 509 ]
>
> proc.time()
user system elapsed
55.177 1.626 56.799
extraChIPs.Rcheck/extraChIPs-Ex.timings
| name | user | system | elapsed | |
| as_tibble | 0.749 | 0.060 | 0.808 | |
| bestOverlap-methods | 0.983 | 0.056 | 1.040 | |
| chopMC | 1.426 | 0.084 | 1.510 | |
| colToRanges-methods | 0.212 | 0.024 | 0.236 | |
| collapseGenes | 0.003 | 0.000 | 0.004 | |
| cytobands | 0.012 | 0.000 | 0.013 | |
| distinctMC | 0.347 | 0.000 | 0.348 | |
| dualFilter | 0 | 0 | 0 | |
| ex_datasets | 0.017 | 0.004 | 0.021 | |
| fitAssayDiff-methods | 0.233 | 0.004 | 0.237 | |
| getProfileData-methods | 1.614 | 0.033 | 1.646 | |
| grlToSE-methods | 0.467 | 0.000 | 0.468 | |
| importPeaks | 0.131 | 0.000 | 0.132 | |
| makeConsensus | 1.039 | 0.020 | 1.058 | |
| mapByFeature | 0.650 | 0.004 | 0.654 | |
| mergeByCol-methods | 0.313 | 0.000 | 0.312 | |
| mergeByHMP-methods | 0.386 | 0.000 | 0.386 | |
| mergeBySig-methods | 0.433 | 0.008 | 0.440 | |
| partitionRanges-methods | 1.051 | 0.020 | 1.071 | |
| plotAssayDensities-methods | 0.576 | 0.008 | 0.585 | |
| plotAssayHeatmap-methods | 0.356 | 0.004 | 0.360 | |
| plotAssayPCA-methods | 0.478 | 0.012 | 0.491 | |
| plotAssayRle-methods | 0.540 | 0.024 | 0.564 | |
| plotHFGC | 0 | 0 | 0 | |
| plotOverlaps-methods | 2.633 | 0.044 | 2.677 | |
| plotPie-methods | 1.460 | 0.008 | 1.468 | |
| plotProfileHeatmap-methods | 0 | 0 | 0 | |
| plotSplitDonut-methods | 1.074 | 0.056 | 1.130 | |
| propOverlap-methods | 0.269 | 0.000 | 0.270 | |
| reduceMC | 0.293 | 0.000 | 0.294 | |
| setoptsMC-methods | 0.89 | 0.00 | 0.89 | |
| stitchRanges | 0.297 | 0.004 | 0.301 | |
| voomWeightsFromCPM | 0.215 | 0.000 | 0.215 | |