| Back to Multiple platform build/check report for BioC 3.17 |
|
This page was generated on 2023-04-12 10:55:36 -0400 (Wed, 12 Apr 2023).
| Hostname | OS | Arch (*) | R version | Installed pkgs |
|---|---|---|---|---|
| nebbiolo1 | Linux (Ubuntu 22.04.1 LTS) | x86_64 | 4.3.0 alpha (2023-04-03 r84154) | 4547 |
| nebbiolo2 | Linux (Ubuntu 20.04.5 LTS) | x86_64 | R Under development (unstable) (2023-02-14 r83833) -- "Unsuffered Consequences" | 4333 |
| Click on any hostname to see more info about the system (e.g. compilers) (*) as reported by 'uname -p', except on Windows and Mac OS X | ||||
|
To the developers/maintainers of the drugTargetInteractions package: - Allow up to 24 hours (and sometimes 48 hours) for your latest push to git@git.bioconductor.org:packages/drugTargetInteractions.git to reflect on this report. See Troubleshooting Build Report for more information. - Use the following Renviron settings to reproduce errors and warnings. Note: If "R CMD check" recently failed on the Linux builder over a missing dependency, add the missing dependency to "Suggests" in your DESCRIPTION file. See the Renviron.bioc for details. |
| Package 587/2207 | Hostname | OS / Arch | INSTALL | BUILD | CHECK | BUILD BIN | ||||||||
| drugTargetInteractions 1.7.0 (landing page) Thomas Girke
| nebbiolo1 | Linux (Ubuntu 22.04.1 LTS) / x86_64 | OK | OK | OK | |||||||||
| nebbiolo2 | Linux (Ubuntu 20.04.5 LTS) / x86_64 | OK | OK | OK | ||||||||||
| Package: drugTargetInteractions |
| Version: 1.7.0 |
| Command: /home/biocbuild/bbs-3.17-bioc/R/bin/R CMD check --install=check:drugTargetInteractions.install-out.txt --library=/home/biocbuild/bbs-3.17-bioc/R/site-library --timings drugTargetInteractions_1.7.0.tar.gz |
| StartedAt: 2023-04-12 06:01:07 -0400 (Wed, 12 Apr 2023) |
| EndedAt: 2023-04-12 06:08:28 -0400 (Wed, 12 Apr 2023) |
| EllapsedTime: 440.3 seconds |
| RetCode: 0 |
| Status: OK |
| CheckDir: drugTargetInteractions.Rcheck |
| Warnings: 0 |
##############################################################################
##############################################################################
###
### Running command:
###
### /home/biocbuild/bbs-3.17-bioc/R/bin/R CMD check --install=check:drugTargetInteractions.install-out.txt --library=/home/biocbuild/bbs-3.17-bioc/R/site-library --timings drugTargetInteractions_1.7.0.tar.gz
###
##############################################################################
##############################################################################
* using log directory ‘/home/biocbuild/bbs-3.17-bioc/meat/drugTargetInteractions.Rcheck’
* using R Under development (unstable) (2023-02-14 r83833)
* using platform: x86_64-pc-linux-gnu (64-bit)
* R was compiled by
gcc (Ubuntu 9.4.0-1ubuntu1~20.04.1) 9.4.0
GNU Fortran (Ubuntu 9.4.0-1ubuntu1~20.04.1) 9.4.0
* running under: Ubuntu 20.04.6 LTS
* using session charset: UTF-8
* checking for file ‘drugTargetInteractions/DESCRIPTION’ ... OK
* checking extension type ... Package
* this is package ‘drugTargetInteractions’ version ‘1.7.0’
* checking package namespace information ... OK
* checking package dependencies ... OK
* checking if this is a source package ... OK
* checking if there is a namespace ... OK
* checking for hidden files and directories ... OK
* checking for portable file names ... OK
* checking for sufficient/correct file permissions ... OK
* checking whether package ‘drugTargetInteractions’ can be installed ... OK
* checking installed package size ... OK
* checking package directory ... OK
* checking ‘build’ directory ... OK
* checking DESCRIPTION meta-information ... OK
* checking top-level files ... OK
* checking for left-over files ... OK
* checking index information ... OK
* checking package subdirectories ... OK
* checking R files for non-ASCII characters ... OK
* checking R files for syntax errors ... OK
* checking whether the package can be loaded ... OK
* checking whether the package can be loaded with stated dependencies ... OK
* checking whether the package can be unloaded cleanly ... OK
* checking whether the namespace can be loaded with stated dependencies ... OK
* checking whether the namespace can be unloaded cleanly ... OK
* checking loading without being on the library search path ... OK
* checking dependencies in R code ... OK
* checking S3 generic/method consistency ... OK
* checking replacement functions ... OK
* checking foreign function calls ... OK
* checking R code for possible problems ... NOTE
.getCacheFile: no visible binding for global variable 'create_time'
getParalogs: no visible global function definition for 'setNames'
Undefined global functions or variables:
create_time setNames
Consider adding
importFrom("stats", "setNames")
to your NAMESPACE file.
* checking Rd files ... OK
* checking Rd metadata ... OK
* checking Rd cross-references ... OK
* checking for missing documentation entries ... OK
* checking for code/documentation mismatches ... OK
* checking Rd \usage sections ... OK
* checking Rd contents ... OK
* checking for unstated dependencies in examples ... OK
* checking files in ‘vignettes’ ... OK
* checking examples ... OK
Examples with CPU (user + system) or elapsed time > 5s
user system elapsed
drugTargetAnnotTable 48.578 1.380 49.967
processDrugage 37.584 0.472 38.850
transformTTD 3.948 0.076 9.420
* checking for unstated dependencies in vignettes ... OK
* checking package vignettes in ‘inst/doc’ ... OK
* checking running R code from vignettes ...
‘drugTargetInteractions.Rmd’ using ‘UTF-8’... OK
NONE
* checking re-building of vignette outputs ... OK
* checking PDF version of manual ... OK
* DONE
Status: 1 NOTE
See
‘/home/biocbuild/bbs-3.17-bioc/meat/drugTargetInteractions.Rcheck/00check.log’
for details.
drugTargetInteractions.Rcheck/00install.out
############################################################################## ############################################################################## ### ### Running command: ### ### /home/biocbuild/bbs-3.17-bioc/R/bin/R CMD INSTALL drugTargetInteractions ### ############################################################################## ############################################################################## * installing to library ‘/home/biocbuild/bbs-3.17-bioc/R/site-library’ * installing *source* package ‘drugTargetInteractions’ ... ** using staged installation ** R ** inst ** byte-compile and prepare package for lazy loading ** help *** installing help indices ** building package indices ** installing vignettes ** testing if installed package can be loaded from temporary location ** testing if installed package can be loaded from final location ** testing if installed package keeps a record of temporary installation path * DONE (drugTargetInteractions)
drugTargetInteractions.Rcheck/drugTargetInteractions-Ex.timings
| name | user | system | elapsed | |
| cmpIdMapping | 0.000 | 0.000 | 0.001 | |
| downloadChemblDb | 0.001 | 0.000 | 0.000 | |
| downloadUniChem | 0.884 | 0.088 | 1.828 | |
| drugTargetAnnot | 0.019 | 0.000 | 0.021 | |
| drugTargetAnnotTable | 48.578 | 1.380 | 49.967 | |
| drugTargetBioactivity | 0.084 | 0.004 | 0.088 | |
| genConfig | 0 | 0 | 0 | |
| getDrugTarget | 0.017 | 0.000 | 0.018 | |
| getParalogs | 0 | 0 | 0 | |
| getSymEnsUp | 1.006 | 0.076 | 1.084 | |
| getUniprotIDs | 0 | 0 | 0 | |
| processDrugage | 37.584 | 0.472 | 38.850 | |
| runDrugTarget_Annot_Bioassay | 0.335 | 0.012 | 0.347 | |
| transformTTD | 3.948 | 0.076 | 9.420 | |