| Back to Multiple platform build/check report for BioC 3.17 |
|
This page was generated on 2023-04-12 10:55:36 -0400 (Wed, 12 Apr 2023).
| Hostname | OS | Arch (*) | R version | Installed pkgs |
|---|---|---|---|---|
| nebbiolo1 | Linux (Ubuntu 22.04.1 LTS) | x86_64 | 4.3.0 alpha (2023-04-03 r84154) | 4547 |
| nebbiolo2 | Linux (Ubuntu 20.04.5 LTS) | x86_64 | R Under development (unstable) (2023-02-14 r83833) -- "Unsuffered Consequences" | 4333 |
| Click on any hostname to see more info about the system (e.g. compilers) (*) as reported by 'uname -p', except on Windows and Mac OS X | ||||
|
To the developers/maintainers of the doubletrouble package: - Allow up to 24 hours (and sometimes 48 hours) for your latest push to git@git.bioconductor.org:packages/doubletrouble.git to reflect on this report. See Troubleshooting Build Report for more information. - Use the following Renviron settings to reproduce errors and warnings. Note: If "R CMD check" recently failed on the Linux builder over a missing dependency, add the missing dependency to "Suggests" in your DESCRIPTION file. See the Renviron.bioc for details. |
| Package 581/2207 | Hostname | OS / Arch | INSTALL | BUILD | CHECK | BUILD BIN | ||||||||
| doubletrouble 0.99.2 (landing page) Fabrício Almeida-Silva
| nebbiolo1 | Linux (Ubuntu 22.04.1 LTS) / x86_64 | OK | OK | OK | |||||||||
| nebbiolo2 | Linux (Ubuntu 20.04.5 LTS) / x86_64 | OK | OK | OK | ||||||||||
| Package: doubletrouble |
| Version: 0.99.2 |
| Command: /home/biocbuild/bbs-3.17-bioc/R/bin/R CMD check --install=check:doubletrouble.install-out.txt --library=/home/biocbuild/bbs-3.17-bioc/R/site-library --timings doubletrouble_0.99.2.tar.gz |
| StartedAt: 2023-04-12 05:58:58 -0400 (Wed, 12 Apr 2023) |
| EndedAt: 2023-04-12 06:04:26 -0400 (Wed, 12 Apr 2023) |
| EllapsedTime: 327.9 seconds |
| RetCode: 0 |
| Status: OK |
| CheckDir: doubletrouble.Rcheck |
| Warnings: 0 |
##############################################################################
##############################################################################
###
### Running command:
###
### /home/biocbuild/bbs-3.17-bioc/R/bin/R CMD check --install=check:doubletrouble.install-out.txt --library=/home/biocbuild/bbs-3.17-bioc/R/site-library --timings doubletrouble_0.99.2.tar.gz
###
##############################################################################
##############################################################################
* using log directory ‘/home/biocbuild/bbs-3.17-bioc/meat/doubletrouble.Rcheck’
* using R Under development (unstable) (2023-02-14 r83833)
* using platform: x86_64-pc-linux-gnu (64-bit)
* R was compiled by
gcc (Ubuntu 9.4.0-1ubuntu1~20.04.1) 9.4.0
GNU Fortran (Ubuntu 9.4.0-1ubuntu1~20.04.1) 9.4.0
* running under: Ubuntu 20.04.6 LTS
* using session charset: UTF-8
* checking for file ‘doubletrouble/DESCRIPTION’ ... OK
* this is package ‘doubletrouble’ version ‘0.99.2’
* package encoding: UTF-8
* checking package namespace information ... OK
* checking package dependencies ... OK
* checking if this is a source package ... OK
* checking if there is a namespace ... OK
* checking for hidden files and directories ... OK
* checking for portable file names ... OK
* checking for sufficient/correct file permissions ... OK
* checking whether package ‘doubletrouble’ can be installed ... OK
* checking installed package size ... OK
* checking package directory ... OK
* checking ‘build’ directory ... OK
* checking DESCRIPTION meta-information ... OK
* checking top-level files ... OK
* checking for left-over files ... OK
* checking index information ... OK
* checking package subdirectories ... OK
* checking R files for non-ASCII characters ... OK
* checking R files for syntax errors ... OK
* checking whether the package can be loaded ... OK
* checking whether the package can be loaded with stated dependencies ... OK
* checking whether the package can be unloaded cleanly ... OK
* checking whether the namespace can be loaded with stated dependencies ... OK
* checking whether the namespace can be unloaded cleanly ... OK
* checking loading without being on the library search path ... OK
* checking dependencies in R code ... OK
* checking S3 generic/method consistency ... OK
* checking replacement functions ... OK
* checking foreign function calls ... OK
* checking R code for possible problems ... OK
* checking Rd files ... OK
* checking Rd metadata ... OK
* checking Rd cross-references ... OK
* checking for missing documentation entries ... OK
* checking for code/documentation mismatches ... OK
* checking Rd \usage sections ... OK
* checking Rd contents ... OK
* checking for unstated dependencies in examples ... OK
* checking contents of ‘data’ directory ... OK
* checking data for non-ASCII characters ... OK
* checking data for ASCII and uncompressed saves ... OK
* checking files in ‘vignettes’ ... OK
* checking examples ... OK
Examples with CPU (user + system) or elapsed time > 5s
user system elapsed
pairs2kaks 4.047 1.147 5.911
* checking for unstated dependencies in ‘tests’ ... OK
* checking tests ...
Running ‘testthat.R’
OK
* checking for unstated dependencies in vignettes ... OK
* checking package vignettes in ‘inst/doc’ ... OK
* checking running R code from vignettes ...
‘doubletrouble_vignette.Rmd’ using ‘UTF-8’... OK
NONE
* checking re-building of vignette outputs ... OK
* checking PDF version of manual ... OK
* DONE
Status: OK
doubletrouble.Rcheck/00install.out
############################################################################## ############################################################################## ### ### Running command: ### ### /home/biocbuild/bbs-3.17-bioc/R/bin/R CMD INSTALL doubletrouble ### ############################################################################## ############################################################################## * installing to library ‘/home/biocbuild/bbs-3.17-bioc/R/site-library’ * installing *source* package ‘doubletrouble’ ... ** using staged installation ** R ** data ** inst ** byte-compile and prepare package for lazy loading ** help *** installing help indices *** copying figures ** building package indices ** installing vignettes ** testing if installed package can be loaded from temporary location ** testing if installed package can be loaded from final location ** testing if installed package keeps a record of temporary installation path * DONE (doubletrouble)
doubletrouble.Rcheck/tests/testthat.Rout
R Under development (unstable) (2023-02-14 r83833) -- "Unsuffered Consequences"
Copyright (C) 2023 The R Foundation for Statistical Computing
Platform: x86_64-pc-linux-gnu (64-bit)
R is free software and comes with ABSOLUTELY NO WARRANTY.
You are welcome to redistribute it under certain conditions.
Type 'license()' or 'licence()' for distribution details.
R is a collaborative project with many contributors.
Type 'contributors()' for more information and
'citation()' on how to cite R or R packages in publications.
Type 'demo()' for some demos, 'help()' for on-line help, or
'help.start()' for an HTML browser interface to help.
Type 'q()' to quit R.
> # This file is part of the standard setup for testthat.
> # It is recommended that you do not modify it.
> #
> # Where should you do additional test configuration?
> # Learn more about the roles of various files in:
> # * https://r-pkgs.org/tests.html
> # * https://testthat.r-lib.org/reference/test_package.html#special-files
>
> library(testthat)
> library(doubletrouble)
>
> test_check("doubletrouble")
CDS length is not a multiple of 3 for pair YGR032W, YLR342W
Bayesian Information Criterion (BIC):
E V
1 -5588.359 -5588.359
2 -4806.157 -4294.228
Top 3 models based on the BIC criterion:
V,2 E,2 E,1
-4294.228 -4806.157 -5588.359
[ FAIL 0 | WARN 16 | SKIP 0 | PASS 49 ]
[ FAIL 0 | WARN 16 | SKIP 0 | PASS 49 ]
>
> proc.time()
user system elapsed
22.958 2.489 25.228
doubletrouble.Rcheck/doubletrouble-Ex.timings
| name | user | system | elapsed | |
| cds_scerevisiae | 0.043 | 0.004 | 0.047 | |
| classify_gene_pairs | 3.293 | 0.280 | 3.572 | |
| classify_genes | 0.961 | 0.020 | 0.981 | |
| classify_ssd_pairs | 2.127 | 0.096 | 2.223 | |
| diamond_inter | 0.036 | 0.000 | 0.036 | |
| diamond_intra | 0.035 | 0.004 | 0.038 | |
| find_ks_peaks | 0.090 | 0.004 | 0.094 | |
| get_anchors_list | 0.612 | 0.028 | 0.640 | |
| get_transposed | 1.218 | 0.052 | 1.269 | |
| get_wgd_pairs | 0.604 | 0.008 | 0.611 | |
| gmax_ks | 0.185 | 0.004 | 0.188 | |
| pairs2kaks | 4.047 | 1.147 | 5.911 | |
| plot_ks_peaks | 1.221 | 0.342 | 0.594 | |
| scerevisiae_kaks | 0.010 | 0.004 | 0.013 | |
| split_pairs_by_peak | 0.316 | 0.044 | 0.360 | |
| yeast_annot | 0.02 | 0.00 | 0.02 | |
| yeast_seq | 0.282 | 0.024 | 0.305 | |