| Back to Multiple platform build/check report for BioC 3.17 |
|
This page was generated on 2023-04-12 10:55:35 -0400 (Wed, 12 Apr 2023).
| Hostname | OS | Arch (*) | R version | Installed pkgs |
|---|---|---|---|---|
| nebbiolo1 | Linux (Ubuntu 22.04.1 LTS) | x86_64 | 4.3.0 alpha (2023-04-03 r84154) | 4547 |
| nebbiolo2 | Linux (Ubuntu 20.04.5 LTS) | x86_64 | R Under development (unstable) (2023-02-14 r83833) -- "Unsuffered Consequences" | 4333 |
| Click on any hostname to see more info about the system (e.g. compilers) (*) as reported by 'uname -p', except on Windows and Mac OS X | ||||
|
To the developers/maintainers of the distinct package: - Allow up to 24 hours (and sometimes 48 hours) for your latest push to git@git.bioconductor.org:packages/distinct.git to reflect on this report. See Troubleshooting Build Report for more information. - Use the following Renviron settings to reproduce errors and warnings. Note: If "R CMD check" recently failed on the Linux builder over a missing dependency, add the missing dependency to "Suggests" in your DESCRIPTION file. See the Renviron.bioc for details. |
| Package 560/2207 | Hostname | OS / Arch | INSTALL | BUILD | CHECK | BUILD BIN | ||||||||
| distinct 1.11.0 (landing page) Simone Tiberi
| nebbiolo1 | Linux (Ubuntu 22.04.1 LTS) / x86_64 | OK | OK | ERROR | |||||||||
| nebbiolo2 | Linux (Ubuntu 20.04.5 LTS) / x86_64 | OK | OK | ERROR | ||||||||||
| Package: distinct |
| Version: 1.11.0 |
| Command: /home/biocbuild/bbs-3.17-bioc/R/bin/R CMD INSTALL distinct |
| StartedAt: 2023-04-12 02:01:01 -0400 (Wed, 12 Apr 2023) |
| EndedAt: 2023-04-12 02:03:09 -0400 (Wed, 12 Apr 2023) |
| EllapsedTime: 128.0 seconds |
| RetCode: 0 |
| Status: OK |
##############################################################################
##############################################################################
###
### Running command:
###
### /home/biocbuild/bbs-3.17-bioc/R/bin/R CMD INSTALL distinct
###
##############################################################################
##############################################################################
* installing to library ‘/home/biocbuild/bbs-3.17-bioc/R/site-library’
* installing *source* package ‘distinct’ ...
** using staged installation
** libs
using C++ compiler: ‘g++ (Ubuntu 9.4.0-1ubuntu1~20.04.1) 9.4.0’
using C++11
g++ -std=gnu++11 -I"/home/biocbuild/bbs-3.17-bioc/R/include" -DNDEBUG -I'/home/biocbuild/bbs-3.17-bioc/R/site-library/Rcpp/include' -I'/home/biocbuild/bbs-3.17-bioc/R/site-library/RcppArmadillo/include' -I'/home/biocbuild/bbs-3.17-bioc/R/site-library/Rfast/include' -I/usr/local/include -fpic -g -O2 -Wall -c Perm.cpp -o Perm.o
g++ -std=gnu++11 -I"/home/biocbuild/bbs-3.17-bioc/R/include" -DNDEBUG -I'/home/biocbuild/bbs-3.17-bioc/R/site-library/Rcpp/include' -I'/home/biocbuild/bbs-3.17-bioc/R/site-library/RcppArmadillo/include' -I'/home/biocbuild/bbs-3.17-bioc/R/site-library/Rfast/include' -I/usr/local/include -fpic -g -O2 -Wall -c Perm_covariates.cpp -o Perm_covariates.o
In file included from /home/biocbuild/bbs-3.17-bioc/R/site-library/Rfast/include/Rfast.h:5,
from Perm_covariates.cpp:2:
/home/biocbuild/bbs-3.17-bioc/R/site-library/Rfast/include/Rfast/matrix.hpp:553: warning: ignoring #pragma omp parallel [-Wunknown-pragmas]
553 | #pragma omp parallel for
|
/home/biocbuild/bbs-3.17-bioc/R/site-library/Rfast/include/Rfast/matrix.hpp:569: warning: ignoring #pragma omp parallel [-Wunknown-pragmas]
569 | #pragma omp parallel for
|
/home/biocbuild/bbs-3.17-bioc/R/site-library/Rfast/include/Rfast/matrix.hpp:573: warning: ignoring #pragma omp critical [-Wunknown-pragmas]
573 | #pragma omp critical
|
/home/biocbuild/bbs-3.17-bioc/R/site-library/Rfast/include/Rfast/matrix.hpp:633: warning: ignoring #pragma omp parallel [-Wunknown-pragmas]
633 | #pragma omp parallel for
|
/home/biocbuild/bbs-3.17-bioc/R/site-library/Rfast/include/Rfast/matrix.hpp:650: warning: ignoring #pragma omp parallel [-Wunknown-pragmas]
650 | #pragma omp parallel for
|
/home/biocbuild/bbs-3.17-bioc/R/site-library/Rfast/include/Rfast/matrix.hpp:668: warning: ignoring #pragma omp parallel [-Wunknown-pragmas]
668 | #pragma omp parallel for
|
/home/biocbuild/bbs-3.17-bioc/R/site-library/Rfast/include/Rfast/matrix.hpp:683: warning: ignoring #pragma omp parallel [-Wunknown-pragmas]
683 | #pragma omp parallel for
|
/home/biocbuild/bbs-3.17-bioc/R/site-library/Rfast/include/Rfast/matrix.hpp:698: warning: ignoring #pragma omp parallel [-Wunknown-pragmas]
698 | #pragma omp parallel for
|
Perm_covariates.cpp: In function ‘arma::vec my_rint_reg(const mat&, const vec&, Rcpp::IntegerVector, const unsigned int&, const unsigned int&, const double&, const unsigned int&)’:
Perm_covariates.cpp:189:16: warning: comparison of integer expressions of different signedness: ‘int’ and ‘const unsigned int’ [-Wsign-compare]
189 | for(int i=0;i<p;i++)
| ~^~
Perm_covariates.cpp:210:12: warning: comparison of integer expressions of different signedness: ‘int’ and ‘const unsigned int’ [-Wsign-compare]
210 | while(i++<maxiters && sum(abs(b2-b1.col(0))) > tol) {
| ~~~^~~~~~~~~
g++ -std=gnu++11 -I"/home/biocbuild/bbs-3.17-bioc/R/include" -DNDEBUG -I'/home/biocbuild/bbs-3.17-bioc/R/site-library/Rcpp/include' -I'/home/biocbuild/bbs-3.17-bioc/R/site-library/RcppArmadillo/include' -I'/home/biocbuild/bbs-3.17-bioc/R/site-library/Rfast/include' -I/usr/local/include -fpic -g -O2 -Wall -c Perm_covariates_parallel.cpp -o Perm_covariates_parallel.o
In file included from /home/biocbuild/bbs-3.17-bioc/R/site-library/Rfast/include/Rfast.h:5,
from Perm_covariates_parallel.cpp:2:
/home/biocbuild/bbs-3.17-bioc/R/site-library/Rfast/include/Rfast/matrix.hpp:553: warning: ignoring #pragma omp parallel [-Wunknown-pragmas]
553 | #pragma omp parallel for
|
/home/biocbuild/bbs-3.17-bioc/R/site-library/Rfast/include/Rfast/matrix.hpp:569: warning: ignoring #pragma omp parallel [-Wunknown-pragmas]
569 | #pragma omp parallel for
|
/home/biocbuild/bbs-3.17-bioc/R/site-library/Rfast/include/Rfast/matrix.hpp:573: warning: ignoring #pragma omp critical [-Wunknown-pragmas]
573 | #pragma omp critical
|
/home/biocbuild/bbs-3.17-bioc/R/site-library/Rfast/include/Rfast/matrix.hpp:633: warning: ignoring #pragma omp parallel [-Wunknown-pragmas]
633 | #pragma omp parallel for
|
/home/biocbuild/bbs-3.17-bioc/R/site-library/Rfast/include/Rfast/matrix.hpp:650: warning: ignoring #pragma omp parallel [-Wunknown-pragmas]
650 | #pragma omp parallel for
|
/home/biocbuild/bbs-3.17-bioc/R/site-library/Rfast/include/Rfast/matrix.hpp:668: warning: ignoring #pragma omp parallel [-Wunknown-pragmas]
668 | #pragma omp parallel for
|
/home/biocbuild/bbs-3.17-bioc/R/site-library/Rfast/include/Rfast/matrix.hpp:683: warning: ignoring #pragma omp parallel [-Wunknown-pragmas]
683 | #pragma omp parallel for
|
/home/biocbuild/bbs-3.17-bioc/R/site-library/Rfast/include/Rfast/matrix.hpp:698: warning: ignoring #pragma omp parallel [-Wunknown-pragmas]
698 | #pragma omp parallel for
|
Perm_covariates_parallel.cpp: In function ‘arma::vec my_rint_reg_parallel(const mat&, const vec&, Rcpp::IntegerVector, const unsigned int&, const unsigned int&, const double&, const unsigned int&)’:
Perm_covariates_parallel.cpp:189:16: warning: comparison of integer expressions of different signedness: ‘int’ and ‘const unsigned int’ [-Wsign-compare]
189 | for(int i=0;i<p;i++)
| ~^~
Perm_covariates_parallel.cpp:210:12: warning: comparison of integer expressions of different signedness: ‘int’ and ‘const unsigned int’ [-Wsign-compare]
210 | while(i++<maxiters && sum(abs(b2-b1.col(0))) > tol) {
| ~~~^~~~~~~~~
g++ -std=gnu++11 -I"/home/biocbuild/bbs-3.17-bioc/R/include" -DNDEBUG -I'/home/biocbuild/bbs-3.17-bioc/R/site-library/Rcpp/include' -I'/home/biocbuild/bbs-3.17-bioc/R/site-library/RcppArmadillo/include' -I'/home/biocbuild/bbs-3.17-bioc/R/site-library/Rfast/include' -I/usr/local/include -fpic -g -O2 -Wall -c Perm_parallel.cpp -o Perm_parallel.o
g++ -std=gnu++11 -I"/home/biocbuild/bbs-3.17-bioc/R/include" -DNDEBUG -I'/home/biocbuild/bbs-3.17-bioc/R/site-library/Rcpp/include' -I'/home/biocbuild/bbs-3.17-bioc/R/site-library/RcppArmadillo/include' -I'/home/biocbuild/bbs-3.17-bioc/R/site-library/Rfast/include' -I/usr/local/include -fpic -g -O2 -Wall -c RcppExports.cpp -o RcppExports.o
g++ -std=gnu++11 -shared -L/home/biocbuild/bbs-3.17-bioc/R/lib -L/usr/local/lib -o distinct.so Perm.o Perm_covariates.o Perm_covariates_parallel.o Perm_parallel.o RcppExports.o -L/home/biocbuild/bbs-3.17-bioc/R/lib -lRlapack -L/home/biocbuild/bbs-3.17-bioc/R/lib -lRblas -lgfortran -lm -lquadmath -L/home/biocbuild/bbs-3.17-bioc/R/lib -lR
installing to /home/biocbuild/bbs-3.17-bioc/R/site-library/00LOCK-distinct/00new/distinct/libs
** R
** data
** inst
** byte-compile and prepare package for lazy loading
** help
*** installing help indices
** building package indices
** installing vignettes
** testing if installed package can be loaded from temporary location
** checking absolute paths in shared objects and dynamic libraries
** testing if installed package can be loaded from final location
** testing if installed package keeps a record of temporary installation path
* DONE (distinct)