| Back to Multiple platform build/check report for BioC 3.17 |
|
This page was generated on 2023-03-16 10:55:29 -0400 (Thu, 16 Mar 2023).
| Hostname | OS | Arch (*) | R version | Installed pkgs |
|---|---|---|---|---|
| nebbiolo1 | Linux (Ubuntu 22.04.1 LTS) | x86_64 | R Under development (unstable) (2023-01-10 r83596) -- "Unsuffered Consequences" | 4540 |
| nebbiolo2 | Linux (Ubuntu 20.04.5 LTS) | x86_64 | R Under development (unstable) (2023-02-14 r83833) -- "Unsuffered Consequences" | 4290 |
| Click on any hostname to see more info about the system (e.g. compilers) (*) as reported by 'uname -p', except on Windows and Mac OS X | ||||
|
To the developers/maintainers of the dasper package: - Please allow up to 24 hours (and sometimes 48 hours) for your latest push to git@git.bioconductor.org:packages/dasper.git to reflect on this report. See How and When does the builder pull? When will my changes propagate? for more information. - Make sure to use the following settings in order to reproduce any error or warning you see on this page. |
| Package 486/2189 | Hostname | OS / Arch | INSTALL | BUILD | CHECK | BUILD BIN | ||||||||
| dasper 1.9.0 (landing page) David Zhang
| nebbiolo1 | Linux (Ubuntu 22.04.1 LTS) / x86_64 | OK | OK | ERROR | |||||||||
| nebbiolo2 | Linux (Ubuntu 20.04.5 LTS) / x86_64 | OK | ERROR | skipped | ||||||||||
| Package: dasper |
| Version: 1.9.0 |
| Command: /home/biocbuild/bbs-3.17-bioc/R/bin/R CMD check --install=check:dasper.install-out.txt --library=/home/biocbuild/bbs-3.17-bioc/R/library --timings dasper_1.9.0.tar.gz |
| StartedAt: 2023-03-15 19:46:14 -0400 (Wed, 15 Mar 2023) |
| EndedAt: 2023-03-15 19:57:56 -0400 (Wed, 15 Mar 2023) |
| EllapsedTime: 701.7 seconds |
| RetCode: 1 |
| Status: ERROR |
| CheckDir: dasper.Rcheck |
| Warnings: NA |
##############################################################################
##############################################################################
###
### Running command:
###
### /home/biocbuild/bbs-3.17-bioc/R/bin/R CMD check --install=check:dasper.install-out.txt --library=/home/biocbuild/bbs-3.17-bioc/R/library --timings dasper_1.9.0.tar.gz
###
##############################################################################
##############################################################################
* using log directory ‘/home/biocbuild/bbs-3.17-bioc/meat/dasper.Rcheck’
* using R Under development (unstable) (2023-01-10 r83596)
* using platform: x86_64-pc-linux-gnu (64-bit)
* R was compiled by
gcc (Ubuntu 11.3.0-1ubuntu1~22.04) 11.3.0
GNU Fortran (Ubuntu 11.3.0-1ubuntu1~22.04) 11.3.0
* running under: Ubuntu 22.04.2 LTS
* using session charset: UTF-8
* checking for file ‘dasper/DESCRIPTION’ ... OK
* this is package ‘dasper’ version ‘1.9.0’
* package encoding: UTF-8
* checking package namespace information ... OK
* checking package dependencies ... OK
* checking if this is a source package ... OK
* checking if there is a namespace ... OK
* checking for hidden files and directories ... NOTE
Found the following hidden files and directories:
.BBSoptions
These were most likely included in error. See section ‘Package
structure’ in the ‘Writing R Extensions’ manual.
* checking for portable file names ... OK
* checking for sufficient/correct file permissions ... OK
* checking whether package ‘dasper’ can be installed ... NOTE
Found the following notes/warnings:
Non-staged installation was used
See ‘/home/biocbuild/bbs-3.17-bioc/meat/dasper.Rcheck/00install.out’ for details.
* checking installed package size ... OK
* checking package directory ... OK
* checking ‘build’ directory ... OK
* checking DESCRIPTION meta-information ... OK
* checking top-level files ... OK
* checking for left-over files ... OK
* checking index information ... OK
* checking package subdirectories ... OK
* checking R files for non-ASCII characters ... OK
* checking R files for syntax errors ... OK
* checking whether the package can be loaded ... OK
* checking whether the package can be loaded with stated dependencies ... OK
* checking whether the package can be unloaded cleanly ... OK
* checking whether the namespace can be loaded with stated dependencies ... OK
* checking whether the namespace can be unloaded cleanly ... OK
* checking dependencies in R code ... NOTE
Unexported object imported by a ':::' call: ‘grid:::calcControlPoints’
See the note in ?`:::` about the use of this operator.
* checking S3 generic/method consistency ... OK
* checking replacement functions ... OK
* checking foreign function calls ... OK
* checking R code for possible problems ... NOTE
.classify_junc: no visible binding for global variable ‘lend’
.classify_junc: no visible binding for global variable ‘rstart’
.coverage_to_plot_get: no visible binding for global variable ‘.’
.coverage_to_plot_get: no visible binding for global variable
‘case_control’
.get_ref_exons_annot: no visible binding for global variable ‘.’
.plot_coverage: no visible binding for global variable ‘case_control’
.plot_junctions: no visible binding for global variable ‘size’
annotate_junc_ref: no visible global function definition for
‘ensemblGenome’
annotate_junc_ref: no visible global function definition for
‘basedir<-’
annotate_junc_ref: no visible global function definition for ‘read.gtf’
annotate_junc_ref: no visible global function definition for
‘getSpliceTable’
Undefined global functions or variables:
. basedir<- case_control ensemblGenome getSpliceTable lend read.gtf
rstart size
* checking Rd files ... OK
* checking Rd metadata ... OK
* checking Rd cross-references ... OK
* checking for missing documentation entries ... OK
* checking for code/documentation mismatches ... OK
* checking Rd \usage sections ... OK
* checking Rd contents ... OK
* checking for unstated dependencies in examples ... OK
* checking contents of ‘data’ directory ... OK
* checking data for non-ASCII characters ... OK
* checking LazyData ... OK
* checking data for ASCII and uncompressed saves ... OK
* checking line endings in shell scripts ... OK
* checking files in ‘vignettes’ ... OK
* checking examples ... OK
Examples with CPU (user + system) or elapsed time > 5s
user system elapsed
coverage_process 82.043 13.651 93.817
junction_process 48.894 2.979 52.234
plot_sashimi 25.876 3.052 29.452
ref_load 6.312 0.869 7.544
* checking for unstated dependencies in ‘tests’ ... OK
* checking tests ...
Running ‘testthat.R’
ERROR
Running the tests in ‘tests/testthat.R’ failed.
Last 13 lines of output:
Error in `stringr::str_detect(seqnames(x), "chr")`: `string` must be a vector, not a <Rle> object.
Backtrace:
▆
1. ├─dasper:::.coverage_load(...) at test-utils.R:39:2
2. │ └─dasper:::.chr_check(regions, chr_format)
3. │ └─stringr::str_detect(seqnames(x), "chr")
4. │ └─stringr:::check_lengths(string, pattern)
5. │ └─vctrs::vec_size_common(...)
6. └─vctrs:::stop_scalar_type(`<fn>`(`<Rle>`), "string", `<env>`)
7. └─vctrs:::stop_vctrs(...)
8. └─rlang::abort(message, class = c(class, "vctrs_error"), ..., call = vctrs_error_call(call))
[ FAIL 2 | WARN 2 | SKIP 1 | PASS 186 ]
Error: Test failures
Execution halted
* checking for unstated dependencies in vignettes ... OK
* checking package vignettes in ‘inst/doc’ ... OK
* checking running R code from vignettes ...
‘dasper.Rmd’ using ‘UTF-8’... OK
NONE
* checking re-building of vignette outputs ... OK
* checking PDF version of manual ... OK
* DONE
Status: 1 ERROR, 4 NOTEs
See
‘/home/biocbuild/bbs-3.17-bioc/meat/dasper.Rcheck/00check.log’
for details.
dasper.Rcheck/00install.out
############################################################################## ############################################################################## ### ### Running command: ### ### /home/biocbuild/bbs-3.17-bioc/R/bin/R CMD INSTALL dasper ### ############################################################################## ############################################################################## * installing to library ‘/home/biocbuild/bbs-3.17-bioc/R/library’ * installing *source* package ‘dasper’ ... ** using non-staged installation via StagedInstall field ** R ** data *** moving datasets to lazyload DB ** inst ** byte-compile and prepare package for lazy loading ** help *** installing help indices ** building package indices ** installing vignettes ** testing if installed package can be loaded * DONE (dasper)
dasper.Rcheck/tests/testthat.Rout.fail
R Under development (unstable) (2023-01-10 r83596) -- "Unsuffered Consequences"
Copyright (C) 2023 The R Foundation for Statistical Computing
Platform: x86_64-pc-linux-gnu (64-bit)
R is free software and comes with ABSOLUTELY NO WARRANTY.
You are welcome to redistribute it under certain conditions.
Type 'license()' or 'licence()' for distribution details.
R is a collaborative project with many contributors.
Type 'contributors()' for more information and
'citation()' on how to cite R or R packages in publications.
Type 'demo()' for some demos, 'help()' for on-line help, or
'help.start()' for an HTML browser interface to help.
Type 'q()' to quit R.
> library(testthat)
> library(dasper)
>
> test_check("dasper")
Starting 2 test processes
[ FAIL 2 | WARN 2 | SKIP 1 | PASS 186 ]
══ Skipped tests ═══════════════════════════════════════════════════════════════
• On CRAN (1)
══ Failed tests ════════════════════════════════════════════════════════════════
── Error ('test-plot_sashimi.R:343:1'): (code run outside of `test_that()`) ────
<vctrs_error_scalar_type/vctrs_error/rlang_error/error/condition>
Error in `stringr::str_detect(seqnames(x), "chr")`: `string` must be a vector, not a <Rle> object.
Backtrace:
▆
1. ├─dasper:::.coverage_to_plot_get(...) at test-plot_sashimi.R:343:0
2. │ ├─... %>% ...
3. │ └─dasper:::.coverage_load(...)
4. │ └─dasper:::.chr_check(regions, chr_format)
5. │ └─stringr::str_detect(seqnames(x), "chr")
6. │ └─stringr:::check_lengths(string, pattern)
7. │ └─vctrs::vec_size_common(...)
8. ├─dplyr::tibble(...)
9. │ └─tibble:::tibble_quos(xs, .rows, .name_repair)
10. │ └─rlang::eval_tidy(xs[[j]], mask)
11. ├─base::unlist(.)
12. └─vctrs:::stop_scalar_type(`<fn>`(`<Rle>`), "string", `<env>`)
13. └─vctrs:::stop_vctrs(...)
14. └─rlang::abort(message, class = c(class, "vctrs_error"), ..., call = vctrs_error_call(call))
── Error ('test-utils.R:39:3'): (code run outside of `test_that()`) ────────────
<vctrs_error_scalar_type/vctrs_error/rlang_error/error/condition>
Error in `stringr::str_detect(seqnames(x), "chr")`: `string` must be a vector, not a <Rle> object.
Backtrace:
▆
1. ├─dasper:::.coverage_load(...) at test-utils.R:39:2
2. │ └─dasper:::.chr_check(regions, chr_format)
3. │ └─stringr::str_detect(seqnames(x), "chr")
4. │ └─stringr:::check_lengths(string, pattern)
5. │ └─vctrs::vec_size_common(...)
6. └─vctrs:::stop_scalar_type(`<fn>`(`<Rle>`), "string", `<env>`)
7. └─vctrs:::stop_vctrs(...)
8. └─rlang::abort(message, class = c(class, "vctrs_error"), ..., call = vctrs_error_call(call))
[ FAIL 2 | WARN 2 | SKIP 1 | PASS 186 ]
Error: Test failures
Execution halted
dasper.Rcheck/dasper-Ex.timings
| name | user | system | elapsed | |
| coverage_process | 82.043 | 13.651 | 93.817 | |
| junction_load | 0.195 | 0.020 | 0.198 | |
| junction_process | 48.894 | 2.979 | 52.234 | |
| outlier_process | 0.001 | 0.000 | 0.001 | |
| plot_sashimi | 25.876 | 3.052 | 29.452 | |
| ref_load | 6.312 | 0.869 | 7.544 | |