| Back to Multiple platform build/check report for BioC 3.17 |
|
This page was generated on 2023-04-12 10:55:23 -0400 (Wed, 12 Apr 2023).
| Hostname | OS | Arch (*) | R version | Installed pkgs |
|---|---|---|---|---|
| nebbiolo1 | Linux (Ubuntu 22.04.1 LTS) | x86_64 | 4.3.0 alpha (2023-04-03 r84154) | 4547 |
| nebbiolo2 | Linux (Ubuntu 20.04.5 LTS) | x86_64 | R Under development (unstable) (2023-02-14 r83833) -- "Unsuffered Consequences" | 4333 |
| Click on any hostname to see more info about the system (e.g. compilers) (*) as reported by 'uname -p', except on Windows and Mac OS X | ||||
|
To the developers/maintainers of the corral package: - Allow up to 24 hours (and sometimes 48 hours) for your latest push to git@git.bioconductor.org:packages/corral.git to reflect on this report. See Troubleshooting Build Report for more information. - Use the following Renviron settings to reproduce errors and warnings. Note: If "R CMD check" recently failed on the Linux builder over a missing dependency, add the missing dependency to "Suggests" in your DESCRIPTION file. See the Renviron.bioc for details. |
| Package 430/2207 | Hostname | OS / Arch | INSTALL | BUILD | CHECK | BUILD BIN | ||||||||
| corral 1.9.1 (landing page) Lauren Hsu
| nebbiolo1 | Linux (Ubuntu 22.04.1 LTS) / x86_64 | OK | OK | OK | |||||||||
| nebbiolo2 | Linux (Ubuntu 20.04.5 LTS) / x86_64 | OK | OK | OK | ||||||||||
| Package: corral |
| Version: 1.9.1 |
| Command: /home/biocbuild/bbs-3.17-bioc/R/bin/R CMD check --install=check:corral.install-out.txt --library=/home/biocbuild/bbs-3.17-bioc/R/site-library --timings corral_1.9.1.tar.gz |
| StartedAt: 2023-04-11 19:32:17 -0400 (Tue, 11 Apr 2023) |
| EndedAt: 2023-04-11 19:51:04 -0400 (Tue, 11 Apr 2023) |
| EllapsedTime: 1126.9 seconds |
| RetCode: 0 |
| Status: OK |
| CheckDir: corral.Rcheck |
| Warnings: 0 |
##############################################################################
##############################################################################
###
### Running command:
###
### /home/biocbuild/bbs-3.17-bioc/R/bin/R CMD check --install=check:corral.install-out.txt --library=/home/biocbuild/bbs-3.17-bioc/R/site-library --timings corral_1.9.1.tar.gz
###
##############################################################################
##############################################################################
* using log directory ‘/home/biocbuild/bbs-3.17-bioc/meat/corral.Rcheck’
* using R version 4.3.0 alpha (2023-04-03 r84154)
* using platform: x86_64-pc-linux-gnu (64-bit)
* R was compiled by
gcc (Ubuntu 11.3.0-1ubuntu1~22.04) 11.3.0
GNU Fortran (Ubuntu 11.3.0-1ubuntu1~22.04) 11.3.0
* running under: Ubuntu 22.04.2 LTS
* using session charset: UTF-8
* checking for file ‘corral/DESCRIPTION’ ... OK
* this is package ‘corral’ version ‘1.9.1’
* package encoding: UTF-8
* checking package namespace information ... OK
* checking package dependencies ... OK
* checking if this is a source package ... OK
* checking if there is a namespace ... OK
* checking for hidden files and directories ... OK
* checking for portable file names ... OK
* checking for sufficient/correct file permissions ... OK
* checking whether package ‘corral’ can be installed ... OK
* checking installed package size ... OK
* checking package directory ... OK
* checking ‘build’ directory ... OK
* checking DESCRIPTION meta-information ... OK
* checking top-level files ... OK
* checking for left-over files ... OK
* checking index information ... OK
* checking package subdirectories ... OK
* checking R files for non-ASCII characters ... OK
* checking R files for syntax errors ... OK
* checking whether the package can be loaded ... OK
* checking whether the package can be loaded with stated dependencies ... OK
* checking whether the package can be unloaded cleanly ... OK
* checking whether the namespace can be loaded with stated dependencies ... OK
* checking whether the namespace can be unloaded cleanly ... OK
* checking loading without being on the library search path ... OK
* checking dependencies in R code ... NOTE
Unexported object imported by a ':::' call: ‘ggthemes:::check_pal_n’
See the note in ?`:::` about the use of this operator.
* checking S3 generic/method consistency ... OK
* checking replacement functions ... OK
* checking foreign function calls ... OK
* checking R code for possible problems ... NOTE
biplot_corral: no visible binding for global variable ‘Name’
plot_embedding: no visible binding for global variable ‘Xdim’
plot_embedding: no visible binding for global variable ‘Ydim’
scal_var: no visible binding for global variable ‘PC_ind’
scal_var: no visible binding for global variable ‘sv’
scal_var: no visible binding for global variable ‘Batch’
Undefined global functions or variables:
Batch Name PC_ind Xdim Ydim sv
* checking Rd files ... NOTE
prepare_Rd: corral_preproc.Rd:41-43: Dropping empty section \details
* checking Rd metadata ... OK
* checking Rd cross-references ... OK
* checking for missing documentation entries ... OK
* checking for code/documentation mismatches ... OK
* checking Rd \usage sections ... OK
* checking Rd contents ... OK
* checking for unstated dependencies in examples ... OK
* checking files in ‘vignettes’ ... OK
* checking examples ... OK
Examples with CPU (user + system) or elapsed time > 5s
user system elapsed
biplot_corral 63.485 6.019 69.627
add_embeddings2scelist 18.093 2.067 20.601
corral 13.183 2.544 15.984
corralm 12.974 2.640 15.851
sce2matlist 6.991 1.332 8.443
plot_embedding_sce 6.850 0.965 7.943
* checking for unstated dependencies in ‘tests’ ... OK
* checking tests ...
Running ‘testthat.R’
OK
* checking for unstated dependencies in vignettes ... OK
* checking package vignettes in ‘inst/doc’ ... OK
* checking running R code from vignettes ...
‘corral_dimred.Rmd’ using ‘UTF-8’... OK
‘corralm_alignment.Rmd’ using ‘UTF-8’... OK
NONE
* checking re-building of vignette outputs ... OK
* checking PDF version of manual ... OK
* DONE
Status: 3 NOTEs
See
‘/home/biocbuild/bbs-3.17-bioc/meat/corral.Rcheck/00check.log’
for details.
corral.Rcheck/00install.out
############################################################################## ############################################################################## ### ### Running command: ### ### /home/biocbuild/bbs-3.17-bioc/R/bin/R CMD INSTALL corral ### ############################################################################## ############################################################################## * installing to library ‘/home/biocbuild/bbs-3.17-bioc/R/site-library’ * installing *source* package ‘corral’ ... ** using staged installation ** R ** inst ** byte-compile and prepare package for lazy loading ** help *** installing help indices ** building package indices ** installing vignettes ** testing if installed package can be loaded from temporary location ** testing if installed package can be loaded from final location ** testing if installed package keeps a record of temporary installation path * DONE (corral)
corral.Rcheck/tests/testthat.Rout
R version 4.3.0 alpha (2023-04-03 r84154) Copyright (C) 2023 The R Foundation for Statistical Computing Platform: x86_64-pc-linux-gnu (64-bit) R is free software and comes with ABSOLUTELY NO WARRANTY. You are welcome to redistribute it under certain conditions. Type 'license()' or 'licence()' for distribution details. R is a collaborative project with many contributors. Type 'contributors()' for more information and 'citation()' on how to cite R or R packages in publications. Type 'demo()' for some demos, 'help()' for on-line help, or 'help.start()' for an HTML browser interface to help. Type 'q()' to quit R. > > proc.time() user system elapsed 0.140 0.046 0.177
corral.Rcheck/corral-Ex.timings
| name | user | system | elapsed | |
| add_embeddings2scelist | 18.093 | 2.067 | 20.601 | |
| all_are | 0.001 | 0.000 | 0.001 | |
| biplot_corral | 63.485 | 6.019 | 69.627 | |
| compsvd | 0.004 | 0.003 | 0.007 | |
| corral | 13.183 | 2.544 | 15.984 | |
| corral_preproc | 0.015 | 0.000 | 0.015 | |
| corralm | 12.974 | 2.640 | 15.851 | |
| earthmover_dist | 0.025 | 0.000 | 0.024 | |
| get_pct_var_exp_svd | 0.002 | 0.000 | 0.001 | |
| get_weights | 0.002 | 0.000 | 0.001 | |
| list2mat | 0.000 | 0.001 | 0.001 | |
| na2zero | 0.014 | 0.026 | 0.041 | |
| pairwise_rv | 0.002 | 0.000 | 0.003 | |
| plot_embedding | 0.528 | 0.100 | 0.629 | |
| plot_embedding_sce | 6.850 | 0.965 | 7.943 | |
| rv | 0.001 | 0.000 | 0.001 | |
| scal_var | 0.235 | 0.008 | 0.243 | |
| scal_var_mat | 0.016 | 0.000 | 0.016 | |
| sce2matlist | 6.991 | 1.332 | 8.443 | |
| trim_matdist | 0.063 | 0.020 | 0.083 | |
| var_stabilize | 0.000 | 0.000 | 0.001 | |