| Back to Multiple platform build/check report for BioC 3.17 |
|
This page was generated on 2023-04-12 10:55:23 -0400 (Wed, 12 Apr 2023).
| Hostname | OS | Arch (*) | R version | Installed pkgs |
|---|---|---|---|---|
| nebbiolo1 | Linux (Ubuntu 22.04.1 LTS) | x86_64 | 4.3.0 alpha (2023-04-03 r84154) | 4547 |
| nebbiolo2 | Linux (Ubuntu 20.04.5 LTS) | x86_64 | R Under development (unstable) (2023-02-14 r83833) -- "Unsuffered Consequences" | 4333 |
| Click on any hostname to see more info about the system (e.g. compilers) (*) as reported by 'uname -p', except on Windows and Mac OS X | ||||
|
To the developers/maintainers of the cogeqc package: - Allow up to 24 hours (and sometimes 48 hours) for your latest push to git@git.bioconductor.org:packages/cogeqc.git to reflect on this report. See Troubleshooting Build Report for more information. - Use the following Renviron settings to reproduce errors and warnings. Note: If "R CMD check" recently failed on the Linux builder over a missing dependency, add the missing dependency to "Suggests" in your DESCRIPTION file. See the Renviron.bioc for details. |
| Package 394/2207 | Hostname | OS / Arch | INSTALL | BUILD | CHECK | BUILD BIN | ||||||||
| cogeqc 1.3.1 (landing page) Fabrício Almeida-Silva
| nebbiolo1 | Linux (Ubuntu 22.04.1 LTS) / x86_64 | OK | OK | OK | |||||||||
| nebbiolo2 | Linux (Ubuntu 20.04.5 LTS) / x86_64 | OK | OK | OK | ||||||||||
| Package: cogeqc |
| Version: 1.3.1 |
| Command: /home/biocbuild/bbs-3.17-bioc/R/bin/R CMD check --install=check:cogeqc.install-out.txt --library=/home/biocbuild/bbs-3.17-bioc/R/site-library --timings cogeqc_1.3.1.tar.gz |
| StartedAt: 2023-04-11 19:26:26 -0400 (Tue, 11 Apr 2023) |
| EndedAt: 2023-04-11 19:30:54 -0400 (Tue, 11 Apr 2023) |
| EllapsedTime: 267.8 seconds |
| RetCode: 0 |
| Status: OK |
| CheckDir: cogeqc.Rcheck |
| Warnings: 0 |
##############################################################################
##############################################################################
###
### Running command:
###
### /home/biocbuild/bbs-3.17-bioc/R/bin/R CMD check --install=check:cogeqc.install-out.txt --library=/home/biocbuild/bbs-3.17-bioc/R/site-library --timings cogeqc_1.3.1.tar.gz
###
##############################################################################
##############################################################################
* using log directory ‘/home/biocbuild/bbs-3.17-bioc/meat/cogeqc.Rcheck’
* using R version 4.3.0 alpha (2023-04-03 r84154)
* using platform: x86_64-pc-linux-gnu (64-bit)
* R was compiled by
gcc (Ubuntu 11.3.0-1ubuntu1~22.04) 11.3.0
GNU Fortran (Ubuntu 11.3.0-1ubuntu1~22.04) 11.3.0
* running under: Ubuntu 22.04.2 LTS
* using session charset: UTF-8
* checking for file ‘cogeqc/DESCRIPTION’ ... OK
* this is package ‘cogeqc’ version ‘1.3.1’
* package encoding: UTF-8
* checking package namespace information ... OK
* checking package dependencies ... OK
* checking if this is a source package ... OK
* checking if there is a namespace ... OK
* checking for hidden files and directories ... OK
* checking for portable file names ... OK
* checking for sufficient/correct file permissions ... OK
* checking whether package ‘cogeqc’ can be installed ... OK
* checking installed package size ... OK
* checking package directory ... OK
* checking ‘build’ directory ... OK
* checking DESCRIPTION meta-information ... OK
* checking top-level files ... OK
* checking for left-over files ... OK
* checking index information ... OK
* checking package subdirectories ... OK
* checking R files for non-ASCII characters ... OK
* checking R files for syntax errors ... OK
* checking whether the package can be loaded ... OK
* checking whether the package can be loaded with stated dependencies ... OK
* checking whether the package can be unloaded cleanly ... OK
* checking whether the namespace can be loaded with stated dependencies ... OK
* checking whether the namespace can be unloaded cleanly ... OK
* checking loading without being on the library search path ... OK
* checking dependencies in R code ... OK
* checking S3 generic/method consistency ... OK
* checking replacement functions ... OK
* checking foreign function calls ... OK
* checking R code for possible problems ... OK
* checking Rd files ... OK
* checking Rd metadata ... OK
* checking Rd cross-references ... OK
* checking for missing documentation entries ... OK
* checking for code/documentation mismatches ... OK
* checking Rd \usage sections ... OK
* checking Rd contents ... OK
* checking for unstated dependencies in examples ... OK
* checking contents of ‘data’ directory ... OK
* checking data for non-ASCII characters ... OK
* checking data for ASCII and uncompressed saves ... OK
* checking files in ‘vignettes’ ... OK
* checking examples ... OK
* checking for unstated dependencies in ‘tests’ ... OK
* checking tests ...
Running ‘testthat.R’
OK
* checking for unstated dependencies in vignettes ... OK
* checking package vignettes in ‘inst/doc’ ... OK
* checking running R code from vignettes ...
‘vignette_01_assessing_genome_assembly.Rmd’ using ‘UTF-8’... OK
‘vignette_02_assessing_orthogroup_inference.Rmd’ using ‘UTF-8’... OK
‘vignette_03_assessing_synteny.Rmd’ using ‘UTF-8’... OK
NONE
* checking re-building of vignette outputs ... OK
* checking PDF version of manual ... OK
* DONE
Status: OK
cogeqc.Rcheck/00install.out
############################################################################## ############################################################################## ### ### Running command: ### ### /home/biocbuild/bbs-3.17-bioc/R/bin/R CMD INSTALL cogeqc ### ############################################################################## ############################################################################## * installing to library ‘/home/biocbuild/bbs-3.17-bioc/R/site-library’ * installing *source* package ‘cogeqc’ ... ** using staged installation ** R ** data ** inst ** byte-compile and prepare package for lazy loading ** help *** installing help indices *** copying figures ** building package indices ** installing vignettes ** testing if installed package can be loaded from temporary location ** testing if installed package can be loaded from final location ** testing if installed package keeps a record of temporary installation path * DONE (cogeqc)
cogeqc.Rcheck/tests/testthat.Rout
R version 4.3.0 alpha (2023-04-03 r84154)
Copyright (C) 2023 The R Foundation for Statistical Computing
Platform: x86_64-pc-linux-gnu (64-bit)
R is free software and comes with ABSOLUTELY NO WARRANTY.
You are welcome to redistribute it under certain conditions.
Type 'license()' or 'licence()' for distribution details.
R is a collaborative project with many contributors.
Type 'contributors()' for more information and
'citation()' on how to cite R or R packages in publications.
Type 'demo()' for some demos, 'help()' for on-line help, or
'help.start()' for an HTML browser interface to help.
Type 'q()' to quit R.
> library(testthat)
> library(cogeqc)
>
> test_check("cogeqc")
More than 1 BUSCO summary file found. Using only the first.
[ FAIL 0 | WARN 0 | SKIP 0 | PASS 58 ]
>
> proc.time()
user system elapsed
19.171 1.395 26.234
cogeqc.Rcheck/cogeqc-Ex.timings
| name | user | system | elapsed | |
| assess_orthogroups | 0.713 | 0.020 | 0.732 | |
| assess_synnet | 2.554 | 0.120 | 2.674 | |
| assess_synnet_list | 3.85 | 0.14 | 3.99 | |
| batch_summary | 0.001 | 0.000 | 0.001 | |
| busco_is_installed | 0.002 | 0.000 | 0.002 | |
| calculate_H | 1.392 | 0.032 | 1.425 | |
| compare_genome_stats | 0.158 | 0.003 | 1.024 | |
| compare_orthogroups | 0.175 | 0.000 | 0.175 | |
| fit_sft | 0.846 | 0.016 | 0.861 | |
| get_genome_stats | 0.657 | 0.036 | 3.338 | |
| interpro_ath | 0.135 | 0.008 | 0.143 | |
| interpro_bol | 0.223 | 0.004 | 0.227 | |
| list_busco_datasets | 0.002 | 0.000 | 0.002 | |
| og | 0.153 | 0.008 | 0.161 | |
| plot_busco | 0.670 | 0.068 | 0.738 | |
| plot_duplications | 0.126 | 0.008 | 0.135 | |
| plot_genes_in_ogs | 0.194 | 0.012 | 0.206 | |
| plot_genome_stats | 3.999 | 0.092 | 4.976 | |
| plot_og_overlap | 0.280 | 0.028 | 0.308 | |
| plot_og_sizes | 1.389 | 0.060 | 1.450 | |
| plot_orthofinder_stats | 0.862 | 0.004 | 0.866 | |
| plot_species_specific_ogs | 0.140 | 0.016 | 0.157 | |
| plot_species_tree | 0.226 | 0.000 | 0.226 | |
| read_busco | 0.002 | 0.000 | 0.002 | |
| read_orthofinder_stats | 0.005 | 0.000 | 0.005 | |
| read_orthogroups | 0.008 | 0.003 | 0.011 | |
| run_busco | 0 | 0 | 0 | |
| synnet | 0.593 | 0.019 | 0.612 | |
| tree | 0.001 | 0.000 | 0.001 | |