| Back to Multiple platform build/check report for BioC 3.17 |
|
This page was generated on 2023-04-12 10:55:23 -0400 (Wed, 12 Apr 2023).
| Hostname | OS | Arch (*) | R version | Installed pkgs |
|---|---|---|---|---|
| nebbiolo1 | Linux (Ubuntu 22.04.1 LTS) | x86_64 | 4.3.0 alpha (2023-04-03 r84154) | 4547 |
| nebbiolo2 | Linux (Ubuntu 20.04.5 LTS) | x86_64 | R Under development (unstable) (2023-02-14 r83833) -- "Unsuffered Consequences" | 4333 |
| Click on any hostname to see more info about the system (e.g. compilers) (*) as reported by 'uname -p', except on Windows and Mac OS X | ||||
|
To the developers/maintainers of the coMET package: - Allow up to 24 hours (and sometimes 48 hours) for your latest push to git@git.bioconductor.org:packages/coMET.git to reflect on this report. See Troubleshooting Build Report for more information. - Use the following Renviron settings to reproduce errors and warnings. Note: If "R CMD check" recently failed on the Linux builder over a missing dependency, add the missing dependency to "Suggests" in your DESCRIPTION file. See the Renviron.bioc for details. |
| Package 401/2207 | Hostname | OS / Arch | INSTALL | BUILD | CHECK | BUILD BIN | ||||||||
| coMET 1.31.0 (landing page) Tiphaine Martin
| nebbiolo1 | Linux (Ubuntu 22.04.1 LTS) / x86_64 | OK | OK | OK | |||||||||
| nebbiolo2 | Linux (Ubuntu 20.04.5 LTS) / x86_64 | OK | OK | OK | ||||||||||
| Package: coMET |
| Version: 1.31.0 |
| Command: /home/biocbuild/bbs-3.17-bioc/R/bin/R CMD check --install=check:coMET.install-out.txt --library=/home/biocbuild/bbs-3.17-bioc/R/site-library --timings coMET_1.31.0.tar.gz |
| StartedAt: 2023-04-11 19:27:34 -0400 (Tue, 11 Apr 2023) |
| EndedAt: 2023-04-11 19:37:29 -0400 (Tue, 11 Apr 2023) |
| EllapsedTime: 595.7 seconds |
| RetCode: 0 |
| Status: OK |
| CheckDir: coMET.Rcheck |
| Warnings: 0 |
##############################################################################
##############################################################################
###
### Running command:
###
### /home/biocbuild/bbs-3.17-bioc/R/bin/R CMD check --install=check:coMET.install-out.txt --library=/home/biocbuild/bbs-3.17-bioc/R/site-library --timings coMET_1.31.0.tar.gz
###
##############################################################################
##############################################################################
* using log directory ‘/home/biocbuild/bbs-3.17-bioc/meat/coMET.Rcheck’
* using R version 4.3.0 alpha (2023-04-03 r84154)
* using platform: x86_64-pc-linux-gnu (64-bit)
* R was compiled by
gcc (Ubuntu 11.3.0-1ubuntu1~22.04) 11.3.0
GNU Fortran (Ubuntu 11.3.0-1ubuntu1~22.04) 11.3.0
* running under: Ubuntu 22.04.2 LTS
* using session charset: UTF-8
* checking for file ‘coMET/DESCRIPTION’ ... OK
* checking extension type ... Package
* this is package ‘coMET’ version ‘1.31.0’
* checking package namespace information ... OK
* checking package dependencies ... OK
* checking if this is a source package ... OK
* checking if there is a namespace ... OK
* checking for hidden files and directories ... OK
* checking for portable file names ... OK
* checking for sufficient/correct file permissions ... OK
* checking whether package ‘coMET’ can be installed ... OK
* checking installed package size ... NOTE
installed size is 14.6Mb
sub-directories of 1Mb or more:
data 7.7Mb
extdata 6.1Mb
* checking package directory ... OK
* checking ‘build’ directory ... OK
* checking DESCRIPTION meta-information ... OK
* checking top-level files ... NOTE
File
LICENSE
is not mentioned in the DESCRIPTION file.
* checking for left-over files ... OK
* checking index information ... OK
* checking package subdirectories ... OK
* checking R files for non-ASCII characters ... OK
* checking R files for syntax errors ... OK
* checking whether the package can be loaded ... OK
* checking whether the package can be loaded with stated dependencies ... OK
* checking whether the package can be unloaded cleanly ... OK
* checking whether the namespace can be loaded with stated dependencies ... OK
* checking whether the namespace can be unloaded cleanly ... OK
* checking loading without being on the library search path ... OK
* checking dependencies in R code ... OK
* checking S3 generic/method consistency ... OK
* checking replacement functions ... OK
* checking foreign function calls ... OK
* checking R code for possible problems ... NOTE
draw.plot.annotation : <anonymous>: no visible global function
definition for 'ggplotGrob'
draw.plot.annotation: no visible global function definition for
'viewTracks'
draw.plot.annotation: no visible global function definition for
'trackList'
eQTL: no visible binding for global variable 'chromosome_stop'
eQTL: no visible binding for global variable 'chromosome_start'
eQTL: no visible binding for global variable 'chromosome_name'
eQTL_GTEx: no visible binding for global variable 'snp_pos'
eQTL_GTEx: no visible binding for global variable 'snp_chrom'
eQTL_GTEx: no visible binding for global variable 'gene_start'
eQTL_GTEx: no visible binding for global variable 'gene_stop'
eQTL_GTEx: no visible binding for global variable 'gene_chr'
geneExpression_GTEx: no visible global function definition for 'as'
metQTL: no visible binding for global variable 'chromosome_stop'
metQTL: no visible binding for global variable 'chromosome_start'
metQTL: no visible binding for global variable 'chromosome_name'
pizza: no visible global function definition for 'par'
pizza: no visible global function definition for 'plot.new'
pizza: no visible global function definition for 'plot.window'
pizza: no visible global function definition for 'polygon'
pizza: no visible global function definition for 'lines'
pizza: no visible global function definition for 'text'
psiQTL_GTEx: no visible binding for global variable 'pos_snp'
psiQTL_GTEx: no visible binding for global variable 'chr_snp'
psiQTL_GTEx: no visible binding for global variable 'pos_middle_exon'
psiQTL_GTEx: no visible binding for global variable 'chr_exon'
Undefined global functions or variables:
as chr_exon chr_snp chromosome_name chromosome_start chromosome_stop
gene_chr gene_start gene_stop ggplotGrob lines par plot.new
plot.window polygon pos_middle_exon pos_snp snp_chrom snp_pos text
trackList viewTracks
Consider adding
importFrom("graphics", "lines", "par", "plot.new", "plot.window",
"polygon", "text")
importFrom("methods", "as")
to your NAMESPACE file (and ensure that your DESCRIPTION Imports field
contains 'methods').
* checking Rd files ... NOTE
checkRd: (-1) ChIPTF_ENCODE.Rd:36: Escaped LaTeX specials: \#
* checking Rd metadata ... OK
* checking Rd cross-references ... OK
* checking for missing documentation entries ... OK
* checking for code/documentation mismatches ... OK
* checking Rd \usage sections ... OK
* checking Rd contents ... OK
* checking for unstated dependencies in examples ... OK
* checking contents of ‘data’ directory ... OK
* checking data for non-ASCII characters ... OK
* checking data for ASCII and uncompressed saves ... OK
* checking files in ‘vignettes’ ... OK
* checking examples ... OK
Examples with CPU (user + system) or elapsed time > 5s
user system elapsed
comet.web 5.916 0.485 20.801
coMET-package 5.444 0.527 16.123
* checking for unstated dependencies in ‘tests’ ... OK
* checking tests ...
Running ‘runTests.R’
OK
* checking for unstated dependencies in vignettes ... OK
* checking package vignettes in ‘inst/doc’ ... OK
* checking running R code from vignettes ...
‘coMET.Rnw’... OK
NONE
* checking re-building of vignette outputs ... OK
* checking PDF version of manual ... OK
* DONE
Status: 4 NOTEs
See
‘/home/biocbuild/bbs-3.17-bioc/meat/coMET.Rcheck/00check.log’
for details.
coMET.Rcheck/00install.out
############################################################################## ############################################################################## ### ### Running command: ### ### /home/biocbuild/bbs-3.17-bioc/R/bin/R CMD INSTALL coMET ### ############################################################################## ############################################################################## * installing to library ‘/home/biocbuild/bbs-3.17-bioc/R/site-library’ * installing *source* package ‘coMET’ ... ** using staged installation ** R ** data ** inst ** byte-compile and prepare package for lazy loading ** help *** installing help indices ** building package indices ** installing vignettes ** testing if installed package can be loaded from temporary location ** testing if installed package can be loaded from final location ** testing if installed package keeps a record of temporary installation path * DONE (coMET)
coMET.Rcheck/tests/runTests.Rout
R version 4.3.0 alpha (2023-04-03 r84154)
Copyright (C) 2023 The R Foundation for Statistical Computing
Platform: x86_64-pc-linux-gnu (64-bit)
R is free software and comes with ABSOLUTELY NO WARRANTY.
You are welcome to redistribute it under certain conditions.
Type 'license()' or 'licence()' for distribution details.
R is a collaborative project with many contributors.
Type 'contributors()' for more information and
'citation()' on how to cite R or R packages in publications.
Type 'demo()' for some demos, 'help()' for on-line help, or
'help.start()' for an HTML browser interface to help.
Type 'q()' to quit R.
> require("coMET") || stop("unable to load Package:coMET")
Loading required package: coMET
Loading required package: grid
Loading required package: biomaRt
Loading required package: Gviz
Loading required package: S4Vectors
Loading required package: stats4
Loading required package: BiocGenerics
Attaching package: 'BiocGenerics'
The following objects are masked from 'package:stats':
IQR, mad, sd, var, xtabs
The following objects are masked from 'package:base':
Filter, Find, Map, Position, Reduce, anyDuplicated, aperm, append,
as.data.frame, basename, cbind, colnames, dirname, do.call,
duplicated, eval, evalq, get, grep, grepl, intersect, is.unsorted,
lapply, mapply, match, mget, order, paste, pmax, pmax.int, pmin,
pmin.int, rank, rbind, rownames, sapply, setdiff, sort, table,
tapply, union, unique, unsplit, which.max, which.min
Attaching package: 'S4Vectors'
The following objects are masked from 'package:base':
I, expand.grid, unname
Loading required package: IRanges
Loading required package: GenomicRanges
Loading required package: GenomeInfoDb
Loading required package: psych
Attaching package: 'psych'
The following object is masked from 'package:GenomicRanges':
distance
The following objects are masked from 'package:IRanges':
distance, reflect
[1] TRUE
> BiocGenerics:::testPackage("coMET")
RUNIT TEST PROTOCOL -- Tue Apr 11 19:35:47 2023
***********************************************
Number of test functions: 1
Number of errors: 0
Number of failures: 0
1 Test Suite :
coMET RUnit Tests - 1 test function, 0 errors, 0 failures
Number of test functions: 1
Number of errors: 0
Number of failures: 0
>
> proc.time()
user system elapsed
14.660 0.732 15.381
coMET.Rcheck/coMET-Ex.timings
| name | user | system | elapsed | |
| COSMIC_UCSC | 1.979 | 0.187 | 2.166 | |
| ChIPTF_ENCODE | 0.714 | 0.016 | 0.730 | |
| ClinVarCnv_UCSC | 0.414 | 0.004 | 0.417 | |
| ClinVarMain_UCSC | 0.399 | 0.000 | 0.399 | |
| CoreillCNV_UCSC | 0.412 | 0.000 | 0.412 | |
| DNAse_UCSC | 0.000 | 0.000 | 0.001 | |
| DNaseI_FANTOM | 0.619 | 0.019 | 0.639 | |
| DNaseI_RoadMap | 0.203 | 0.004 | 0.207 | |
| GAD_UCSC | 0.468 | 0.007 | 0.476 | |
| GWAScatalog_UCSC | 0.331 | 0.001 | 0.330 | |
| GeneReviews_UCSC | 0.535 | 0.000 | 0.535 | |
| HiCdata2matrix | 0.024 | 0.004 | 0.028 | |
| HistoneAll_UCSC | 4.383 | 0.035 | 4.419 | |
| HistoneOne_UCSC | 0.344 | 0.000 | 0.344 | |
| ISCA_UCSC | 0.453 | 0.000 | 0.454 | |
| TFBS_FANTOM | 0.460 | 0.028 | 0.488 | |
| bindingMotifsBiomart_ENSEMBL | 0.133 | 0.012 | 0.145 | |
| chrUCSC2ENSEMBL | 0 | 0 | 0 | |
| chromHMM_RoadMap | 0.679 | 0.015 | 0.696 | |
| chromatinHMMAll_UCSC | 4.250 | 0.027 | 4.279 | |
| chromatinHMMOne_UCSC | 0.439 | 0.007 | 0.447 | |
| coMET-package | 5.444 | 0.527 | 16.123 | |
| col2HSV | 0.001 | 0.000 | 0.001 | |
| comet | 2.885 | 0.140 | 3.024 | |
| comet.list | 0.665 | 0.032 | 0.697 | |
| comet.web | 5.916 | 0.485 | 20.801 | |
| complementary | 0.015 | 0.008 | 0.023 | |
| cpgIslands_UCSC | 0.133 | 0.000 | 0.133 | |
| dgfootprints_RoadMap | 0.828 | 0.060 | 0.888 | |
| eQTL | 2.676 | 0.296 | 2.972 | |
| eQTL_GTEx | 1.292 | 0.080 | 1.373 | |
| gcContent_UCSC | 1.274 | 0.200 | 1.474 | |
| genesName_ENSEMBL | 0.003 | 0.000 | 0.003 | |
| genes_ENSEMBL | 0.813 | 0.020 | 0.833 | |
| imprintedGenes_GTEx | 3.570 | 0.136 | 3.706 | |
| interestGenes_ENSEMBL | 0.695 | 0.012 | 0.706 | |
| interestTranscript_ENSEMBL | 0.841 | 0.016 | 0.857 | |
| knownGenes_UCSC | 0.919 | 0.024 | 0.942 | |
| metQTL | 1.290 | 0.032 | 1.322 | |
| miRNATargetRegionsBiomart_ENSEMBL | 0.041 | 0.004 | 0.045 | |
| otherRegulatoryRegionsBiomart_ENSEMBL | 0.094 | 0.000 | 0.094 | |
| pizza | 0.007 | 0.000 | 0.006 | |
| psiQTL_GTEx | 1.093 | 0.012 | 1.104 | |
| refGenes_UCSC | 0.851 | 0.016 | 0.867 | |
| regulationBiomart_ENSEMBL | 0.315 | 0.000 | 0.315 | |
| regulatoryEvidenceBiomart_ENSEMBL | 0.134 | 0.004 | 0.138 | |
| regulatoryFeaturesBiomart_ENSEMBL | 0.129 | 0.008 | 0.138 | |
| regulatorySegmentsBiomart_ENSEMBL | 0.135 | 0.008 | 0.143 | |
| repeatMasker_UCSC | 0.504 | 0.004 | 0.507 | |
| segmentalDups_UCSC | 0.409 | 0.020 | 0.430 | |
| setColors | 0.001 | 0.000 | 0.001 | |
| snpBiomart_ENSEMBL | 0.466 | 0.012 | 0.477 | |
| snpLocations_UCSC | 1.104 | 0.044 | 1.148 | |
| structureBiomart_ENSEMBL | 0.472 | 0.020 | 0.492 | |
| transcript_ENSEMBL | 1.219 | 0.028 | 1.247 | |
| xenorefGenes_UCSC | 0.609 | 0.000 | 0.609 | |