| Back to Multiple platform build/check report for BioC 3.17 |
|
This page was generated on 2023-04-12 10:55:35 -0400 (Wed, 12 Apr 2023).
| Hostname | OS | Arch (*) | R version | Installed pkgs |
|---|---|---|---|---|
| nebbiolo1 | Linux (Ubuntu 22.04.1 LTS) | x86_64 | 4.3.0 alpha (2023-04-03 r84154) | 4547 |
| nebbiolo2 | Linux (Ubuntu 20.04.5 LTS) | x86_64 | R Under development (unstable) (2023-02-14 r83833) -- "Unsuffered Consequences" | 4333 |
| Click on any hostname to see more info about the system (e.g. compilers) (*) as reported by 'uname -p', except on Windows and Mac OS X | ||||
|
To the developers/maintainers of the cmapR package: - Allow up to 24 hours (and sometimes 48 hours) for your latest push to git@git.bioconductor.org:packages/cmapR.git to reflect on this report. See Troubleshooting Build Report for more information. - Use the following Renviron settings to reproduce errors and warnings. Note: If "R CMD check" recently failed on the Linux builder over a missing dependency, add the missing dependency to "Suggests" in your DESCRIPTION file. See the Renviron.bioc for details. |
| Package 370/2207 | Hostname | OS / Arch | INSTALL | BUILD | CHECK | BUILD BIN | ||||||||
| cmapR 1.11.1 (landing page) Ted Natoli
| nebbiolo1 | Linux (Ubuntu 22.04.1 LTS) / x86_64 | OK | OK | OK | |||||||||
| nebbiolo2 | Linux (Ubuntu 20.04.5 LTS) / x86_64 | OK | OK | OK | ||||||||||
| Package: cmapR |
| Version: 1.11.1 |
| Command: /home/biocbuild/bbs-3.17-bioc/R/bin/R CMD check --install=check:cmapR.install-out.txt --library=/home/biocbuild/bbs-3.17-bioc/R/site-library --timings cmapR_1.11.1.tar.gz |
| StartedAt: 2023-04-12 05:24:55 -0400 (Wed, 12 Apr 2023) |
| EndedAt: 2023-04-12 05:28:10 -0400 (Wed, 12 Apr 2023) |
| EllapsedTime: 195.5 seconds |
| RetCode: 0 |
| Status: OK |
| CheckDir: cmapR.Rcheck |
| Warnings: 0 |
##############################################################################
##############################################################################
###
### Running command:
###
### /home/biocbuild/bbs-3.17-bioc/R/bin/R CMD check --install=check:cmapR.install-out.txt --library=/home/biocbuild/bbs-3.17-bioc/R/site-library --timings cmapR_1.11.1.tar.gz
###
##############################################################################
##############################################################################
* using log directory ‘/home/biocbuild/bbs-3.17-bioc/meat/cmapR.Rcheck’
* using R Under development (unstable) (2023-02-14 r83833)
* using platform: x86_64-pc-linux-gnu (64-bit)
* R was compiled by
gcc (Ubuntu 9.4.0-1ubuntu1~20.04.1) 9.4.0
GNU Fortran (Ubuntu 9.4.0-1ubuntu1~20.04.1) 9.4.0
* running under: Ubuntu 20.04.6 LTS
* using session charset: UTF-8
* checking for file ‘cmapR/DESCRIPTION’ ... OK
* checking extension type ... Package
* this is package ‘cmapR’ version ‘1.11.1’
* checking package namespace information ... OK
* checking package dependencies ... OK
* checking if this is a source package ... OK
* checking if there is a namespace ... OK
* checking for hidden files and directories ... NOTE
Found the following hidden files and directories:
.dockerignore
docs/build/html/.buildinfo
These were most likely included in error. See section ‘Package
structure’ in the ‘Writing R Extensions’ manual.
* checking for portable file names ... OK
* checking for sufficient/correct file permissions ... OK
* checking whether package ‘cmapR’ can be installed ... OK
* checking installed package size ... NOTE
installed size is 5.2Mb
sub-directories of 1Mb or more:
data 2.3Mb
extdata 2.1Mb
* checking package directory ... OK
* checking ‘build’ directory ... OK
* checking DESCRIPTION meta-information ... OK
* checking top-level files ... OK
* checking for left-over files ... OK
* checking index information ... OK
* checking package subdirectories ... OK
* checking R files for non-ASCII characters ... OK
* checking R files for syntax errors ... OK
* checking whether the package can be loaded ... OK
* checking whether the package can be loaded with stated dependencies ... OK
* checking whether the package can be unloaded cleanly ... OK
* checking whether the namespace can be loaded with stated dependencies ... OK
* checking whether the namespace can be unloaded cleanly ... OK
* checking loading without being on the library search path ... OK
* checking dependencies in R code ... OK
* checking S3 generic/method consistency ... OK
* checking replacement functions ... OK
* checking foreign function calls ... OK
* checking R code for possible problems ... NOTE
aggregate_gct: no visible binding for global variable ‘.SD’
Undefined global functions or variables:
.SD
* checking Rd files ... OK
* checking Rd metadata ... OK
* checking Rd cross-references ... OK
* checking for missing documentation entries ... OK
* checking for code/documentation mismatches ... OK
* checking Rd \usage sections ... OK
* checking Rd contents ... OK
* checking for unstated dependencies in examples ... OK
* checking contents of ‘data’ directory ... OK
* checking data for non-ASCII characters ... OK
* checking LazyData ... OK
* checking data for ASCII and uncompressed saves ... OK
* checking line endings in Makefiles ... OK
* checking for GNU extensions in Makefiles ... OK
* checking include directives in Makefiles ... OK
* checking files in ‘vignettes’ ... OK
* checking examples ... OK
* checking for unstated dependencies in ‘tests’ ... OK
* checking tests ...
Running ‘testthat.R’
OK
* checking for unstated dependencies in vignettes ... OK
* checking package vignettes in ‘inst/doc’ ... OK
* checking running R code from vignettes ...
‘tutorial.Rmd’ using ‘UTF-8’... OK
NONE
* checking re-building of vignette outputs ... OK
* checking PDF version of manual ... OK
* DONE
Status: 3 NOTEs
See
‘/home/biocbuild/bbs-3.17-bioc/meat/cmapR.Rcheck/00check.log’
for details.
cmapR.Rcheck/00install.out
############################################################################## ############################################################################## ### ### Running command: ### ### /home/biocbuild/bbs-3.17-bioc/R/bin/R CMD INSTALL cmapR ### ############################################################################## ############################################################################## * installing to library ‘/home/biocbuild/bbs-3.17-bioc/R/site-library’ * installing *source* package ‘cmapR’ ... ** using staged installation ** R ** data *** moving datasets to lazyload DB ** inst ** byte-compile and prepare package for lazy loading ** help *** installing help indices ** building package indices ** installing vignettes ** testing if installed package can be loaded from temporary location ** testing if installed package can be loaded from final location ** testing if installed package keeps a record of temporary installation path * DONE (cmapR)
cmapR.Rcheck/tests/testthat.Rout
R Under development (unstable) (2023-02-14 r83833) -- "Unsuffered Consequences"
Copyright (C) 2023 The R Foundation for Statistical Computing
Platform: x86_64-pc-linux-gnu (64-bit)
R is free software and comes with ABSOLUTELY NO WARRANTY.
You are welcome to redistribute it under certain conditions.
Type 'license()' or 'licence()' for distribution details.
R is a collaborative project with many contributors.
Type 'contributors()' for more information and
'citation()' on how to cite R or R packages in publications.
Type 'demo()' for some demos, 'help()' for on-line help, or
'help.start()' for an HTML browser interface to help.
Type 'q()' to quit R.
> library(testthat)
> library(cmapR)
>
> test_check("cmapR")
Saving file to foo.gct
Dimensions of matrix: [10x5]
Setting precision to 4
Saved.
Saving file to foo.gct
Dimensions of matrix: [10x5]
Setting precision to 4
Saved.
Saving file to foo.gct
Dimensions of matrix: [10x5]
Setting precision to 4
Saved.
Saving file to ./foo_n272x978.gct
Dimensions of matrix: [978x272]
Setting precision to 4
Saved.
[ FAIL 0 | WARN 0 | SKIP 2 | PASS 168 ]
══ Skipped tests ═══════════════════════════════════════════════════════════════
• empty test (2)
[ FAIL 0 | WARN 0 | SKIP 2 | PASS 168 ]
>
> proc.time()
user system elapsed
16.179 0.628 16.520
cmapR.Rcheck/cmapR-Ex.timings
| name | user | system | elapsed | |
| GCT | 0.164 | 0.004 | 0.168 | |
| align_matrices | 0.032 | 0.000 | 0.033 | |
| annotate_gct | 0.203 | 0.004 | 0.207 | |
| append_dim | 0 | 0 | 0 | |
| check_colnames | 0.003 | 0.000 | 0.002 | |
| check_dups | 0.001 | 0.000 | 0.001 | |
| distil | 0.002 | 0.000 | 0.002 | |
| extract_gct | 0.072 | 0.004 | 0.076 | |
| fix_datatypes | 0.014 | 0.000 | 0.014 | |
| ids | 0.020 | 0.004 | 0.024 | |
| is.wholenumber | 0.000 | 0.001 | 0.000 | |
| lxb2mat | 0.952 | 0.023 | 0.976 | |
| mat | 0.002 | 0.000 | 0.001 | |
| melt_gct | 2.671 | 0.148 | 2.584 | |
| merge_gct | 0.065 | 0.000 | 0.065 | |
| merge_with_precedence | 0.006 | 0.000 | 0.006 | |
| meta | 0.002 | 0.000 | 0.002 | |
| na_pad_matrix | 0.002 | 0.000 | 0.002 | |
| parse_gctx | 0.181 | 0.011 | 0.193 | |
| parse_gmt | 0.021 | 0.000 | 0.022 | |
| parse_gmx | 0.012 | 0.000 | 0.012 | |
| parse_grp | 0.002 | 0.000 | 0.002 | |
| process_ids | 0.007 | 0.000 | 0.007 | |
| rank_gct | 0.078 | 0.007 | 0.085 | |
| read_gctx_ids | 0.009 | 0.000 | 0.009 | |
| read_gctx_meta | 0.108 | 0.016 | 0.124 | |
| robust_zscore | 0.000 | 0.001 | 0.001 | |
| subset_gct | 0.029 | 0.011 | 0.040 | |
| threshold | 0.001 | 0.000 | 0.001 | |
| transpose_gct | 0.023 | 0.004 | 0.027 | |
| update_gctx | 0 | 0 | 0 | |
| write_gct | 1.054 | 0.032 | 1.086 | |
| write_gctx | 0.210 | 0.028 | 0.238 | |
| write_gctx_meta | 0.000 | 0.000 | 0.001 | |
| write_gmt | 0.001 | 0.000 | 0.000 | |
| write_grp | 0 | 0 | 0 | |
| write_tbl | 0 | 0 | 0 | |