| Back to Multiple platform build/check report for BioC 3.17 | 
 | 
This page was generated on 2023-04-12 10:55:23 -0400 (Wed, 12 Apr 2023).
| Hostname | OS | Arch (*) | R version | Installed pkgs | 
|---|---|---|---|---|
| nebbiolo1 | Linux (Ubuntu 22.04.1 LTS) | x86_64 | 4.3.0 alpha (2023-04-03 r84154) | 4547 | 
| nebbiolo2 | Linux (Ubuntu 20.04.5 LTS) | x86_64 | R Under development (unstable) (2023-02-14 r83833) -- "Unsuffered Consequences" | 4333 | 
| Click on any hostname to see more info about the system (e.g. compilers) (*) as reported by 'uname -p', except on Windows and Mac OS X | ||||
| To the developers/maintainers of the clevRvis package: - Allow up to 24 hours (and sometimes 48 hours) for your latest push to git@git.bioconductor.org:packages/clevRvis.git to reflect on this report. See Troubleshooting Build Report for more information. - Use the following Renviron settings to reproduce errors and warnings. Note: If "R CMD check" recently failed on the Linux builder over a missing dependency, add the missing dependency to "Suggests" in your DESCRIPTION file. See the Renviron.bioc for details. | 
| Package 351/2207 | Hostname | OS / Arch | INSTALL | BUILD | CHECK | BUILD BIN | ||||||||
| clevRvis 0.99.6  (landing page) Sarah Sandmann 
 | nebbiolo1 | Linux (Ubuntu 22.04.1 LTS) / x86_64 | OK | OK | OK | |||||||||
| nebbiolo2 | Linux (Ubuntu 20.04.5 LTS) / x86_64 | OK | OK | OK | ||||||||||
| Package: clevRvis | 
| Version: 0.99.6 | 
| Command: /home/biocbuild/bbs-3.17-bioc/R/bin/R CMD check --install=check:clevRvis.install-out.txt --library=/home/biocbuild/bbs-3.17-bioc/R/site-library --timings clevRvis_0.99.6.tar.gz | 
| StartedAt: 2023-04-11 19:19:29 -0400 (Tue, 11 Apr 2023) | 
| EndedAt: 2023-04-11 19:20:37 -0400 (Tue, 11 Apr 2023) | 
| EllapsedTime: 68.6 seconds | 
| RetCode: 0 | 
| Status: OK | 
| CheckDir: clevRvis.Rcheck | 
| Warnings: 0 | 
##############################################################################
##############################################################################
###
### Running command:
###
###   /home/biocbuild/bbs-3.17-bioc/R/bin/R CMD check --install=check:clevRvis.install-out.txt --library=/home/biocbuild/bbs-3.17-bioc/R/site-library --timings clevRvis_0.99.6.tar.gz
###
##############################################################################
##############################################################################
* using log directory ‘/home/biocbuild/bbs-3.17-bioc/meat/clevRvis.Rcheck’
* using R version 4.3.0 alpha (2023-04-03 r84154)
* using platform: x86_64-pc-linux-gnu (64-bit)
* R was compiled by
    gcc (Ubuntu 11.3.0-1ubuntu1~22.04) 11.3.0
    GNU Fortran (Ubuntu 11.3.0-1ubuntu1~22.04) 11.3.0
* running under: Ubuntu 22.04.2 LTS
* using session charset: UTF-8
* checking for file ‘clevRvis/DESCRIPTION’ ... OK
* checking extension type ... Package
* this is package ‘clevRvis’ version ‘0.99.6’
* package encoding: UTF-8
* checking package namespace information ... OK
* checking package dependencies ... OK
* checking if this is a source package ... OK
* checking if there is a namespace ... OK
* checking for hidden files and directories ... OK
* checking for portable file names ... OK
* checking for sufficient/correct file permissions ... OK
* checking whether package ‘clevRvis’ can be installed ... OK
* checking installed package size ... OK
* checking package directory ... OK
* checking ‘build’ directory ... OK
* checking DESCRIPTION meta-information ... OK
* checking top-level files ... NOTE
File
  LICENSE
is not mentioned in the DESCRIPTION file.
* checking for left-over files ... OK
* checking index information ... OK
* checking package subdirectories ... OK
* checking R files for non-ASCII characters ... OK
* checking R files for syntax errors ... OK
* checking whether the package can be loaded ... OK
* checking whether the package can be loaded with stated dependencies ... OK
* checking whether the package can be unloaded cleanly ... OK
* checking whether the namespace can be loaded with stated dependencies ... OK
* checking whether the namespace can be unloaded cleanly ... OK
* checking loading without being on the library search path ... OK
* checking startup messages can be suppressed ... OK
* checking dependencies in R code ... OK
* checking S3 generic/method consistency ... OK
* checking replacement functions ... OK
* checking foreign function calls ... OK
* checking R code for possible problems ... OK
* checking Rd files ... OK
* checking Rd metadata ... OK
* checking Rd cross-references ... OK
* checking for missing documentation entries ... OK
* checking for code/documentation mismatches ... OK
* checking Rd \usage sections ... OK
* checking Rd contents ... OK
* checking for unstated dependencies in examples ... OK
* checking files in ‘vignettes’ ... OK
* checking examples ... OK
* checking for unstated dependencies in vignettes ... OK
* checking package vignettes in ‘inst/doc’ ... OK
* checking running R code from vignettes ...
  ‘clevRvis.Rmd’ using ‘UTF-8’... OK
 NONE
* checking re-building of vignette outputs ... OK
* checking PDF version of manual ... OK
* DONE
Status: 1 NOTE
See
  ‘/home/biocbuild/bbs-3.17-bioc/meat/clevRvis.Rcheck/00check.log’
for details.
clevRvis.Rcheck/00install.out
############################################################################## ############################################################################## ### ### Running command: ### ### /home/biocbuild/bbs-3.17-bioc/R/bin/R CMD INSTALL clevRvis ### ############################################################################## ############################################################################## * installing to library ‘/home/biocbuild/bbs-3.17-bioc/R/site-library’ * installing *source* package ‘clevRvis’ ... ** using staged installation ** R ** inst ** byte-compile and prepare package for lazy loading Creating a new generic function for ‘col’ in package ‘clevRvis’ ** help *** installing help indices ** building package indices ** installing vignettes ** testing if installed package can be loaded from temporary location ** testing if installed package can be loaded from final location ** testing if installed package keeps a record of temporary installation path * DONE (clevRvis)
clevRvis.Rcheck/clevRvis-Ex.timings
| name | user | system | elapsed | |
| clevRvisShiny | 0 | 0 | 0 | |
| clevRvis_package | 3.601 | 0.192 | 3.794 | |
| combinedPlot | 0.565 | 0.028 | 0.593 | |
| createSeaObject | 0.084 | 0.008 | 0.092 | |
| dolphinPlot | 0.186 | 0.012 | 0.198 | |
| exploreTrees | 0.162 | 0.004 | 0.166 | |
| extSharkPlot | 0.659 | 0.012 | 0.671 | |
| plaicePlot | 0.341 | 0.000 | 0.341 | |
| seaObject-class | 0.071 | 0.000 | 0.071 | |
| sharkPlot | 0.434 | 0.004 | 0.438 | |